BEGIN:VCALENDAR
PRODID:-//Ben Fortuna//iCal4j 1.0//EN
VERSION:2.0
CALSCALE:GREGORIAN
X-WR-TIMEZONE:America/Chicago
DESCRIPTION:MBL Games
X-WR-CALNAME:MBL Games
BEGIN:VEVENT
DTSTAMP:20260421T173416Z
DTSTART:20200716T183000
DTEND:20200716T203000
SUMMARY:#108960 Bloomington Bandits 13AA @ Richfield Richfield U13AA
LOCATION:Richfield - Donaldson\, Upper Donaldson
TZID:America/Chicago
UID:mbl_game_108960
END:VEVENT
BEGIN:VEVENT
DTSTAMP:20260421T173416Z
DTSTART:20200715T180000
DTEND:20200715T200000
SUMMARY:#108967 Richfield Richfield U13AA @ Mpls. Millers 13AA Blue
LOCATION:Neiman\, MSA Batting Cages Field #5
TZID:America/Chicago
UID:mbl_game_108967
END:VEVENT
BEGIN:VEVENT
DTSTAMP:20260421T173416Z
DTSTART:20200805T174500
DTEND:20200805T194500
SUMMARY:#108976 Richfield Richfield U13AA @ Prior Lake 13AA Gold
LOCATION:Ryan\, Field #2
TZID:America/Chicago
UID:mbl_game_108976
END:VEVENT
BEGIN:VEVENT
DTSTAMP:20260421T173416Z
DTSTART:20200730T173000
DTEND:20200730T193000
SUMMARY:#108982 Mpls. Millers 13AA Orange @ Richfield Richfield U13AA
LOCATION:Richfield - Donaldson\, Upper Donaldson
TZID:America/Chicago
UID:mbl_game_108982
END:VEVENT
BEGIN:VEVENT
DTSTAMP:20260421T173416Z
DTSTART:20200811T173000
DTEND:20200811T193000
SUMMARY:#108984 Richfield Richfield U13AA @ Chanhassen Storm
LOCATION:Lake Ann\, Field #1
TZID:America/Chicago
UID:mbl_game_108984
END:VEVENT
BEGIN:VEVENT
DTSTAMP:20260421T173416Z
DTSTART:20200806T183000
DTEND:20200806T203000
SUMMARY:#108986 Prior Lake 13AA Gold @ Richfield Richfield U13AA
LOCATION:Richfield - Donaldson\, Upper Donaldson
TZID:America/Chicago
UID:mbl_game_108986
END:VEVENT
BEGIN:VEVENT
DTSTAMP:20260421T173416Z
DTSTART:20200728T193000
DTEND:20200728T213000
SUMMARY:#108989 Prior Lake 13AA Blue @ Richfield Richfield U13AA
LOCATION:Richfield - Donaldson\, Upper Donaldson
TZID:America/Chicago
UID:mbl_game_108989
END:VEVENT
BEGIN:VEVENT
DTSTAMP:20260421T173416Z
DTSTART:20200813T180000
DTEND:20200813T200000
SUMMARY:#108990 Mpls. Millers 13AA Orange @ Richfield Richfield U13AA
LOCATION:Richfield - Donaldson\, Upper Donaldson
TZID:America/Chicago
UID:mbl_game_108990
END:VEVENT
BEGIN:VEVENT
DTSTAMP:20260421T173416Z
DTSTART:20200719T193000
DTEND:20200719T213000
SUMMARY:#108992 Mpls. Millers 13AA Blue @ Richfield Richfield U13AA
LOCATION:Richfield - Donaldson\, Upper Donaldson
TZID:America/Chicago
UID:mbl_game_108992
END:VEVENT
BEGIN:VEVENT
DTSTAMP:20260421T173416Z
DTSTART:20200729T180000
DTEND:20200729T200000
SUMMARY:#108996 Chanhassen Storm @ Richfield Richfield U13AA
LOCATION:Richfield - Donaldson\, Upper Donaldson
TZID:America/Chicago
UID:mbl_game_108996
END:VEVENT
BEGIN:VEVENT
DTSTAMP:20260421T173416Z
DTSTART:20200810T180000
DTEND:20200810T200000
SUMMARY:#108999 Richfield Richfield U13AA @ Bloomington Bandits 13AA
LOCATION:Hrbek Fields\, Field #5
TZID:America/Chicago
UID:mbl_game_108999
END:VEVENT
BEGIN:VEVENT
DTSTAMP:20260421T173416Z
DTSTART:20200803T200000
DTEND:20200803T220000
SUMMARY:#109000 Richfield Richfield U13AA @ Prior Lake 13AA Blue
LOCATION:Ryan\, Field #2
TZID:America/Chicago
UID:mbl_game_109000
END:VEVENT
END:VCALENDAR
