BEGIN:VCALENDAR
PRODID:-//Ben Fortuna//iCal4j 1.0//EN
VERSION:2.0
CALSCALE:GREGORIAN
X-WR-TIMEZONE:America/Chicago
DESCRIPTION:MBL Games
X-WR-CALNAME:MBL Games
BEGIN:VEVENT
DTSTAMP:20260421T173533Z
DTSTART:20200715T180000
DTEND:20200715T200000
SUMMARY:#108967 Richfield Richfield U13AA @ Mpls. Millers 13AA Blue
LOCATION:Neiman\, MSA Batting Cages Field #5
TZID:America/Chicago
UID:mbl_game_108967
END:VEVENT
BEGIN:VEVENT
DTSTAMP:20260421T173533Z
DTSTART:20200728T201500
DTEND:20200728T221500
SUMMARY:#108971 Chanhassen Storm @ Mpls. Millers 13AA Blue
LOCATION:Neiman\, MSA Batting Cages Field #5
TZID:America/Chicago
UID:mbl_game_108971
END:VEVENT
BEGIN:VEVENT
DTSTAMP:20260421T173533Z
DTSTART:20200723T201500
DTEND:20200723T221500
SUMMARY:#108972 Prior Lake 13AA Blue @ Mpls. Millers 13AA Blue
LOCATION:Neiman\, MSA Batting Cages Field #4
TZID:America/Chicago
UID:mbl_game_108972
END:VEVENT
BEGIN:VEVENT
DTSTAMP:20260421T173533Z
DTSTART:20200804T180000
DTEND:20200804T200000
SUMMARY:#108975 Prior Lake 13AA Gold @ Mpls. Millers 13AA Blue
LOCATION:Neiman\, MSA Batting Cages Field #5
TZID:America/Chicago
UID:mbl_game_108975
END:VEVENT
BEGIN:VEVENT
DTSTAMP:20260421T173533Z
DTSTART:20200716T174500
DTEND:20200716T194500
SUMMARY:#108978 Mpls. Millers 13AA Blue @ Prior Lake 13AA Gold
LOCATION:Ryan\, Field #2
TZID:America/Chicago
UID:mbl_game_108978
END:VEVENT
BEGIN:VEVENT
DTSTAMP:20260421T173533Z
DTSTART:20200721T201500
DTEND:20200721T221500
SUMMARY:#108979 Bloomington Bandits 13AA @ Mpls. Millers 13AA Blue
LOCATION:Neiman\, MSA Batting Cages Field #3
TZID:America/Chicago
UID:mbl_game_108979
END:VEVENT
BEGIN:VEVENT
DTSTAMP:20260421T173533Z
DTSTART:20200709T201500
DTEND:20200709T221500
SUMMARY:#108983 Mpls. Millers 13AA Orange @ Mpls. Millers 13AA Blue
LOCATION:Neiman\, MSA Batting Cages Field #5
TZID:America/Chicago
UID:mbl_game_108983
END:VEVENT
BEGIN:VEVENT
DTSTAMP:20260421T173533Z
DTSTART:20200812T190000
DTEND:20200812T210000
SUMMARY:#108991 Mpls. Millers 13AA Blue @ Mpls. Millers 13AA Orange
LOCATION:Neiman\, MSA Batting Cages Field #5
TZID:America/Chicago
UID:mbl_game_108991
END:VEVENT
BEGIN:VEVENT
DTSTAMP:20260421T173533Z
DTSTART:20200719T193000
DTEND:20200719T213000
SUMMARY:#108992 Mpls. Millers 13AA Blue @ Richfield Richfield U13AA
LOCATION:Richfield - Donaldson\, Upper Donaldson
TZID:America/Chicago
UID:mbl_game_108992
END:VEVENT
BEGIN:VEVENT
DTSTAMP:20260421T173533Z
DTSTART:20200730T200000
DTEND:20200730T220000
SUMMARY:#108995 Mpls. Millers 13AA Blue @ Prior Lake 13AA Blue
LOCATION:Ryan\, Field #2
TZID:America/Chicago
UID:mbl_game_108995
END:VEVENT
BEGIN:VEVENT
DTSTAMP:20260421T173533Z
DTSTART:20200806T193000
DTEND:20200806T213000
SUMMARY:#108997 Mpls. Millers 13AA Blue @ Chanhassen Storm
LOCATION:Lake Ann\, Field #1
TZID:America/Chicago
UID:mbl_game_108997
END:VEVENT
BEGIN:VEVENT
DTSTAMP:20260421T173533Z
DTSTART:20200811T180000
DTEND:20200811T200000
SUMMARY:#109001 Mpls. Millers 13AA Blue @ Bloomington Bandits 13AA
LOCATION:Hrbek Fields\, Field #5
TZID:America/Chicago
UID:mbl_game_109001
END:VEVENT
END:VCALENDAR
