BEGIN:VCALENDAR
PRODID:-//Ben Fortuna//iCal4j 1.0//EN
VERSION:2.0
CALSCALE:GREGORIAN
X-WR-TIMEZONE:America/Chicago
DESCRIPTION:MBL Games
X-WR-CALNAME:MBL Games
BEGIN:VEVENT
DTSTAMP:20260421T173533Z
DTSTART:20200722T174500
DTEND:20200722T194500
SUMMARY:#108964 Bloomington Bandits 13AA @ Prior Lake 13AA Blue
LOCATION:Ryan\, Field #2
TZID:America/Chicago
UID:mbl_game_108964
END:VEVENT
BEGIN:VEVENT
DTSTAMP:20260421T173533Z
DTSTART:20200811T174500
DTEND:20200811T194500
SUMMARY:#108965 Prior Lake 13AA Gold @ Prior Lake 13AA Blue
LOCATION:Ryan\, Field #2
TZID:America/Chicago
UID:mbl_game_108965
END:VEVENT
BEGIN:VEVENT
DTSTAMP:20260421T173533Z
DTSTART:20200708T193000
DTEND:20200708T213000
SUMMARY:#108966 Prior Lake 13AA Blue @ Chanhassen Storm
LOCATION:Lake Ann\, Field #6
TZID:America/Chicago
UID:mbl_game_108966
END:VEVENT
BEGIN:VEVENT
DTSTAMP:20260421T173533Z
DTSTART:20200723T201500
DTEND:20200723T221500
SUMMARY:#108972 Prior Lake 13AA Blue @ Mpls. Millers 13AA Blue
LOCATION:Neiman\, MSA Batting Cages Field #4
TZID:America/Chicago
UID:mbl_game_108972
END:VEVENT
BEGIN:VEVENT
DTSTAMP:20260421T173533Z
DTSTART:20200806T201500
DTEND:20200806T221500
SUMMARY:#108977 Prior Lake 13AA Blue @ Mpls. Millers 13AA Orange
LOCATION:Neiman\, MSA Batting Cages Field #5
TZID:America/Chicago
UID:mbl_game_108977
END:VEVENT
BEGIN:VEVENT
DTSTAMP:20260421T173533Z
DTSTART:20200721T200000
DTEND:20200721T220000
SUMMARY:#108980 Chanhassen Storm @ Prior Lake 13AA Blue
LOCATION:Ryan\, Field #2
TZID:America/Chicago
UID:mbl_game_108980
END:VEVENT
BEGIN:VEVENT
DTSTAMP:20260421T173533Z
DTSTART:20200805T180000
DTEND:20200805T200000
SUMMARY:#108981 Prior Lake 13AA Blue @ Bloomington Bandits 13AA
LOCATION:Hrbek Fields\, Field #5
TZID:America/Chicago
UID:mbl_game_108981
END:VEVENT
BEGIN:VEVENT
DTSTAMP:20260421T173533Z
DTSTART:20200728T193000
DTEND:20200728T213000
SUMMARY:#108989 Prior Lake 13AA Blue @ Richfield Richfield U13AA
LOCATION:Richfield - Donaldson\, Upper Donaldson
TZID:America/Chicago
UID:mbl_game_108989
END:VEVENT
BEGIN:VEVENT
DTSTAMP:20260421T173533Z
DTSTART:20200811T200000
DTEND:20200811T220000
SUMMARY:#108993 Prior Lake 13AA Blue @ Prior Lake 13AA Gold
LOCATION:Ryan\, Field #2
TZID:America/Chicago
UID:mbl_game_108993
END:VEVENT
BEGIN:VEVENT
DTSTAMP:20260421T173533Z
DTSTART:20200716T200000
DTEND:20200716T220000
SUMMARY:#108994 Mpls. Millers 13AA Orange @ Prior Lake 13AA Blue
LOCATION:Ryan\, Field #2
TZID:America/Chicago
UID:mbl_game_108994
END:VEVENT
BEGIN:VEVENT
DTSTAMP:20260421T173533Z
DTSTART:20200730T200000
DTEND:20200730T220000
SUMMARY:#108995 Mpls. Millers 13AA Blue @ Prior Lake 13AA Blue
LOCATION:Ryan\, Field #2
TZID:America/Chicago
UID:mbl_game_108995
END:VEVENT
BEGIN:VEVENT
DTSTAMP:20260421T173533Z
DTSTART:20200803T200000
DTEND:20200803T220000
SUMMARY:#109000 Richfield Richfield U13AA @ Prior Lake 13AA Blue
LOCATION:Ryan\, Field #2
TZID:America/Chicago
UID:mbl_game_109000
END:VEVENT
END:VCALENDAR
