BEGIN:VCALENDAR
PRODID:-//Ben Fortuna//iCal4j 1.0//EN
VERSION:2.0
CALSCALE:GREGORIAN
X-WR-TIMEZONE:America/Chicago
DESCRIPTION:MBL Games
X-WR-CALNAME:MBL Games
BEGIN:VEVENT
DTSTAMP:20260421T084846Z
DTSTART:20260428T174500
DTEND:20260428T194500
SUMMARY:#169737 Apple Valley Eagles @ Farmington Tigers
LOCATION:Riverview\, Field #2
TZID:America/Chicago
UID:mbl_game_169737
END:VEVENT
BEGIN:VEVENT
DTSTAMP:20260421T084846Z
DTSTART:20260513T180000
DTEND:20260513T200000
SUMMARY:#169747 Cottage Grove 13A Green @ Farmington Tigers
LOCATION:Riverview\, Field #2
TZID:America/Chicago
UID:mbl_game_169747
END:VEVENT
BEGIN:VEVENT
DTSTAMP:20260421T084846Z
DTSTART:20260625T180000
DTEND:20260625T200000
SUMMARY:#169754 Farmington Tigers @ Cottage Grove 13A Green
LOCATION:Hamlet\, Field #3
TZID:America/Chicago
UID:mbl_game_169754
END:VEVENT
BEGIN:VEVENT
DTSTAMP:20260421T084846Z
DTSTART:20260609T201500
DTEND:20260609T221500
SUMMARY:#169756 Farmington Tigers @ Eastview Lightning
LOCATION:Johnny Cake Ridge Park East\, Field I
TZID:America/Chicago
UID:mbl_game_169756
END:VEVENT
BEGIN:VEVENT
DTSTAMP:20260421T084846Z
DTSTART:20260602T180000
DTEND:20260602T200000
SUMMARY:#169757 Eagan Wildcats @ Farmington Tigers
LOCATION:Riverview\, Field #2
TZID:America/Chicago
UID:mbl_game_169757
END:VEVENT
BEGIN:VEVENT
DTSTAMP:20260421T084846Z
DTSTART:20260528T200000
DTEND:20260528T220000
SUMMARY:#169758 Farmington Tigers @ Lakeville North Red
LOCATION:King\, Field #4
TZID:America/Chicago
UID:mbl_game_169758
END:VEVENT
BEGIN:VEVENT
DTSTAMP:20260421T084846Z
DTSTART:20260611T180000
DTEND:20260611T200000
SUMMARY:#169760 Farmington Tigers @ Minneapolis Millers 13A Blue
LOCATION:Neiman\, MSA Batting Cages Field #4
TZID:America/Chicago
UID:mbl_game_169760
END:VEVENT
BEGIN:VEVENT
DTSTAMP:20260421T084846Z
DTSTART:20260617T180000
DTEND:20260617T200000
SUMMARY:#169767 Lakeville South @ Farmington Tigers
LOCATION:Riverview\, Field #2
TZID:America/Chicago
UID:mbl_game_169767
END:VEVENT
BEGIN:VEVENT
DTSTAMP:20260421T084846Z
DTSTART:20260527T180000
DTEND:20260527T200000
SUMMARY:#169777 Minneapolis Millers 13A Orange @ Farmington Tigers
LOCATION:Riverview\, Field #1
TZID:America/Chicago
UID:mbl_game_169777
END:VEVENT
BEGIN:VEVENT
DTSTAMP:20260421T084846Z
DTSTART:20260520T180000
DTEND:20260520T200000
SUMMARY:#169787 Rosemount Irish 13A Blue @ Farmington Tigers
LOCATION:Riverview\, Field #2
TZID:America/Chicago
UID:mbl_game_169787
END:VEVENT
BEGIN:VEVENT
DTSTAMP:20260421T084846Z
DTSTART:20260504T180000
DTEND:20260504T200000
SUMMARY:#169791 Farmington Tigers @ Minneapolis Millers 13A Orange
LOCATION:Neiman\, MSA Batting Cages Field #5
TZID:America/Chicago
UID:mbl_game_169791
END:VEVENT
BEGIN:VEVENT
DTSTAMP:20260421T084846Z
DTSTART:20260507T180000
DTEND:20260507T200000
SUMMARY:#169797 Northfield Raiders 13A @ Farmington Tigers
LOCATION:Farmington - Prairie View Park\, Baseball Field
TZID:America/Chicago
UID:mbl_game_169797
END:VEVENT
BEGIN:VEVENT
DTSTAMP:20260421T084846Z
DTSTART:20260518T191500
DTEND:20260518T211500
SUMMARY:#169814 Farmington Tigers @ Northfield Raiders 13A
LOCATION:Sechler Park\, Post Field
TZID:America/Chicago
UID:mbl_game_169814
END:VEVENT
BEGIN:VEVENT
DTSTAMP:20260421T084846Z
DTSTART:20260604T180000
DTEND:20260604T203000
SUMMARY:#169847 Farmington Tigers @ Byron Bears
LOCATION:Byron Community Recreational Complex\, #2
TZID:America/Chicago
UID:mbl_game_169847
END:VEVENT
END:VCALENDAR
