BEGIN:VCALENDAR
PRODID:-//Ben Fortuna//iCal4j 1.0//EN
VERSION:2.0
CALSCALE:GREGORIAN
X-WR-TIMEZONE:America/Chicago
DESCRIPTION:MBL Games
X-WR-CALNAME:MBL Games
BEGIN:VEVENT
DTSTAMP:20260421T084107Z
DTSTART:20260624T180000
DTEND:20260624T200000
SUMMARY:#168015 Farmington Tigers @ Inver Grove Hts Spartans 13AAA
LOCATION:Rich Valley\, Field #6
TZID:America/Chicago
UID:mbl_game_168015
END:VEVENT
BEGIN:VEVENT
DTSTAMP:20260421T084107Z
DTSTART:20260623T180000
DTEND:20260623T200000
SUMMARY:#168020 Farmington Tigers @ Eagan Wildcats
LOCATION:Dakota Hills M.S.\, Field #1
TZID:America/Chicago
UID:mbl_game_168020
END:VEVENT
BEGIN:VEVENT
DTSTAMP:20260421T084107Z
DTSTART:20260615T180000
DTEND:20260615T200000
SUMMARY:#168023 Farmington Tigers @ River Falls Wildcats
LOCATION:Wunrow Field\, Wunrow Field
TZID:America/Chicago
UID:mbl_game_168023
END:VEVENT
BEGIN:VEVENT
DTSTAMP:20260421T084107Z
DTSTART:20260512T190000
DTEND:20260512T210000
SUMMARY:#168026 Farmington Tigers @ Eastview Lightning
LOCATION:Johnny Cake Ridge Park East\, Field I
TZID:America/Chicago
UID:mbl_game_168026
END:VEVENT
BEGIN:VEVENT
DTSTAMP:20260421T084107Z
DTSTART:20260602T180000
DTEND:20260602T200000
SUMMARY:#168027 Eastview Lightning @ Farmington Tigers
LOCATION:Riverview\, Field #1
TZID:America/Chicago
UID:mbl_game_168027
END:VEVENT
BEGIN:VEVENT
DTSTAMP:20260421T084107Z
DTSTART:20260520T193000
DTEND:20260520T213000
SUMMARY:#168029 Farmington Tigers @ Northfield Raiders 13AAA
LOCATION:Sechler Park\, Post Field
TZID:America/Chicago
UID:mbl_game_168029
END:VEVENT
BEGIN:VEVENT
DTSTAMP:20260421T084107Z
DTSTART:20260610T180000
DTEND:20260610T200000
SUMMARY:#168030 Farmington Tigers @ Rochester Tornadoes 13AAA Black
LOCATION:Rochester Baseball Complex\, Field #2
TZID:America/Chicago
UID:mbl_game_168030
END:VEVENT
BEGIN:VEVENT
DTSTAMP:20260421T084107Z
DTSTART:20260507T173000
DTEND:20260507T193000
SUMMARY:#168031 Farmington Tigers @ Rosemount Irish 13AAA
LOCATION:Rosemount Jaycee Park\, Jaycee Park Field
TZID:America/Chicago
UID:mbl_game_168031
END:VEVENT
BEGIN:VEVENT
DTSTAMP:20260421T084107Z
DTSTART:20260630T180000
DTEND:20260630T200000
SUMMARY:#168034 Lakeville 13AAA @ Farmington Tigers
LOCATION:Riverview\, Field #1
TZID:America/Chicago
UID:mbl_game_168034
END:VEVENT
BEGIN:VEVENT
DTSTAMP:20260421T084107Z
DTSTART:20260421T180000
DTEND:20260421T200000
SUMMARY:#168041 Northfield Raiders 13AAA @ Farmington Tigers
LOCATION:Riverview\, Field #1
TZID:America/Chicago
UID:mbl_game_168041
END:VEVENT
BEGIN:VEVENT
DTSTAMP:20260421T084107Z
DTSTART:20260526T173000
DTEND:20260526T193000
SUMMARY:#168048 Rosemount Irish 13AAA @ Farmington Tigers
LOCATION:Riverview\, Field #1
TZID:America/Chicago
UID:mbl_game_168048
END:VEVENT
BEGIN:VEVENT
DTSTAMP:20260421T084107Z
DTSTART:20260428T180000
DTEND:20260428T200000
SUMMARY:#168055 Rochester Tornadoes 13AAA Black @ Farmington Tigers
LOCATION:Riverview\, Field #1
TZID:America/Chicago
UID:mbl_game_168055
END:VEVENT
BEGIN:VEVENT
DTSTAMP:20260421T084107Z
DTSTART:20260519T180000
DTEND:20260519T200000
SUMMARY:#168062 Two Rivers Warriors 13AAA @ Farmington Tigers
LOCATION:Riverview\, Field #1
TZID:America/Chicago
UID:mbl_game_168062
END:VEVENT
BEGIN:VEVENT
DTSTAMP:20260421T084107Z
DTSTART:20260505T180000
DTEND:20260505T200000
SUMMARY:#168069 Inver Grove Hts Spartans 13AAA @ Farmington Tigers
LOCATION:Riverview\, Field #1
TZID:America/Chicago
UID:mbl_game_168069
END:VEVENT
END:VCALENDAR
