BEGIN:VCALENDAR
PRODID:-//Ben Fortuna//iCal4j 1.0//EN
VERSION:2.0
CALSCALE:GREGORIAN
X-WR-TIMEZONE:America/Chicago
DESCRIPTION:MBL Games
X-WR-CALNAME:MBL Games
BEGIN:VEVENT
DTSTAMP:20260426T040529Z
DTSTART:20260503T143000
DTEND:20260503T163000
SUMMARY:#164811 Bloomington Bandits @ Minneapolis Millers 10AAA
LOCATION:Neiman\, MSA Batting Cages Field #4
TZID:America/Chicago
UID:mbl_game_164811
END:VEVENT
BEGIN:VEVENT
DTSTAMP:20260426T040529Z
DTSTART:20260615T180000
DTEND:20260615T200000
SUMMARY:#164818 Edina Hornets 10AAA @ Minneapolis Millers 10AAA
LOCATION:Neiman\, MSA Batting Cages Field #3
TZID:America/Chicago
UID:mbl_game_164818
END:VEVENT
BEGIN:VEVENT
DTSTAMP:20260426T040529Z
DTSTART:20260512T200000
DTEND:20260512T220000
SUMMARY:#164822 Minneapolis Millers 10AAA @ Bloomington Bandits
LOCATION:Hrbek Fields\, Field #7
TZID:America/Chicago
UID:mbl_game_164822
END:VEVENT
BEGIN:VEVENT
DTSTAMP:20260426T040529Z
DTSTART:20260506T173000
DTEND:20260506T193000
SUMMARY:#164823 Minneapolis Millers 10AAA @ Edina Hornets 10AAA
LOCATION:Courtney (formerly Braemar)\, Field #4
TZID:America/Chicago
UID:mbl_game_164823
END:VEVENT
BEGIN:VEVENT
DTSTAMP:20260426T040529Z
DTSTART:20260520T190000
DTEND:20260520T210000
SUMMARY:#164824 Minneapolis Millers 10AAA @ Hopkins Royals
LOCATION:Big Willow\, Field B
TZID:America/Chicago
UID:mbl_game_164824
END:VEVENT
BEGIN:VEVENT
DTSTAMP:20260426T040529Z
DTSTART:20260511T180000
DTEND:20260511T200000
SUMMARY:#164825 Hopkins Royals @ Minneapolis Millers 10AAA
LOCATION:Neiman\, MSA Batting Cages Field #3
TZID:America/Chicago
UID:mbl_game_164825
END:VEVENT
BEGIN:VEVENT
DTSTAMP:20260426T040529Z
DTSTART:20260427T201500
DTEND:20260427T221500
SUMMARY:#164832 Minnetonka 10AAA - Copouls @ Minneapolis Millers 10AAA
LOCATION:Neiman\, MSA Batting Cages Field #3
TZID:America/Chicago
UID:mbl_game_164832
END:VEVENT
BEGIN:VEVENT
DTSTAMP:20260426T040529Z
DTSTART:20260602T180000
DTEND:20260602T200000
SUMMARY:#164833 Minneapolis Millers 10AAA @ Minnetonka 10AAA - Copouls
LOCATION:Freeman Park\, Field #1
TZID:America/Chicago
UID:mbl_game_164833
END:VEVENT
BEGIN:VEVENT
DTSTAMP:20260426T040529Z
DTSTART:20260610T200000
DTEND:20260610T220000
SUMMARY:#164834 Minneapolis Millers 10AAA @ Osseo Maple Grove 10AAA
LOCATION:Gleason Fields\, Field #4
TZID:America/Chicago
UID:mbl_game_164834
END:VEVENT
BEGIN:VEVENT
DTSTAMP:20260426T040529Z
DTSTART:20260624T180000
DTEND:20260624T200000
SUMMARY:#164835 Minneapolis Millers 10AAA @ Wayzata 10AAA Blue
LOCATION:Greenwood Elem. School\, Field #1
TZID:America/Chicago
UID:mbl_game_164835
END:VEVENT
BEGIN:VEVENT
DTSTAMP:20260426T040529Z
DTSTART:20260609T180000
DTEND:20260609T200000
SUMMARY:#164839 Osseo Maple Grove 10AAA @ Minneapolis Millers 10AAA
LOCATION:Neiman\, MSA Batting Cages Field #3
TZID:America/Chicago
UID:mbl_game_164839
END:VEVENT
BEGIN:VEVENT
DTSTAMP:20260426T040529Z
DTSTART:20260526T201500
DTEND:20260526T221500
SUMMARY:#164846 Wayzata 10AAA Blue @ Minneapolis Millers 10AAA
LOCATION:Neiman\, MSA Batting Cages Field #3
TZID:America/Chicago
UID:mbl_game_164846
END:VEVENT
BEGIN:VEVENT
DTSTAMP:20260426T040529Z
DTSTART:20260519T201500
DTEND:20260519T221500
SUMMARY:#164853 New Prague 10AAA @ Minneapolis Millers 10AAA
LOCATION:Neiman\, MSA Batting Cages Field #3
TZID:America/Chicago
UID:mbl_game_164853
END:VEVENT
BEGIN:VEVENT
DTSTAMP:20260426T040529Z
DTSTART:20260603T180000
DTEND:20260603T200000
SUMMARY:#164904 Minneapolis Millers 10AAA @ Shakopee Sabers
LOCATION:Westminster\, Field #1
TZID:America/Chicago
UID:mbl_game_164904
END:VEVENT
END:VCALENDAR
