BEGIN:VCALENDAR
PRODID:-//Ben Fortuna//iCal4j 1.0//EN
VERSION:2.0
CALSCALE:GREGORIAN
X-WR-TIMEZONE:America/Chicago
DESCRIPTION:MBL Games
X-WR-CALNAME:MBL Games
BEGIN:VEVENT
DTSTAMP:20260419T122604Z
DTSTART:20260527T180000
DTEND:20260527T200000
SUMMARY:#165934 Farmington Tigers @ Minneapolis Millers 11A Orange
LOCATION:Neiman\, MSA Batting Cages Field #3
TZID:America/Chicago
UID:mbl_game_165934
END:VEVENT
BEGIN:VEVENT
DTSTAMP:20260419T122604Z
DTSTART:20260424T183000
DTEND:20260424T203000
SUMMARY:#165937 Minneapolis Millers 11A Orange @ Apple Valley Eagles
LOCATION:Valley Middle School\, Field #1
TZID:America/Chicago
UID:mbl_game_165937
END:VEVENT
BEGIN:VEVENT
DTSTAMP:20260419T122604Z
DTSTART:20260422T201500
DTEND:20260422T221500
SUMMARY:#165944 Lakeville North @ Minneapolis Millers 11A Orange
LOCATION:Neiman\, MSA Batting Cages Field #4
TZID:America/Chicago
UID:mbl_game_165944
END:VEVENT
BEGIN:VEVENT
DTSTAMP:20260419T122604Z
DTSTART:20260427T180000
DTEND:20260427T200000
SUMMARY:#165946 Minneapolis Millers 11A Orange @ Rosemount Irish 11A Blue
 
LOCATION:Erickson Park\, Field #5
TZID:America/Chicago
UID:mbl_game_165946
END:VEVENT
BEGIN:VEVENT
DTSTAMP:20260419T122604Z
DTSTART:20260429T180000
DTEND:20260429T200000
SUMMARY:#165954 Prior Lake 11A Navy @ Minneapolis Millers 11A Orange
LOCATION:Neiman\, MSA Batting Cages Field #3
TZID:America/Chicago
UID:mbl_game_165954
END:VEVENT
BEGIN:VEVENT
DTSTAMP:20260419T122604Z
DTSTART:20260617T181500
DTEND:20260617T201500
SUMMARY:#165963 Minneapolis Millers 11A Orange @ Lakeville South
LOCATION:Quigley\, Field #2
TZID:America/Chicago
UID:mbl_game_165963
END:VEVENT
BEGIN:VEVENT
DTSTAMP:20260419T122604Z
DTSTART:20260603T180000
DTEND:20260603T200000
SUMMARY:#165964 Menomonie Mustangs @ Minneapolis Millers 11A Orange
LOCATION:Xcel Park\, Rod Carew All Star Field
TZID:America/Chicago
UID:mbl_game_165964
END:VEVENT
BEGIN:VEVENT
DTSTAMP:20260419T122604Z
DTSTART:20260519T180000
DTEND:20260519T200000
SUMMARY:#165969 Minneapolis Millers 11A Orange @ Eagan Wildcats Green
LOCATION:Lexington/Diffley\, Field #4
TZID:America/Chicago
UID:mbl_game_165969
END:VEVENT
BEGIN:VEVENT
DTSTAMP:20260419T122604Z
DTSTART:20260513T180000
DTEND:20260513T200000
SUMMARY:#165974 Eagan Wildcats Green @ Minneapolis Millers 11A Orange
LOCATION:Neiman\, MSA Batting Cages Field #4
TZID:America/Chicago
UID:mbl_game_165974
END:VEVENT
BEGIN:VEVENT
DTSTAMP:20260419T122604Z
DTSTART:20260618T201500
DTEND:20260618T221500
SUMMARY:#165984 Burnsville Blaze @ Minneapolis Millers 11A Orange
LOCATION:Neiman\, MSA Batting Cages Field #3
TZID:America/Chicago
UID:mbl_game_165984
END:VEVENT
BEGIN:VEVENT
DTSTAMP:20260419T122604Z
DTSTART:20260630T181500
DTEND:20260630T201500
SUMMARY:#165988 Minneapolis Millers 11A Orange @ Burnsville Blaze
LOCATION:Neill Park\, Field #3
TZID:America/Chicago
UID:mbl_game_165988
END:VEVENT
BEGIN:VEVENT
DTSTAMP:20260419T122604Z
DTSTART:20260609T180000
DTEND:20260609T200000
SUMMARY:#165990 Minneapolis Millers 11A Orange @ Eastview Lightning
LOCATION:Quarry Point\, Field # 3
TZID:America/Chicago
UID:mbl_game_165990
END:VEVENT
BEGIN:VEVENT
DTSTAMP:20260419T122604Z
DTSTART:20260623T201500
DTEND:20260623T221500
SUMMARY:#165994 Eastview Lightning @ Minneapolis Millers 11A Orange
LOCATION:Neiman\, MSA Batting Cages Field #3
TZID:America/Chicago
UID:mbl_game_165994
END:VEVENT
BEGIN:VEVENT
DTSTAMP:20260419T122604Z
DTSTART:20260521T183000
DTEND:20260521T203000
SUMMARY:#166084 Minneapolis Millers 11A Orange @ Northfield Raiders 11A
LOCATION:Sechler Park\, College City Field
TZID:America/Chicago
UID:mbl_game_166084
END:VEVENT
END:VCALENDAR
