BEGIN:VCALENDAR
PRODID:-//Ben Fortuna//iCal4j 1.0//EN
VERSION:2.0
CALSCALE:GREGORIAN
X-WR-TIMEZONE:America/Chicago
DESCRIPTION:MBL Games
X-WR-CALNAME:MBL Games
BEGIN:VEVENT
DTSTAMP:20260425T194317Z
DTSTART:20260625T180000
DTEND:20260625T200000
SUMMARY:#167053 Chaska Hawks @ Minneapolis Millers 12A Blue
LOCATION:Neiman\, MSA Batting Cages Field #3
TZID:America/Chicago
UID:mbl_game_167053
END:VEVENT
BEGIN:VEVENT
DTSTAMP:20260425T194317Z
DTSTART:20260527T180000
DTEND:20260527T200000
SUMMARY:#167067 Minneapolis Millers 12A Blue @ Edina Gold 12A
LOCATION:Countryside Park\, Countryside Prep
TZID:America/Chicago
UID:mbl_game_167067
END:VEVENT
BEGIN:VEVENT
DTSTAMP:20260425T194317Z
DTSTART:20260623T180000
DTEND:20260623T200000
SUMMARY:#167068 Minneapolis Millers 12A Blue @ Waconia Wildcats
LOCATION:Waconia High School\, West B
TZID:America/Chicago
UID:mbl_game_167068
END:VEVENT
BEGIN:VEVENT
DTSTAMP:20260425T194317Z
DTSTART:20260519T201500
DTEND:20260519T221500
SUMMARY:#167074 New Prague 12A @ Minneapolis Millers 12A Blue
LOCATION:Neiman\, MSA Batting Cages Field #4
TZID:America/Chicago
UID:mbl_game_167074
END:VEVENT
BEGIN:VEVENT
DTSTAMP:20260425T194317Z
DTSTART:20260425T110000
DTEND:20260425T130000
SUMMARY:#167079 Minneapolis Millers 12A Blue @ Orono Spartans
LOCATION:Holbrook\, Holbrook Field
TZID:America/Chicago
UID:mbl_game_167079
END:VEVENT
BEGIN:VEVENT
DTSTAMP:20260425T194317Z
DTSTART:20260423T201500
DTEND:20260423T221500
SUMMARY:#167080 Chanhassen 12A - Silver @ Minneapolis Millers 12A Blue
LOCATION:Neiman\, MSA Batting Cages Field #3
TZID:America/Chicago
UID:mbl_game_167080
END:VEVENT
BEGIN:VEVENT
DTSTAMP:20260425T194317Z
DTSTART:20260503T123000
DTEND:20260503T143000
SUMMARY:#167094 Prior Lake 12A Navy @ Minneapolis Millers 12A Blue
LOCATION:Neiman\, MSA Batting Cages Field #5
TZID:America/Chicago
UID:mbl_game_167094
END:VEVENT
BEGIN:VEVENT
DTSTAMP:20260425T194317Z
DTSTART:20260512T180000
DTEND:20260512T200000
SUMMARY:#167096 Edina Gold 12A @ Minneapolis Millers 12A Blue
LOCATION:Neiman\, MSA Batting Cages Field #3
TZID:America/Chicago
UID:mbl_game_167096
END:VEVENT
BEGIN:VEVENT
DTSTAMP:20260425T194317Z
DTSTART:20260616T201500
DTEND:20260616T221500
SUMMARY:#167102 Prior Lake 12A Gold @ Minneapolis Millers 12A Blue
LOCATION:Neiman\, MSA Batting Cages Field #5
TZID:America/Chicago
UID:mbl_game_167102
END:VEVENT
BEGIN:VEVENT
DTSTAMP:20260425T194317Z
DTSTART:20260520T194500
DTEND:20260520T214500
SUMMARY:#167104 Minneapolis Millers 12A Blue @ Prior Lake 12A Navy
LOCATION:Ryan\, Field #3
TZID:America/Chicago
UID:mbl_game_167104
END:VEVENT
BEGIN:VEVENT
DTSTAMP:20260425T194317Z
DTSTART:20260526T180000
DTEND:20260526T200000
SUMMARY:#167111 Westonka 12A @ Minneapolis Millers 12A Blue
LOCATION:Martin Luther King Park\, Field #1
TZID:America/Chicago
UID:mbl_game_167111
END:VEVENT
BEGIN:VEVENT
DTSTAMP:20260425T194317Z
DTSTART:20260608T183000
DTEND:20260608T203000
SUMMARY:#167114 Minneapolis Millers 12A Blue @ New Prague 12A
LOCATION:CEC Field\, CEC Field
TZID:America/Chicago
UID:mbl_game_167114
END:VEVENT
BEGIN:VEVENT
DTSTAMP:20260425T194317Z
DTSTART:20260513T180000
DTEND:20260513T200000
SUMMARY:#167115 Minneapolis Millers 12A Blue @ Shakopee Sabers
LOCATION:Green Meadow\, Green Meadow Park
TZID:America/Chicago
UID:mbl_game_167115
END:VEVENT
BEGIN:VEVENT
DTSTAMP:20260425T194317Z
DTSTART:20260506T193000
DTEND:20260506T213000
SUMMARY:#167128 Minneapolis Millers 12A Blue @ Chanhassen 12A - Silver
LOCATION:Lake Ann\, Field #6
TZID:America/Chicago
UID:mbl_game_167128
END:VEVENT
END:VCALENDAR
