BEGIN:VCALENDAR
PRODID:-//Ben Fortuna//iCal4j 1.0//EN
VERSION:2.0
CALSCALE:GREGORIAN
X-WR-TIMEZONE:America/Chicago
DESCRIPTION:MBL Games
X-WR-CALNAME:MBL Games
BEGIN:VEVENT
DTSTAMP:20260419T120108Z
DTSTART:20260408T180000
DTEND:20260408T193000
SUMMARY:Practice
LOCATION:Pearl Park\, Field #2
TZID:America/Chicago
UID:mbl_game_168989
END:VEVENT
BEGIN:VEVENT
DTSTAMP:20260419T120108Z
DTSTART:20260410T180000
DTEND:20260410T193000
SUMMARY:Practice
LOCATION:Pearl Park\, Field #2
TZID:America/Chicago
UID:mbl_game_168990
END:VEVENT
BEGIN:VEVENT
DTSTAMP:20260419T120108Z
DTSTART:20260430T190000
DTEND:20260430T210000
SUMMARY:#169163 Minneapolis Millers 13A Blue @ Chaska Hawks
LOCATION:Community Park\, Field #4
TZID:America/Chicago
UID:mbl_game_169163
END:VEVENT
BEGIN:VEVENT
DTSTAMP:20260419T120108Z
DTSTART:20260427T180000
DTEND:20260427T200000
SUMMARY:#169740 Apple Valley Eagles @ Minneapolis Millers 13A Blue
LOCATION:Neiman\, MSA Batting Cages Field #3
TZID:America/Chicago
UID:mbl_game_169740
END:VEVENT
BEGIN:VEVENT
DTSTAMP:20260419T120108Z
DTSTART:20260512T201500
DTEND:20260512T221500
SUMMARY:#169750 Eastview Lightning @ Minneapolis Millers 13A Blue
LOCATION:Neiman\, MSA Batting Cages Field #5
TZID:America/Chicago
UID:mbl_game_169750
END:VEVENT
BEGIN:VEVENT
DTSTAMP:20260419T120108Z
DTSTART:20260611T180000
DTEND:20260611T200000
SUMMARY:#169760 Farmington Tigers @ Minneapolis Millers 13A Blue
LOCATION:Neiman\, MSA Batting Cages Field #4
TZID:America/Chicago
UID:mbl_game_169760
END:VEVENT
BEGIN:VEVENT
DTSTAMP:20260419T120108Z
DTSTART:20260514T180000
DTEND:20260514T200000
SUMMARY:#169763 Minneapolis Millers 13A Blue @ Apple Valley Eagles
LOCATION:Wolk Field\, Field #1
TZID:America/Chicago
UID:mbl_game_169763
END:VEVENT
BEGIN:VEVENT
DTSTAMP:20260419T120108Z
DTSTART:20260629T180000
DTEND:20260629T200000
SUMMARY:#169770 Bloomington 13A Blue @ Minneapolis Millers 13A Blue
LOCATION:Neiman\, MSA Batting Cages Field #3
TZID:America/Chicago
UID:mbl_game_169770
END:VEVENT
BEGIN:VEVENT
DTSTAMP:20260419T120108Z
DTSTART:20260519T180000
DTEND:20260519T200000
SUMMARY:#169774 Minneapolis Millers 13A Blue @ Cottage Grove 13A Green
LOCATION:Hamlet\, Field #3
TZID:America/Chicago
UID:mbl_game_169774
END:VEVENT
BEGIN:VEVENT
DTSTAMP:20260419T120108Z
DTSTART:20260506T180000
DTEND:20260506T200000
SUMMARY:#169775 Minneapolis Millers 13A Blue @ Eagan Wildcats
LOCATION:Dakota Hills M.S.\, Field #1
TZID:America/Chicago
UID:mbl_game_169775
END:VEVENT
BEGIN:VEVENT
DTSTAMP:20260419T120108Z
DTSTART:20260625T180000
DTEND:20260625T200000
SUMMARY:#169776 Minneapolis Millers 13A Blue @ Eastview Lightning
LOCATION:Johnny Cake Ridge Park West\, Field #10
TZID:America/Chicago
UID:mbl_game_169776
END:VEVENT
BEGIN:VEVENT
DTSTAMP:20260419T120108Z
DTSTART:20260526T200000
DTEND:20260526T220000
SUMMARY:#169778 Minneapolis Millers 13A Blue @ Lakeville North Red
LOCATION:King\, Field #4
TZID:America/Chicago
UID:mbl_game_169778
END:VEVENT
BEGIN:VEVENT
DTSTAMP:20260419T120108Z
DTSTART:20260615T180000
DTEND:20260615T200000
SUMMARY:#169780 Minneapolis Millers 13A Orange @ Minneapolis Millers 13A 
 Blue
LOCATION:Neiman\, MSA Batting Cages Field #4
TZID:America/Chicago
UID:mbl_game_169780
END:VEVENT
BEGIN:VEVENT
DTSTAMP:20260419T120108Z
DTSTART:20260603T201500
DTEND:20260603T221500
SUMMARY:#169790 Cottage Grove 13A Green @ Minneapolis Millers 13A Blue
LOCATION:Neiman\, MSA Batting Cages Field #3
TZID:America/Chicago
UID:mbl_game_169790
END:VEVENT
BEGIN:VEVENT
DTSTAMP:20260419T120108Z
DTSTART:20260617T180000
DTEND:20260617T200000
SUMMARY:#169792 Minneapolis Millers 13A Blue @ Rosemount Irish 13A Blue
LOCATION:Shannon Park\, Field #2
TZID:America/Chicago
UID:mbl_game_169792
END:VEVENT
BEGIN:VEVENT
DTSTAMP:20260419T120108Z
DTSTART:20260505T180000
DTEND:20260505T200000
SUMMARY:#169800 Lakeville South @ Minneapolis Millers 13A Blue
LOCATION:Neiman\, MSA Batting Cages Field #5
TZID:America/Chicago
UID:mbl_game_169800
END:VEVENT
END:VCALENDAR
