BEGIN:VCALENDAR
PRODID:-//Ben Fortuna//iCal4j 1.0//EN
VERSION:2.0
CALSCALE:GREGORIAN
X-WR-TIMEZONE:America/Chicago
DESCRIPTION:MBL Games
X-WR-CALNAME:MBL Games
BEGIN:VEVENT
DTSTAMP:20260420T150043Z
DTSTART:20260603T183000
DTEND:20260603T203000
SUMMARY:#167935 Minneapolis Millers 13AAA @ Elk River Elks
LOCATION:Oak Knoll\, Field #1
TZID:America/Chicago
UID:mbl_game_167935
END:VEVENT
BEGIN:VEVENT
DTSTAMP:20260420T150043Z
DTSTART:20260501T173000
DTEND:20260501T200000
SUMMARY:#167936 Minneapolis Millers 13AAA @ Hopkins Royals
LOCATION:Guilliam Field\, Guilliams Field
TZID:America/Chicago
UID:mbl_game_167936
END:VEVENT
BEGIN:VEVENT
DTSTAMP:20260420T150043Z
DTSTART:20260512T180000
DTEND:20260512T200000
SUMMARY:#167944 Chanhassen 13AAA - Blue @ Minneapolis Millers 13AAA
LOCATION:Neiman\, MSA Batting Cages Field #5
TZID:America/Chicago
UID:mbl_game_167944
END:VEVENT
BEGIN:VEVENT
DTSTAMP:20260420T150043Z
DTSTART:20260622T180000
DTEND:20260622T200000
SUMMARY:#167950 Chaska Hawks @ Minneapolis Millers 13AAA
LOCATION:Neiman\, MSA Batting Cages Field #5
TZID:America/Chicago
UID:mbl_game_167950
END:VEVENT
BEGIN:VEVENT
DTSTAMP:20260420T150043Z
DTSTART:20260624T193000
DTEND:20260624T213000
SUMMARY:#167953 Minneapolis Millers 13AAA @ Chanhassen 13AAA - Blue
LOCATION:Lake Ann\, Field #1
TZID:America/Chicago
UID:mbl_game_167953
END:VEVENT
BEGIN:VEVENT
DTSTAMP:20260420T150043Z
DTSTART:20260628T180000
DTEND:20260628T200000
SUMMARY:#167954 Minneapolis Millers 13AAA @ Chaska Hawks
LOCATION:Community Park\, Field #4
TZID:America/Chicago
UID:mbl_game_167954
END:VEVENT
BEGIN:VEVENT
DTSTAMP:20260420T150043Z
DTSTART:20260513T173000
DTEND:20260513T193000
SUMMARY:#167955 Minneapolis Millers 13AAA @ Edina Hornets 13AAA
LOCATION:Courtney (formerly Braemar)\, Field #3
TZID:America/Chicago
UID:mbl_game_167955
END:VEVENT
BEGIN:VEVENT
DTSTAMP:20260420T150043Z
DTSTART:20260602T180000
DTEND:20260602T200000
SUMMARY:#167956 Edina Hornets 13AAA @ Minneapolis Millers 13AAA
LOCATION:Neiman\, MSA Batting Cages Field #5
TZID:America/Chicago
UID:mbl_game_167956
END:VEVENT
BEGIN:VEVENT
DTSTAMP:20260420T150043Z
DTSTART:20260502T150000
DTEND:20260502T170000
SUMMARY:#167962 Prior Lake 13AAA @ Minneapolis Millers 13AAA
LOCATION:Neiman\, MSA Batting Cages Field #5
TZID:America/Chicago
UID:mbl_game_167962
END:VEVENT
BEGIN:VEVENT
DTSTAMP:20260420T150043Z
DTSTART:20260616T194500
DTEND:20260616T214500
SUMMARY:#167963 Minneapolis Millers 13AAA @ Prior Lake 13AAA
LOCATION:Ryan\, Field #4
TZID:America/Chicago
UID:mbl_game_167963
END:VEVENT
BEGIN:VEVENT
DTSTAMP:20260420T150043Z
DTSTART:20260610T180000
DTEND:20260610T200000
SUMMARY:#167964 Minneapolis Millers 13AAA @ Waconia Wildcats
LOCATION:Waconia High School\, West B
TZID:America/Chicago
UID:mbl_game_167964
END:VEVENT
BEGIN:VEVENT
DTSTAMP:20260420T150043Z
DTSTART:20260526T201500
DTEND:20260526T221500
SUMMARY:#167968 Waconia Wildcats @ Minneapolis Millers 13AAA
LOCATION:Neiman\, MSA Batting Cages Field #5
TZID:America/Chicago
UID:mbl_game_167968
END:VEVENT
BEGIN:VEVENT
DTSTAMP:20260420T150043Z
DTSTART:20260428T180000
DTEND:20260428T200000
SUMMARY:#167974 Minnetonka 13AAA - Ehlen @ Minneapolis Millers 13AAA
LOCATION:Neiman\, MSA Batting Cages Field #5
TZID:America/Chicago
UID:mbl_game_167974
END:VEVENT
BEGIN:VEVENT
DTSTAMP:20260420T150043Z
DTSTART:20260629T180000
DTEND:20260629T200000
SUMMARY:#167980 Wayzata 13AAA Blue @ Minneapolis Millers 13AAA
LOCATION:Neiman\, MSA Batting Cages Field #5
TZID:America/Chicago
UID:mbl_game_167980
END:VEVENT
END:VCALENDAR
