BEGIN:VCALENDAR
PRODID:-//Ben Fortuna//iCal4j 1.0//EN
VERSION:2.0
CALSCALE:GREGORIAN
X-WR-TIMEZONE:America/Chicago
DESCRIPTION:MBL Games
X-WR-CALNAME:MBL Games
BEGIN:VEVENT
DTSTAMP:20260426T035923Z
DTSTART:20260601T173000
DTEND:20260601T193000
SUMMARY:#167824 Prior Lake 9A @ Edina 9A White
LOCATION:Courtney (formerly Braemar)\, Field #4
TZID:America/Chicago
UID:mbl_game_167824
END:VEVENT
BEGIN:VEVENT
DTSTAMP:20260426T035923Z
DTSTART:20260616T180000
DTEND:20260616T200000
SUMMARY:#167836 Belle Plaine Tigers @ Prior Lake 9A
LOCATION:Schroeder's Acres\, Field #3
TZID:America/Chicago
UID:mbl_game_167836
END:VEVENT
BEGIN:VEVENT
DTSTAMP:20260426T035923Z
DTSTART:20260526T174500
DTEND:20260526T194500
SUMMARY:#167841 Jordan Hubmen @ Prior Lake 9A
LOCATION:Ponds\, Field #6
TZID:America/Chicago
UID:mbl_game_167841
END:VEVENT
BEGIN:VEVENT
DTSTAMP:20260426T035923Z
DTSTART:20260511T180000
DTEND:20260511T200000
SUMMARY:#167843 Prior Lake 9A @ Belle Plaine Tigers
LOCATION:Fountain Park\, Fountain Park
TZID:America/Chicago
UID:mbl_game_167843
END:VEVENT
BEGIN:VEVENT
DTSTAMP:20260426T035923Z
DTSTART:20260623T180000
DTEND:20260623T200000
SUMMARY:#167844 Prior Lake 9A @ Jordan Hubmen
LOCATION:Jordan High School\, Field #4
TZID:America/Chicago
UID:mbl_game_167844
END:VEVENT
BEGIN:VEVENT
DTSTAMP:20260426T035923Z
DTSTART:20260520T180000
DTEND:20260520T200000
SUMMARY:#167845 Prior Lake 9A @ New Prague 9A
LOCATION:Settlers Park\, Field #1
TZID:America/Chicago
UID:mbl_game_167845
END:VEVENT
BEGIN:VEVENT
DTSTAMP:20260426T035923Z
DTSTART:20260618T174500
DTEND:20260618T194500
SUMMARY:#167846 New Prague 9A @ Prior Lake 9A
LOCATION:Ponds\, Field #2
TZID:America/Chicago
UID:mbl_game_167846
END:VEVENT
BEGIN:VEVENT
DTSTAMP:20260426T035923Z
DTSTART:20260625T174500
DTEND:20260625T194500
SUMMARY:#167851 Shakopee Sabers @ Prior Lake 9A
LOCATION:Ponds\, Field #6
TZID:America/Chicago
UID:mbl_game_167851
END:VEVENT
BEGIN:VEVENT
DTSTAMP:20260426T035923Z
DTSTART:20260504T180000
DTEND:20260504T200000
SUMMARY:#167852 Prior Lake 9A @ Shakopee Sabers
LOCATION:Muenchow Field\, Field #1
TZID:America/Chicago
UID:mbl_game_167852
END:VEVENT
BEGIN:VEVENT
DTSTAMP:20260426T035923Z
DTSTART:20260506T174500
DTEND:20260506T194500
SUMMARY:#167856 Minnetonka 9A White - Loula @ Prior Lake 9A
LOCATION:Ponds\, Field #2
TZID:America/Chicago
UID:mbl_game_167856
END:VEVENT
BEGIN:VEVENT
DTSTAMP:20260426T035923Z
DTSTART:20260608T174500
DTEND:20260608T194500
SUMMARY:#167861 Burnsville Blaze @ Prior Lake 9A
LOCATION:Ponds\, Field #6
TZID:America/Chicago
UID:mbl_game_167861
END:VEVENT
BEGIN:VEVENT
DTSTAMP:20260426T035923Z
DTSTART:20260519T174500
DTEND:20260519T194500
SUMMARY:#167896 Prior Lake 9A @ Lakeville North
LOCATION:King\, Field #5
TZID:America/Chicago
UID:mbl_game_167896
END:VEVENT
END:VCALENDAR
