BEGIN:VCALENDAR
PRODID:-//Ben Fortuna//iCal4j 1.0//EN
VERSION:2.0
CALSCALE:GREGORIAN
X-WR-TIMEZONE:America/Chicago
DESCRIPTION:MBL Games
X-WR-CALNAME:MBL Games
BEGIN:VEVENT
DTSTAMP:20260426T035923Z
DTSTART:20260618T180000
DTEND:20260618T200000
SUMMARY:#165142 Prior Lake 9AA Gold @ New Prague 9AA Red
LOCATION:Settlers Park\, Field #1
TZID:America/Chicago
UID:mbl_game_165142
END:VEVENT
BEGIN:VEVENT
DTSTAMP:20260426T035923Z
DTSTART:20260520T174500
DTEND:20260520T194500
SUMMARY:#165150 Bloomington Bandits 9AA - Red @ Prior Lake 9AA Gold
LOCATION:Ponds\, Field #6
TZID:America/Chicago
UID:mbl_game_165150
END:VEVENT
BEGIN:VEVENT
DTSTAMP:20260426T035923Z
DTSTART:20260603T174500
DTEND:20260603T194500
SUMMARY:#165157 Chanhassen 9AA - Blue @ Prior Lake 9AA Gold
LOCATION:Ponds\, Field #2
TZID:America/Chicago
UID:mbl_game_165157
END:VEVENT
BEGIN:VEVENT
DTSTAMP:20260426T035923Z
DTSTART:20260527T174500
DTEND:20260527T194500
SUMMARY:#165164 Chanhassen 9AA - White @ Prior Lake 9AA Gold
LOCATION:Ponds\, Field #2
TZID:America/Chicago
UID:mbl_game_165164
END:VEVENT
BEGIN:VEVENT
DTSTAMP:20260426T035923Z
DTSTART:20260610T174500
DTEND:20260610T194500
SUMMARY:#165171 Chaska Hawks - Purple @ Prior Lake 9AA Gold
LOCATION:Ponds\, Field #2
TZID:America/Chicago
UID:mbl_game_165171
END:VEVENT
BEGIN:VEVENT
DTSTAMP:20260426T035923Z
DTSTART:20260616T194500
DTEND:20260616T214500
SUMMARY:#165178 Jordan Hubmen @ Prior Lake 9AA Gold
LOCATION:Ponds\, Field #6
TZID:America/Chicago
UID:mbl_game_165178
END:VEVENT
BEGIN:VEVENT
DTSTAMP:20260426T035923Z
DTSTART:20260429T180000
DTEND:20260429T200000
SUMMARY:#165179 Prior Lake 9AA Gold @ Bloomington Bandits 9AA - Red
LOCATION:Hrbek Fields\, Field #8
TZID:America/Chicago
UID:mbl_game_165179
END:VEVENT
BEGIN:VEVENT
DTSTAMP:20260426T035923Z
DTSTART:20260506T173000
DTEND:20260506T193000
SUMMARY:#165180 Prior Lake 9AA Gold @ Chanhassen 9AA - Blue
LOCATION:Chanhassen Rec Center\, Field # 6
TZID:America/Chicago
UID:mbl_game_165180
END:VEVENT
BEGIN:VEVENT
DTSTAMP:20260426T035923Z
DTSTART:20260623T173000
DTEND:20260623T193000
SUMMARY:#165181 Prior Lake 9AA Gold @ Chanhassen 9AA - White
LOCATION:Chanhassen Rec Center\, Field # 6
TZID:America/Chicago
UID:mbl_game_165181
END:VEVENT
BEGIN:VEVENT
DTSTAMP:20260426T035923Z
DTSTART:20260519T180000
DTEND:20260519T203000
SUMMARY:#165182 Prior Lake 9AA Gold @ Chaska Hawks - Purple
LOCATION:Community Park\, Field #5
TZID:America/Chicago
UID:mbl_game_165182
END:VEVENT
BEGIN:VEVENT
DTSTAMP:20260426T035923Z
DTSTART:20260513T180000
DTEND:20260513T200000
SUMMARY:#165183 Prior Lake 9AA Gold @ Jordan Hubmen
LOCATION:Jordan High School\, Field #4
TZID:America/Chicago
UID:mbl_game_165183
END:VEVENT
BEGIN:VEVENT
DTSTAMP:20260426T035923Z
DTSTART:20260626T174500
DTEND:20260626T194500
SUMMARY:#165184 Prior Lake 9AA Gold @ New Prague 9AA Black
LOCATION:Settlers Park\, Field #1
TZID:America/Chicago
UID:mbl_game_165184
END:VEVENT
BEGIN:VEVENT
DTSTAMP:20260426T035923Z
DTSTART:20260526T194500
DTEND:20260526T214500
SUMMARY:#165185 New Prague 9AA Black @ Prior Lake 9AA Gold
LOCATION:Ponds\, Field #6
TZID:America/Chicago
UID:mbl_game_165185
END:VEVENT
BEGIN:VEVENT
DTSTAMP:20260426T035923Z
DTSTART:20260602T194500
DTEND:20260602T214500
SUMMARY:#165192 Prior Lake 9AA Navy @ Prior Lake 9AA Gold
LOCATION:Ponds\, Field #2
TZID:America/Chicago
UID:mbl_game_165192
END:VEVENT
END:VCALENDAR
