BEGIN:VCALENDAR
PRODID:-//Ben Fortuna//iCal4j 1.0//EN
VERSION:2.0
CALSCALE:GREGORIAN
X-WR-TIMEZONE:America/Chicago
DESCRIPTION:MBL Games
X-WR-CALNAME:MBL Games
BEGIN:VEVENT
DTSTAMP:20260426T035754Z
DTSTART:20260609T174500
DTEND:20260609T194500
SUMMARY:#165101 Belle Plaine Tigers @ Prior Lake 9AA Navy
LOCATION:Ponds\, Field #6
TZID:America/Chicago
UID:mbl_game_165101
END:VEVENT
BEGIN:VEVENT
DTSTAMP:20260426T035754Z
DTSTART:20260527T174500
DTEND:20260527T194500
SUMMARY:#165108 Bloomington Bandits 9AA - Blue @ Prior Lake 9AA Navy
LOCATION:Ponds\, Field #6
TZID:America/Chicago
UID:mbl_game_165108
END:VEVENT
BEGIN:VEVENT
DTSTAMP:20260426T035754Z
DTSTART:20260622T174500
DTEND:20260622T194500
SUMMARY:#165115 Chanhassen 9AA - Silver @ Prior Lake 9AA Navy
LOCATION:Ponds\, Field #6
TZID:America/Chicago
UID:mbl_game_165115
END:VEVENT
BEGIN:VEVENT
DTSTAMP:20260426T035754Z
DTSTART:20260601T174500
DTEND:20260601T194500
SUMMARY:#165122 Chaska Hawks - Gold @ Prior Lake 9AA Navy
LOCATION:Ponds\, Field #6
TZID:America/Chicago
UID:mbl_game_165122
END:VEVENT
BEGIN:VEVENT
DTSTAMP:20260426T035754Z
DTSTART:20260610T174500
DTEND:20260610T194500
SUMMARY:#165129 Eden Prairie Eagles 9AA @ Prior Lake 9AA Navy
LOCATION:Ponds\, Field #6
TZID:America/Chicago
UID:mbl_game_165129
END:VEVENT
BEGIN:VEVENT
DTSTAMP:20260426T035754Z
DTSTART:20260513T180000
DTEND:20260513T200000
SUMMARY:#165130 Prior Lake 9AA Navy @ Belle Plaine Tigers
LOCATION:Fountain Park\, Fountain Park
TZID:America/Chicago
UID:mbl_game_165130
END:VEVENT
BEGIN:VEVENT
DTSTAMP:20260426T035754Z
DTSTART:20260505T180000
DTEND:20260505T200000
SUMMARY:#165131 Prior Lake 9AA Navy @ Bloomington Bandits 9AA - Blue
LOCATION:Hrbek Fields\, Field #7
TZID:America/Chicago
UID:mbl_game_165131
END:VEVENT
BEGIN:VEVENT
DTSTAMP:20260426T035754Z
DTSTART:20260520T173000
DTEND:20260520T193000
SUMMARY:#165132 Prior Lake 9AA Navy @ Chanhassen 9AA - Silver
LOCATION:Chanhassen Rec Center\, Field # 6
TZID:America/Chicago
UID:mbl_game_165132
END:VEVENT
BEGIN:VEVENT
DTSTAMP:20260426T035754Z
DTSTART:20260618T180000
DTEND:20260618T200000
SUMMARY:#165133 Prior Lake 9AA Navy @ Chaska Hawks - Gold
LOCATION:Community Park\, Field #2
TZID:America/Chicago
UID:mbl_game_165133
END:VEVENT
BEGIN:VEVENT
DTSTAMP:20260426T035754Z
DTSTART:20260508T180000
DTEND:20260508T200000
SUMMARY:#165134 Prior Lake 9AA Navy @ Eden Prairie Eagles 9AA
LOCATION:Round Lake Park\, Field #3
TZID:America/Chicago
UID:mbl_game_165134
END:VEVENT
BEGIN:VEVENT
DTSTAMP:20260426T035754Z
DTSTART:20260623T180000
DTEND:20260623T200000
SUMMARY:#165135 Prior Lake 9AA Navy @ New Prague 9AA Red
LOCATION:Settlers Park\, Field #1
TZID:America/Chicago
UID:mbl_game_165135
END:VEVENT
BEGIN:VEVENT
DTSTAMP:20260426T035754Z
DTSTART:20260528T174500
DTEND:20260528T194500
SUMMARY:#165136 New Prague 9AA Red @ Prior Lake 9AA Navy
LOCATION:Ponds\, Field #2
TZID:America/Chicago
UID:mbl_game_165136
END:VEVENT
BEGIN:VEVENT
DTSTAMP:20260426T035754Z
DTSTART:20260511T174500
DTEND:20260511T194500
SUMMARY:#165143 Chanhassen 9AA - White @ Prior Lake 9AA Navy
LOCATION:Ponds\, Field #6
TZID:America/Chicago
UID:mbl_game_165143
END:VEVENT
BEGIN:VEVENT
DTSTAMP:20260426T035754Z
DTSTART:20260602T194500
DTEND:20260602T214500
SUMMARY:#165192 Prior Lake 9AA Navy @ Prior Lake 9AA Gold
LOCATION:Ponds\, Field #2
TZID:America/Chicago
UID:mbl_game_165192
END:VEVENT
END:VCALENDAR
