BEGIN:VCALENDAR
PRODID:-//Ben Fortuna//iCal4j 1.0//EN
VERSION:2.0
CALSCALE:GREGORIAN
X-WR-TIMEZONE:America/Chicago
DESCRIPTION:MBL Games
X-WR-CALNAME:MBL Games
BEGIN:VEVENT
DTSTAMP:20260426T040640Z
DTSTART:20260625T174500
DTEND:20260625T194500
SUMMARY:#165309 Prior Lake 9AAA @ Lakeville North
LOCATION:King\, Field #5
TZID:America/Chicago
UID:mbl_game_165309
END:VEVENT
BEGIN:VEVENT
DTSTAMP:20260426T040640Z
DTSTART:20260623T174500
DTEND:20260623T194500
SUMMARY:#165310 Rosemount Irish 9AAA @ Prior Lake 9AAA
LOCATION:Ponds\, Field #6
TZID:America/Chicago
UID:mbl_game_165310
END:VEVENT
BEGIN:VEVENT
DTSTAMP:20260426T040640Z
DTSTART:20260527T180000
DTEND:20260527T200000
SUMMARY:#165313 Prior Lake 9AAA @ Eagan Wildcats
LOCATION:Rahn Park\, Field #4 (Little Rahn)
TZID:America/Chicago
UID:mbl_game_165313
END:VEVENT
BEGIN:VEVENT
DTSTAMP:20260426T040640Z
DTSTART:20260609T180000
DTEND:20260609T200000
SUMMARY:#165315 Lakeville South @ Prior Lake 9AAA
LOCATION:Schroeder's Acres\, Field #3
TZID:America/Chicago
UID:mbl_game_165315
END:VEVENT
BEGIN:VEVENT
DTSTAMP:20260426T040640Z
DTSTART:20260505T180000
DTEND:20260505T200000
SUMMARY:#165317 Prior Lake 9AAA @ Eastview Lightning
LOCATION:Johnny Cake Ridge Park West\, Field #12
TZID:America/Chicago
UID:mbl_game_165317
END:VEVENT
BEGIN:VEVENT
DTSTAMP:20260426T040640Z
DTSTART:20260519T174500
DTEND:20260519T194500
SUMMARY:#165320 Eastview Lightning @ Prior Lake 9AAA
LOCATION:Ponds\, Field #2
TZID:America/Chicago
UID:mbl_game_165320
END:VEVENT
BEGIN:VEVENT
DTSTAMP:20260426T040640Z
DTSTART:20260429T180000
DTEND:20260429T200000
SUMMARY:#165325 Prior Lake 9AAA @ Hastings 9AAA
LOCATION:Tuttle Park\, Tuttle Park
TZID:America/Chicago
UID:mbl_game_165325
END:VEVENT
BEGIN:VEVENT
DTSTAMP:20260426T040640Z
DTSTART:20260520T180000
DTEND:20260520T200000
SUMMARY:#165329 Prior Lake 9AAA @ Rosemount Irish 9AAA
LOCATION:UMore\, Field #3
TZID:America/Chicago
UID:mbl_game_165329
END:VEVENT
BEGIN:VEVENT
DTSTAMP:20260426T040640Z
DTSTART:20260616T180000
DTEND:20260616T200000
SUMMARY:#165334 Prior Lake 9AAA @ Two Rivers Warriors 9AAA
LOCATION:Valley Park\, Field
TZID:America/Chicago
UID:mbl_game_165334
END:VEVENT
BEGIN:VEVENT
DTSTAMP:20260426T040640Z
DTSTART:20260430T174500
DTEND:20260430T194500
SUMMARY:#165335 Two Rivers Warriors 9AAA @ Prior Lake 9AAA
LOCATION:Ponds\, Field #6
TZID:America/Chicago
UID:mbl_game_165335
END:VEVENT
BEGIN:VEVENT
DTSTAMP:20260426T040640Z
DTSTART:20260603T174500
DTEND:20260603T194500
SUMMARY:#165338 Hastings 9AAA @ Prior Lake 9AAA
LOCATION:Ponds\, Field #6
TZID:America/Chicago
UID:mbl_game_165338
END:VEVENT
BEGIN:VEVENT
DTSTAMP:20260426T040640Z
DTSTART:20260604T174500
DTEND:20260604T194500
SUMMARY:#165344 Lakeville North @ Prior Lake 9AAA
LOCATION:Ponds\, Field #6
TZID:America/Chicago
UID:mbl_game_165344
END:VEVENT
BEGIN:VEVENT
DTSTAMP:20260426T040640Z
DTSTART:20260513T200000
DTEND:20260513T220000
SUMMARY:#165348 Prior Lake 9AAA @ Lakeville South
LOCATION:King\, Field #8
TZID:America/Chicago
UID:mbl_game_165348
END:VEVENT
BEGIN:VEVENT
DTSTAMP:20260426T040640Z
DTSTART:20260618T174500
DTEND:20260618T194500
SUMMARY:#165356 Eagan Wildcats @ Prior Lake 9AAA
LOCATION:Ponds\, Field #6
TZID:America/Chicago
UID:mbl_game_165356
END:VEVENT
END:VCALENDAR
