BEGIN:VCALENDAR
PRODID:-//Ben Fortuna//iCal4j 1.0//EN
VERSION:2.0
CALSCALE:GREGORIAN
X-WR-TIMEZONE:America/Chicago
DESCRIPTION:MBL Games
X-WR-CALNAME:MBL Games
BEGIN:VEVENT
DTSTAMP:20260426T035923Z
DTSTART:20260430T194500
DTEND:20260430T214500
SUMMARY:#165366 Apple Valley Eagles (Gold) @ Prior Lake 10A Navy
LOCATION:Ponds\, Field #2
TZID:America/Chicago
UID:mbl_game_165366
END:VEVENT
BEGIN:VEVENT
DTSTAMP:20260426T035923Z
DTSTART:20260513T174500
DTEND:20260513T194500
SUMMARY:#165373 Eagan Wildcats Green @ Prior Lake 10A Navy
LOCATION:Ponds\, Field #6
TZID:America/Chicago
UID:mbl_game_165373
END:VEVENT
BEGIN:VEVENT
DTSTAMP:20260426T035923Z
DTSTART:20260429T183000
DTEND:20260429T203000
SUMMARY:#165380 Prior Lake 10A Navy @ Eastview Lightning
LOCATION:Johnny Cake Ridge Park West\, Field #11
TZID:America/Chicago
UID:mbl_game_165380
END:VEVENT
BEGIN:VEVENT
DTSTAMP:20260426T035923Z
DTSTART:20260505T174500
DTEND:20260505T194500
SUMMARY:#165387 Farmington Tigers “Orange” @ Prior Lake 10A Navy
LOCATION:Ponds\, Field #2
TZID:America/Chicago
UID:mbl_game_165387
END:VEVENT
BEGIN:VEVENT
DTSTAMP:20260426T035923Z
DTSTART:20260516T100000
DTEND:20260516T120000
SUMMARY:#165389 Prior Lake 10A Navy @ Apple Valley Eagles (Gold)
LOCATION:Valley Middle School\, Field #1
TZID:America/Chicago
UID:mbl_game_165389
END:VEVENT
BEGIN:VEVENT
DTSTAMP:20260426T035923Z
DTSTART:20260601T180000
DTEND:20260601T200000
SUMMARY:#165390 Prior Lake 10A Navy @ Eagan Wildcats Green
LOCATION:Lexington/Diffley\, Field #3
TZID:America/Chicago
UID:mbl_game_165390
END:VEVENT
BEGIN:VEVENT
DTSTAMP:20260426T035923Z
DTSTART:20260520T194500
DTEND:20260520T214500
SUMMARY:#165391 Eastview Lightning @ Prior Lake 10A Navy
LOCATION:Ponds\, Field #2
TZID:America/Chicago
UID:mbl_game_165391
END:VEVENT
BEGIN:VEVENT
DTSTAMP:20260426T035923Z
DTSTART:20260512T180000
DTEND:20260512T200000
SUMMARY:#165392 Farmington Tigers “Orange” @ Prior Lake 10A Navy
LOCATION:Dodge Middle School\, Field #2
TZID:America/Chicago
UID:mbl_game_165392
END:VEVENT
BEGIN:VEVENT
DTSTAMP:20260426T035923Z
DTSTART:20260604T180000
DTEND:20260604T200000
SUMMARY:#165393 Prior Lake 10A Navy @ Lakeville North White
LOCATION:Quigley\, Field #1
TZID:America/Chicago
UID:mbl_game_165393
END:VEVENT
BEGIN:VEVENT
DTSTAMP:20260426T035923Z
DTSTART:20260625T194500
DTEND:20260625T214500
SUMMARY:#165394 Lakeville North White @ Prior Lake 10A Navy
LOCATION:Ponds\, Field #6
TZID:America/Chicago
UID:mbl_game_165394
END:VEVENT
BEGIN:VEVENT
DTSTAMP:20260426T035923Z
DTSTART:20260527T180000
DTEND:20260527T200000
SUMMARY:#165401 Prior Lake 10A Navy @ Rosemount Irish 10A
LOCATION:UMore\, Field #1
TZID:America/Chicago
UID:mbl_game_165401
END:VEVENT
BEGIN:VEVENT
DTSTAMP:20260426T035923Z
DTSTART:20260615T194500
DTEND:20260615T214500
SUMMARY:#165402 Rosemount Irish 10A @ Prior Lake 10A Navy
LOCATION:Ponds\, Field #6
TZID:America/Chicago
UID:mbl_game_165402
END:VEVENT
BEGIN:VEVENT
DTSTAMP:20260426T035923Z
DTSTART:20260610T180000
DTEND:20260610T200000
SUMMARY:#165408 Prior Lake 10A Navy @ Apple Valley Eagles (White)
LOCATION:Valley Middle School\, Field #2
TZID:America/Chicago
UID:mbl_game_165408
END:VEVENT
BEGIN:VEVENT
DTSTAMP:20260426T035923Z
DTSTART:20260618T180000
DTEND:20260618T200000
SUMMARY:#165455 Prior Lake 10A Navy @ Lakeville North Red
LOCATION:Quigley\, Field #1
TZID:America/Chicago
UID:mbl_game_165455
END:VEVENT
END:VCALENDAR
