BEGIN:VCALENDAR
PRODID:-//Ben Fortuna//iCal4j 1.0//EN
VERSION:2.0
CALSCALE:GREGORIAN
X-WR-TIMEZONE:America/Chicago
DESCRIPTION:MBL Games
X-WR-CALNAME:MBL Games
BEGIN:VEVENT
DTSTAMP:20260426T040954Z
DTSTART:20260519T180000
DTEND:20260519T200000
SUMMARY:#170610 Prior Lake 10A Gold @ Orono Spartans Navy
LOCATION:Lee Carlson Fields\, Lee Carlson South Field
TZID:America/Chicago
UID:mbl_game_170610
END:VEVENT
BEGIN:VEVENT
DTSTAMP:20260426T040954Z
DTSTART:20260617T174500
DTEND:20260617T194500
SUMMARY:#170636 Shakopee Sabers @ Prior Lake 10A Gold
LOCATION:Ponds\, Field #2
TZID:America/Chicago
UID:mbl_game_170636
END:VEVENT
BEGIN:VEVENT
DTSTAMP:20260426T040954Z
DTSTART:20260511T194500
DTEND:20260511T214500
SUMMARY:#170642 Tri-City United Titans Black @ Prior Lake 10A Gold
LOCATION:Ponds\, Field #6
TZID:America/Chicago
UID:mbl_game_170642
END:VEVENT
BEGIN:VEVENT
DTSTAMP:20260426T040954Z
DTSTART:20260527T180000
DTEND:20260527T200000
SUMMARY:#170653 Prior Lake 10A Gold @ New Prague 10A
LOCATION:New Prague - Northside Park\, Northside Park
TZID:America/Chicago
UID:mbl_game_170653
END:VEVENT
BEGIN:VEVENT
DTSTAMP:20260426T040954Z
DTSTART:20260622T180000
DTEND:20260622T200000
SUMMARY:#170656 Prior Lake 10A Gold @ Tri-City United Titans Black
LOCATION:Northside Park\, Northside Park # 1
TZID:America/Chicago
UID:mbl_game_170656
END:VEVENT
BEGIN:VEVENT
DTSTAMP:20260426T040954Z
DTSTART:20260602T174500
DTEND:20260602T194500
SUMMARY:#170658 Chaska Hawks @ Prior Lake 10A Gold
LOCATION:Ponds\, Field #6
TZID:America/Chicago
UID:mbl_game_170658
END:VEVENT
BEGIN:VEVENT
DTSTAMP:20260426T040954Z
DTSTART:20260429T180000
DTEND:20260429T200000
SUMMARY:#170659 Prior Lake 10A Gold @ Chaska Hawks
LOCATION:Augusta\, Augusta
TZID:America/Chicago
UID:mbl_game_170659
END:VEVENT
BEGIN:VEVENT
DTSTAMP:20260426T040954Z
DTSTART:20260505T180000
DTEND:20260505T200000
SUMMARY:#170660 Prior Lake 10A Gold @ Shakopee Sabers
LOCATION:Westminster\, Field #1
TZID:America/Chicago
UID:mbl_game_170660
END:VEVENT
BEGIN:VEVENT
DTSTAMP:20260426T040954Z
DTSTART:20260518T194500
DTEND:20260518T214500
SUMMARY:#170665 New Prague 10A @ Prior Lake 10A Gold
LOCATION:Ponds\, Field #6
TZID:America/Chicago
UID:mbl_game_170665
END:VEVENT
BEGIN:VEVENT
DTSTAMP:20260426T040954Z
DTSTART:20260629T180000
DTEND:20260629T200000
SUMMARY:#170667 Prior Lake 10A Gold @ Tri-City United Titans Silver
LOCATION:Northside Park\, Northside Park # 2
TZID:America/Chicago
UID:mbl_game_170667
END:VEVENT
BEGIN:VEVENT
DTSTAMP:20260426T040954Z
DTSTART:20260624T174500
DTEND:20260624T194500
SUMMARY:#170670 Westonka 10A Red @ Prior Lake 10A Gold
LOCATION:Ponds\, Field #6
TZID:America/Chicago
UID:mbl_game_170670
END:VEVENT
BEGIN:VEVENT
DTSTAMP:20260426T040954Z
DTSTART:20260513T194500
DTEND:20260513T214500
SUMMARY:#170674 Tri-City United Titans Silver @ Prior Lake 10A Gold
LOCATION:Ponds\, Field #6
TZID:America/Chicago
UID:mbl_game_170674
END:VEVENT
BEGIN:VEVENT
DTSTAMP:20260426T040954Z
DTSTART:20260616T180000
DTEND:20260616T200000
SUMMARY:#170676 Prior Lake 10A Gold @ Waconia Wildcats (Gold)
LOCATION:St Bonifacius Townsedge Field\, Townsedge Field
TZID:America/Chicago
UID:mbl_game_170676
END:VEVENT
BEGIN:VEVENT
DTSTAMP:20260426T040954Z
DTSTART:20260609T194500
DTEND:20260609T214500
SUMMARY:#170684 Waconia Wildcats (Gold) @ Prior Lake 10A Gold
LOCATION:Ponds\, Field #6
TZID:America/Chicago
UID:mbl_game_170684
END:VEVENT
END:VCALENDAR
