BEGIN:VCALENDAR
PRODID:-//Ben Fortuna//iCal4j 1.0//EN
VERSION:2.0
CALSCALE:GREGORIAN
X-WR-TIMEZONE:America/Chicago
DESCRIPTION:MBL Games
X-WR-CALNAME:MBL Games
BEGIN:VEVENT
DTSTAMP:20260426T035754Z
DTSTART:20260507T174500
DTEND:20260507T194500
SUMMARY:#166241 New Prague 10AA @ Prior Lake 10AA Gold
LOCATION:Ponds\, Field #2
TZID:America/Chicago
UID:mbl_game_166241
END:VEVENT
BEGIN:VEVENT
DTSTAMP:20260426T035754Z
DTSTART:20260526T174500
DTEND:20260526T194500
SUMMARY:#166250 Belle Plaine Tigers @ Prior Lake 10AA Gold
LOCATION:Ponds\, Field #2
TZID:America/Chicago
UID:mbl_game_166250
END:VEVENT
BEGIN:VEVENT
DTSTAMP:20260426T035754Z
DTSTART:20260512T174500
DTEND:20260512T194500
SUMMARY:#166259 Tri-City United Titans @ Prior Lake 10AA Gold
LOCATION:Ponds\, Field #2
TZID:America/Chicago
UID:mbl_game_166259
END:VEVENT
BEGIN:VEVENT
DTSTAMP:20260426T035754Z
DTSTART:20260520T174500
DTEND:20260520T194500
SUMMARY:#166268 Eden Prairie Eagles 10AA @ Prior Lake 10AA Gold
LOCATION:Ponds\, Field #2
TZID:America/Chicago
UID:mbl_game_166268
END:VEVENT
BEGIN:VEVENT
DTSTAMP:20260426T035754Z
DTSTART:20260527T180000
DTEND:20260527T200000
SUMMARY:#166275 Prior Lake 10AA Gold @ Eden Prairie Eagles 10AA
LOCATION:Miller Park\, Field #1
TZID:America/Chicago
UID:mbl_game_166275
END:VEVENT
BEGIN:VEVENT
DTSTAMP:20260426T035754Z
DTSTART:20260616T194500
DTEND:20260616T214500
SUMMARY:#166277 Chaska Hawks @ Prior Lake 10AA Gold
LOCATION:Ponds\, Field #2
TZID:America/Chicago
UID:mbl_game_166277
END:VEVENT
BEGIN:VEVENT
DTSTAMP:20260426T035754Z
DTSTART:20260521T200000
DTEND:20260521T220000
SUMMARY:#166281 Prior Lake 10AA Gold @ Bloomington Bandits
LOCATION:Hrbek Fields\, Field #7
TZID:America/Chicago
UID:mbl_game_166281
END:VEVENT
BEGIN:VEVENT
DTSTAMP:20260426T035754Z
DTSTART:20260623T173000
DTEND:20260623T193000
SUMMARY:#166282 Prior Lake 10AA Gold @ Chanhassen 10AA - Gold
LOCATION:Lake Ann\, Field #3
TZID:America/Chicago
UID:mbl_game_166282
END:VEVENT
BEGIN:VEVENT
DTSTAMP:20260426T035754Z
DTSTART:20260611T174500
DTEND:20260611T194500
SUMMARY:#166286 Bloomington Bandits @ Prior Lake 10AA Gold
LOCATION:Ponds\, Field #2
TZID:America/Chicago
UID:mbl_game_166286
END:VEVENT
BEGIN:VEVENT
DTSTAMP:20260426T035754Z
DTSTART:20260505T180000
DTEND:20260505T200000
SUMMARY:#166289 Prior Lake 10AA Gold @ Belle Plaine Tigers
LOCATION:Meadow Park\, Field #2
TZID:America/Chicago
UID:mbl_game_166289
END:VEVENT
BEGIN:VEVENT
DTSTAMP:20260426T035754Z
DTSTART:20260603T194500
DTEND:20260603T214500
SUMMARY:#166295 Chanhassen 10AA - Gold @ Prior Lake 10AA Gold
LOCATION:Ponds\, Field #2
TZID:America/Chicago
UID:mbl_game_166295
END:VEVENT
BEGIN:VEVENT
DTSTAMP:20260426T035754Z
DTSTART:20260604T180000
DTEND:20260604T200000
SUMMARY:#166296 Prior Lake 10AA Gold @ Tri-City United Titans
LOCATION:Lonsdale Jaycee Park\, Field #1
TZID:America/Chicago
UID:mbl_game_166296
END:VEVENT
BEGIN:VEVENT
DTSTAMP:20260426T035754Z
DTSTART:20260609T180000
DTEND:20260609T200000
SUMMARY:#166297 Prior Lake 10AA Gold @ Waconia Waconia Wildcats
LOCATION:St Bonifacius Townsedge Field\, Townsedge Field
TZID:America/Chicago
UID:mbl_game_166297
END:VEVENT
BEGIN:VEVENT
DTSTAMP:20260426T035754Z
DTSTART:20260624T174500
DTEND:20260624T194500
SUMMARY:#166399 Waconia Waconia Wildcats @ Prior Lake 10AA Gold
LOCATION:Ponds\, Field #2
TZID:America/Chicago
UID:mbl_game_166399
END:VEVENT
END:VCALENDAR
