BEGIN:VCALENDAR
PRODID:-//Ben Fortuna//iCal4j 1.0//EN
VERSION:2.0
CALSCALE:GREGORIAN
X-WR-TIMEZONE:America/Chicago
DESCRIPTION:MBL Games
X-WR-CALNAME:MBL Games
BEGIN:VEVENT
DTSTAMP:20260426T035923Z
DTSTART:20260609T174500
DTEND:20260609T194500
SUMMARY:#166186 Minneapolis Millers 10AA @ Prior Lake 10AA Navy
LOCATION:Ponds\, Field #2
TZID:America/Chicago
UID:mbl_game_166186
END:VEVENT
BEGIN:VEVENT
DTSTAMP:20260426T035923Z
DTSTART:20260428T180000
DTEND:20260428T200000
SUMMARY:#166193 Prior Lake 10AA Navy @ Minneapolis Millers 10AA
LOCATION:Neiman\, MSA Batting Cages Field #4
TZID:America/Chicago
UID:mbl_game_166193
END:VEVENT
BEGIN:VEVENT
DTSTAMP:20260426T035923Z
DTSTART:20260616T174500
DTEND:20260616T194500
SUMMARY:#166194 Burnsville Blaze @ Prior Lake 10AA Navy
LOCATION:Ponds\, Field #2
TZID:America/Chicago
UID:mbl_game_166194
END:VEVENT
BEGIN:VEVENT
DTSTAMP:20260426T035923Z
DTSTART:20260611T180000
DTEND:20260611T200000
SUMMARY:#166197 Prior Lake 10AA Navy @ Eastview Lightning
LOCATION:Eastview H S\, Field #11
TZID:America/Chicago
UID:mbl_game_166197
END:VEVENT
BEGIN:VEVENT
DTSTAMP:20260426T035923Z
DTSTART:20260623T174500
DTEND:20260623T194500
SUMMARY:#166202 Lakeville North @ Prior Lake 10AA Navy
LOCATION:Ponds\, Field #2
TZID:America/Chicago
UID:mbl_game_166202
END:VEVENT
BEGIN:VEVENT
DTSTAMP:20260426T035923Z
DTSTART:20260514T181500
DTEND:20260514T201500
SUMMARY:#166204 Prior Lake 10AA Navy @ Burnsville Blaze
LOCATION:Neill Park\, Field #3
TZID:America/Chicago
UID:mbl_game_166204
END:VEVENT
BEGIN:VEVENT
DTSTAMP:20260426T035923Z
DTSTART:20260430T174500
DTEND:20260430T194500
SUMMARY:#166210 Eastview Lightning @ Prior Lake 10AA Navy
LOCATION:Ponds\, Field #2
TZID:America/Chicago
UID:mbl_game_166210
END:VEVENT
BEGIN:VEVENT
DTSTAMP:20260426T035923Z
DTSTART:20260625T174500
DTEND:20260625T194500
SUMMARY:#166218 Apple Valley Eagles @ Prior Lake 10AA Navy
LOCATION:Ponds\, Field #2
TZID:America/Chicago
UID:mbl_game_166218
END:VEVENT
BEGIN:VEVENT
DTSTAMP:20260426T035923Z
DTSTART:20260619T181500
DTEND:20260619T201500
SUMMARY:#166219 Prior Lake 10AA Navy @ Apple Valley Eagles
LOCATION:Valley Middle School\, Field #2
TZID:America/Chicago
UID:mbl_game_166219
END:VEVENT
BEGIN:VEVENT
DTSTAMP:20260426T035923Z
DTSTART:20260603T174500
DTEND:20260603T194500
SUMMARY:#166223 Prior Lake 10AA Navy @ Lakeville North
LOCATION:King\, Field #6
TZID:America/Chicago
UID:mbl_game_166223
END:VEVENT
BEGIN:VEVENT
DTSTAMP:20260426T035923Z
DTSTART:20260615T174500
DTEND:20260615T194500
SUMMARY:#166226 Lakeville South @ Prior Lake 10AA Navy
LOCATION:Ponds\, Field #6
TZID:America/Chicago
UID:mbl_game_166226
END:VEVENT
BEGIN:VEVENT
DTSTAMP:20260426T035923Z
DTSTART:20260526T180000
DTEND:20260526T200000
SUMMARY:#166234 Eagan Wildcats @ Prior Lake 10AA Navy
LOCATION:Schroeder's Acres\, Field #3
TZID:America/Chicago
UID:mbl_game_166234
END:VEVENT
BEGIN:VEVENT
DTSTAMP:20260426T035923Z
DTSTART:20260512T173000
DTEND:20260512T193000
SUMMARY:#166291 Prior Lake 10AA Navy @ Chanhassen 10AA - Gold
LOCATION:Victoria Lions Park\, Field #2
TZID:America/Chicago
UID:mbl_game_166291
END:VEVENT
BEGIN:VEVENT
DTSTAMP:20260426T035923Z
DTSTART:20260505T180000
DTEND:20260505T200000
SUMMARY:#166397 Prior Lake 10AA Navy @ Farmington Tigers
LOCATION:Dodge Middle School\, Field #2
TZID:America/Chicago
UID:mbl_game_166397
END:VEVENT
END:VCALENDAR
