BEGIN:VCALENDAR
PRODID:-//Ben Fortuna//iCal4j 1.0//EN
VERSION:2.0
CALSCALE:GREGORIAN
X-WR-TIMEZONE:America/Chicago
DESCRIPTION:MBL Games
X-WR-CALNAME:MBL Games
BEGIN:VEVENT
DTSTAMP:20260426T035924Z
DTSTART:20260527T180000
DTEND:20260527T200000
SUMMARY:#164941 Prior Lake 10AAA @ Two Rivers Warriors 10AAA
LOCATION:Marie Park\, Ballfield
TZID:America/Chicago
UID:mbl_game_164941
END:VEVENT
BEGIN:VEVENT
DTSTAMP:20260426T035924Z
DTSTART:20260604T180000
DTEND:20260604T200000
SUMMARY:#164943 Prior Lake 10AAA @ Eagan Wildcats
LOCATION:Lexington/Diffley\, Field #4
TZID:America/Chicago
UID:mbl_game_164943
END:VEVENT
BEGIN:VEVENT
DTSTAMP:20260426T035924Z
DTSTART:20260616T174500
DTEND:20260616T194500
SUMMARY:#164952 Eastview Lightning @ Prior Lake 10AAA
LOCATION:Ponds\, Field #6
TZID:America/Chicago
UID:mbl_game_164952
END:VEVENT
BEGIN:VEVENT
DTSTAMP:20260426T035924Z
DTSTART:20260519T174500
DTEND:20260519T194500
SUMMARY:#164958 Lakeville North @ Prior Lake 10AAA
LOCATION:Ponds\, Field #6
TZID:America/Chicago
UID:mbl_game_164958
END:VEVENT
BEGIN:VEVENT
DTSTAMP:20260426T035924Z
DTSTART:20260506T174500
DTEND:20260506T194500
SUMMARY:#164964 Lakeville South @ Prior Lake 10AAA
LOCATION:Ponds\, Field #6
TZID:America/Chicago
UID:mbl_game_164964
END:VEVENT
BEGIN:VEVENT
DTSTAMP:20260426T035924Z
DTSTART:20260505T180000
DTEND:20260505T200000
SUMMARY:#164966 Prior Lake 10AAA @ Eastview Lightning
LOCATION:Johnny Cake Ridge Park West\, Field #11
TZID:America/Chicago
UID:mbl_game_164966
END:VEVENT
BEGIN:VEVENT
DTSTAMP:20260426T035924Z
DTSTART:20260609T200000
DTEND:20260609T220000
SUMMARY:#164967 Prior Lake 10AAA @ Lakeville North
LOCATION:King\, Field #6
TZID:America/Chicago
UID:mbl_game_164967
END:VEVENT
BEGIN:VEVENT
DTSTAMP:20260426T035924Z
DTSTART:20260602T174500
DTEND:20260602T194500
SUMMARY:#164968 Prior Lake 10AAA @ Lakeville South
LOCATION:King\, Field #6
TZID:America/Chicago
UID:mbl_game_164968
END:VEVENT
BEGIN:VEVENT
DTSTAMP:20260426T035924Z
DTSTART:20260501T180000
DTEND:20260501T200000
SUMMARY:#164969 Prior Lake 10AAA @ Northfield Raiders 10AAA
LOCATION:Babcock Park\, Field #1
TZID:America/Chicago
UID:mbl_game_164969
END:VEVENT
BEGIN:VEVENT
DTSTAMP:20260426T035924Z
DTSTART:20260610T194500
DTEND:20260610T214500
SUMMARY:#164970 Northfield Raiders 10AAA @ Prior Lake 10AAA
LOCATION:Ponds\, Field #6
TZID:America/Chicago
UID:mbl_game_164970
END:VEVENT
BEGIN:VEVENT
DTSTAMP:20260426T035924Z
DTSTART:20260526T194500
DTEND:20260526T214500
SUMMARY:#164976 Rosemount Irish 10AAA @ Prior Lake 10AAA
LOCATION:Ponds\, Field #2
TZID:America/Chicago
UID:mbl_game_164976
END:VEVENT
BEGIN:VEVENT
DTSTAMP:20260426T035924Z
DTSTART:20260622T180000
DTEND:20260622T200000
SUMMARY:#164977 Prior Lake 10AAA @ Rosemount Irish 10AAA
LOCATION:UMore\, Field #3
TZID:America/Chicago
UID:mbl_game_164977
END:VEVENT
BEGIN:VEVENT
DTSTAMP:20260426T035924Z
DTSTART:20260601T194500
DTEND:20260601T214500
SUMMARY:#164982 Inver Grove Hts Spartans 10AAA @ Prior Lake 10AAA
LOCATION:Ponds\, Field #6
TZID:America/Chicago
UID:mbl_game_164982
END:VEVENT
BEGIN:VEVENT
DTSTAMP:20260426T035924Z
DTSTART:20260624T194500
DTEND:20260624T214500
SUMMARY:#164988 Hastings 10AAA @ Prior Lake 10AAA
LOCATION:Ponds\, Field #6
TZID:America/Chicago
UID:mbl_game_164988
END:VEVENT
END:VCALENDAR
