BEGIN:VCALENDAR
PRODID:-//Ben Fortuna//iCal4j 1.0//EN
VERSION:2.0
CALSCALE:GREGORIAN
X-WR-TIMEZONE:America/Chicago
DESCRIPTION:MBL Games
X-WR-CALNAME:MBL Games
BEGIN:VEVENT
DTSTAMP:20260426T040640Z
DTSTART:20260505T180000
DTEND:20260505T200000
SUMMARY:#165839 Chanhassen 11A - White @ Prior Lake 11A Gold
LOCATION:Schroeder's Acres\, Field #2
TZID:America/Chicago
UID:mbl_game_165839
END:VEVENT
BEGIN:VEVENT
DTSTAMP:20260426T040640Z
DTSTART:20260520T194500
DTEND:20260520T214500
SUMMARY:#165845 Eden Prairie Eagles 11A @ Prior Lake 11A Gold
LOCATION:Ponds\, Field #5
TZID:America/Chicago
UID:mbl_game_165845
END:VEVENT
BEGIN:VEVENT
DTSTAMP:20260426T040640Z
DTSTART:20260428T173000
DTEND:20260428T193000
SUMMARY:#165848 Prior Lake 11A Gold @ Chanhassen 11A - White
LOCATION:Victoria Lions Park\, Field #2
TZID:America/Chicago
UID:mbl_game_165848
END:VEVENT
BEGIN:VEVENT
DTSTAMP:20260426T040640Z
DTSTART:20260603T180000
DTEND:20260603T200000
SUMMARY:#165849 Prior Lake 11A Gold @ Eden Prairie Eagles 11A
LOCATION:Miller Park\, Field #2
TZID:America/Chicago
UID:mbl_game_165849
END:VEVENT
BEGIN:VEVENT
DTSTAMP:20260426T040640Z
DTSTART:20260623T183000
DTEND:20260623T203000
SUMMARY:#165850 Prior Lake 11A Gold @ Orono Spartans
LOCATION:Lee Carlson Fields\, Lee Carlson South Field
TZID:America/Chicago
UID:mbl_game_165850
END:VEVENT
BEGIN:VEVENT
DTSTAMP:20260426T040640Z
DTSTART:20260609T194500
DTEND:20260609T214500
SUMMARY:#165851 Orono Spartans @ Prior Lake 11A Gold
LOCATION:Ponds\, Field #5
TZID:America/Chicago
UID:mbl_game_165851
END:VEVENT
BEGIN:VEVENT
DTSTAMP:20260426T040640Z
DTSTART:20260527T194500
DTEND:20260527T214500
SUMMARY:#165857 Waconia Wildcats (Purple) @ Prior Lake 11A Gold
LOCATION:Ponds\, Field #5
TZID:America/Chicago
UID:mbl_game_165857
END:VEVENT
BEGIN:VEVENT
DTSTAMP:20260426T040640Z
DTSTART:20260615T180000
DTEND:20260615T200000
SUMMARY:#165858 Prior Lake 11A Gold @ Waconia Wildcats (Purple)
LOCATION:St Bonifacius Townsedge Field\, Townsedge Field
TZID:America/Chicago
UID:mbl_game_165858
END:VEVENT
BEGIN:VEVENT
DTSTAMP:20260426T040640Z
DTSTART:20260430T180000
DTEND:20260430T200000
SUMMARY:#165859 Prior Lake 11A Gold @ Westonka 11A
LOCATION:Wolner Field\, Field #2
TZID:America/Chicago
UID:mbl_game_165859
END:VEVENT
BEGIN:VEVENT
DTSTAMP:20260426T040640Z
DTSTART:20260512T194500
DTEND:20260512T214500
SUMMARY:#165863 Westonka 11A @ Prior Lake 11A Gold
LOCATION:Ponds\, Field #5
TZID:America/Chicago
UID:mbl_game_165863
END:VEVENT
BEGIN:VEVENT
DTSTAMP:20260426T040640Z
DTSTART:20260519T174500
DTEND:20260519T194500
SUMMARY:#165869 New Prague 11A @ Prior Lake 11A Gold
LOCATION:Ponds\, Field #5
TZID:America/Chicago
UID:mbl_game_165869
END:VEVENT
BEGIN:VEVENT
DTSTAMP:20260426T040640Z
DTSTART:20260611T194500
DTEND:20260611T214500
SUMMARY:#165875 Bloomington New Team Blue @ Prior Lake 11A Gold
LOCATION:Ponds\, Field #5
TZID:America/Chicago
UID:mbl_game_165875
END:VEVENT
BEGIN:VEVENT
DTSTAMP:20260426T040640Z
DTSTART:20260625T180000
DTEND:20260625T200000
SUMMARY:#165883 Prior Lake 11A Gold @ Shakopee Sabers
LOCATION:Westminster\, Field #2
TZID:America/Chicago
UID:mbl_game_165883
END:VEVENT
BEGIN:VEVENT
DTSTAMP:20260426T040640Z
DTSTART:20260601T174500
DTEND:20260601T194500
SUMMARY:#165924 Prior Lake 11A Gold @ Prior Lake 11A White
LOCATION:Ponds\, Field #2
TZID:America/Chicago
UID:mbl_game_165924
END:VEVENT
END:VCALENDAR
