BEGIN:VCALENDAR
PRODID:-//Ben Fortuna//iCal4j 1.0//EN
VERSION:2.0
CALSCALE:GREGORIAN
X-WR-TIMEZONE:America/Chicago
DESCRIPTION:MBL Games
X-WR-CALNAME:MBL Games
BEGIN:VEVENT
DTSTAMP:20260426T035754Z
DTSTART:20260625T194500
DTEND:20260625T214500
SUMMARY:#165935 Eagan Wildcats Green @ Prior Lake 11A Navy
LOCATION:Ponds\, Field #5
TZID:America/Chicago
UID:mbl_game_165935
END:VEVENT
BEGIN:VEVENT
DTSTAMP:20260426T035754Z
DTSTART:20260519T194500
DTEND:20260519T214500
SUMMARY:#165945 Eastview Lightning @ Prior Lake 11A Navy
LOCATION:Ponds\, Field #5
TZID:America/Chicago
UID:mbl_game_165945
END:VEVENT
BEGIN:VEVENT
DTSTAMP:20260426T035754Z
DTSTART:20260505T183000
DTEND:20260505T203000
SUMMARY:#165947 Prior Lake 11A Navy @ Apple Valley Eagles
LOCATION:Valley Middle School\, Field #1
TZID:America/Chicago
UID:mbl_game_165947
END:VEVENT
BEGIN:VEVENT
DTSTAMP:20260426T035754Z
DTSTART:20260428T180000
DTEND:20260428T200000
SUMMARY:#165951 Prior Lake 11A Navy @ Farmington Tigers
LOCATION:Dodge Middle School\, Field #2
TZID:America/Chicago
UID:mbl_game_165951
END:VEVENT
BEGIN:VEVENT
DTSTAMP:20260426T035754Z
DTSTART:20260429T180000
DTEND:20260429T200000
SUMMARY:#165954 Prior Lake 11A Navy @ Minneapolis Millers 11A Orange
LOCATION:Neiman\, MSA Batting Cages Field #3
TZID:America/Chicago
UID:mbl_game_165954
END:VEVENT
BEGIN:VEVENT
DTSTAMP:20260426T035754Z
DTSTART:20260512T174500
DTEND:20260512T194500
SUMMARY:#165955 Rosemount Irish 11A Blue @ Prior Lake 11A Navy
LOCATION:Ponds\, Field #5
TZID:America/Chicago
UID:mbl_game_165955
END:VEVENT
BEGIN:VEVENT
DTSTAMP:20260426T035754Z
DTSTART:20260624T174500
DTEND:20260624T194500
SUMMARY:#165965 Rosemount Irish 11A Green @ Prior Lake 11A Navy
LOCATION:Ponds\, Field #5
TZID:America/Chicago
UID:mbl_game_165965
END:VEVENT
BEGIN:VEVENT
DTSTAMP:20260426T035754Z
DTSTART:20260623T181500
DTEND:20260623T201500
SUMMARY:#165968 Prior Lake 11A Navy @ Burnsville Blaze
LOCATION:Neill Park\, Field #3
TZID:America/Chicago
UID:mbl_game_165968
END:VEVENT
BEGIN:VEVENT
DTSTAMP:20260426T035754Z
DTSTART:20260603T200000
DTEND:20260603T220000
SUMMARY:#165972 Prior Lake 11A Navy @ Lakeville North
LOCATION:King\, Field #9
TZID:America/Chicago
UID:mbl_game_165972
END:VEVENT
BEGIN:VEVENT
DTSTAMP:20260426T035754Z
DTSTART:20260526T194500
DTEND:20260526T214500
SUMMARY:#165975 Lakeville North @ Prior Lake 11A Navy
LOCATION:Ponds\, Field #5
TZID:America/Chicago
UID:mbl_game_165975
END:VEVENT
BEGIN:VEVENT
DTSTAMP:20260426T035754Z
DTSTART:20260520T181500
DTEND:20260520T201500
SUMMARY:#165983 Prior Lake 11A Navy @ Lakeville South
LOCATION:Quigley\, Field #2
TZID:America/Chicago
UID:mbl_game_165983
END:VEVENT
BEGIN:VEVENT
DTSTAMP:20260426T035754Z
DTSTART:20260528T194500
DTEND:20260528T214500
SUMMARY:#165985 Burnsville Blaze @ Prior Lake 11A Navy
LOCATION:Ponds\, Field #5
TZID:America/Chicago
UID:mbl_game_165985
END:VEVENT
BEGIN:VEVENT
DTSTAMP:20260426T035754Z
DTSTART:20260601T174500
DTEND:20260601T194500
SUMMARY:#165995 Lakeville South @ Prior Lake 11A Navy
LOCATION:Ponds\, Field #5
TZID:America/Chicago
UID:mbl_game_165995
END:VEVENT
BEGIN:VEVENT
DTSTAMP:20260426T035754Z
DTSTART:20260504T180000
DTEND:20260504T200000
SUMMARY:#166120 Prior Lake 11A Navy @ Owatonna Huskies 11A
LOCATION:Manthey Park\, Manthey Park #3
TZID:America/Chicago
UID:mbl_game_166120
END:VEVENT
END:VCALENDAR
