BEGIN:VCALENDAR
PRODID:-//Ben Fortuna//iCal4j 1.0//EN
VERSION:2.0
CALSCALE:GREGORIAN
X-WR-TIMEZONE:America/Chicago
DESCRIPTION:MBL Games
X-WR-CALNAME:MBL Games
BEGIN:VEVENT
DTSTAMP:20260426T035923Z
DTSTART:20260506T174500
DTEND:20260506T194500
SUMMARY:#168733 Chaska Hawks @ Prior Lake 11AA Gold
LOCATION:Ponds\, Field #5
TZID:America/Chicago
UID:mbl_game_168733
END:VEVENT
BEGIN:VEVENT
DTSTAMP:20260426T035923Z
DTSTART:20260603T174500
DTEND:20260603T194500
SUMMARY:#168740 Eden Prairie Eagles 11AA @ Prior Lake 11AA Gold
LOCATION:Ponds\, Field #5
TZID:America/Chicago
UID:mbl_game_168740
END:VEVENT
BEGIN:VEVENT
DTSTAMP:20260426T035923Z
DTSTART:20260610T194500
DTEND:20260610T214500
SUMMARY:#168747 Orono Spartans @ Prior Lake 11AA Gold
LOCATION:Ponds\, Field #5
TZID:America/Chicago
UID:mbl_game_168747
END:VEVENT
BEGIN:VEVENT
DTSTAMP:20260426T035923Z
DTSTART:20260616T180000
DTEND:20260616T200000
SUMMARY:#168751 Prior Lake 11AA Gold @ Chaska Hawks
LOCATION:Community Park\, Field #2
TZID:America/Chicago
UID:mbl_game_168751
END:VEVENT
BEGIN:VEVENT
DTSTAMP:20260426T035923Z
DTSTART:20260512T180000
DTEND:20260512T200000
SUMMARY:#168752 Prior Lake 11AA Gold @ Eden Prairie Eagles 11AA
LOCATION:Miller Park\, Field #2
TZID:America/Chicago
UID:mbl_game_168752
END:VEVENT
BEGIN:VEVENT
DTSTAMP:20260426T035923Z
DTSTART:20260527T180000
DTEND:20260527T200000
SUMMARY:#168753 Prior Lake 11AA Gold @ Orono Spartans
LOCATION:Lee Carlson Fields\, Lee Carlson South Field
TZID:America/Chicago
UID:mbl_game_168753
END:VEVENT
BEGIN:VEVENT
DTSTAMP:20260426T035923Z
DTSTART:20260624T194500
DTEND:20260624T214500
SUMMARY:#168754 Bloomington Bandits @ Prior Lake 11AA Gold
LOCATION:Ponds\, Field #5
TZID:America/Chicago
UID:mbl_game_168754
END:VEVENT
BEGIN:VEVENT
DTSTAMP:20260426T035923Z
DTSTART:20260519T180000
DTEND:20260519T200000
SUMMARY:#168756 Prior Lake 11AA Gold @ Westonka 11AA
LOCATION:Wolner Field\, Field #2
TZID:America/Chicago
UID:mbl_game_168756
END:VEVENT
BEGIN:VEVENT
DTSTAMP:20260426T035923Z
DTSTART:20260608T174500
DTEND:20260608T194500
SUMMARY:#168761 Waconia Wildcats @ Prior Lake 11AA Gold
LOCATION:Ponds\, Field #5
TZID:America/Chicago
UID:mbl_game_168761
END:VEVENT
BEGIN:VEVENT
DTSTAMP:20260426T035923Z
DTSTART:20260623T194500
DTEND:20260623T214500
SUMMARY:#168768 Westonka 11AA @ Prior Lake 11AA Gold
LOCATION:Ponds\, Field #5
TZID:America/Chicago
UID:mbl_game_168768
END:VEVENT
BEGIN:VEVENT
DTSTAMP:20260426T035923Z
DTSTART:20260520T174500
DTEND:20260520T194500
SUMMARY:#168775 St. Peter Saints @ Prior Lake 11AA Gold
LOCATION:Ponds\, Field #5
TZID:America/Chicago
UID:mbl_game_168775
END:VEVENT
BEGIN:VEVENT
DTSTAMP:20260426T035923Z
DTSTART:20260526T180000
DTEND:20260526T200000
SUMMARY:#168809 Prior Lake 11AA Gold @ Jordan Hubmen
LOCATION:Holzer Memorial Park\, Field #1
TZID:America/Chicago
UID:mbl_game_168809
END:VEVENT
BEGIN:VEVENT
DTSTAMP:20260426T035923Z
DTSTART:20260601T180000
DTEND:20260601T200000
SUMMARY:#168817 Prior Lake 11AA Gold @ New Prague 11AA
LOCATION:Foundry Hill Park\, Foundry Hill
TZID:America/Chicago
UID:mbl_game_168817
END:VEVENT
BEGIN:VEVENT
DTSTAMP:20260426T035923Z
DTSTART:20260604T183000
DTEND:20260604T203000
SUMMARY:#168819 Prior Lake 11AA Gold @ Tri-City United Titans
LOCATION:Northside Park\, Northside Park # 1
TZID:America/Chicago
UID:mbl_game_168819
END:VEVENT
END:VCALENDAR
