BEGIN:VCALENDAR
PRODID:-//Ben Fortuna//iCal4j 1.0//EN
VERSION:2.0
CALSCALE:GREGORIAN
X-WR-TIMEZONE:America/Chicago
DESCRIPTION:MBL Games
X-WR-CALNAME:MBL Games
BEGIN:VEVENT
DTSTAMP:20260426T035922Z
DTSTART:20260617T194500
DTEND:20260617T214500
SUMMARY:#168828 Rosemount Irish 11AA Blue @ Prior Lake 11AA Navy
LOCATION:Ponds\, Field #5
TZID:America/Chicago
UID:mbl_game_168828
END:VEVENT
BEGIN:VEVENT
DTSTAMP:20260426T035922Z
DTSTART:20260519T200000
DTEND:20260519T220000
SUMMARY:#168837 Prior Lake 11AA Navy @ Northfield Raiders 11AA
LOCATION:Sechler Park\, College City Field
TZID:America/Chicago
UID:mbl_game_168837
END:VEVENT
BEGIN:VEVENT
DTSTAMP:20260426T035922Z
DTSTART:20260629T194500
DTEND:20260629T214500
SUMMARY:#168838 Lakeville South @ Prior Lake 11AA Navy
LOCATION:Ponds\, Field #5
TZID:America/Chicago
UID:mbl_game_168838
END:VEVENT
BEGIN:VEVENT
DTSTAMP:20260426T035922Z
DTSTART:20260615T180000
DTEND:20260615T200000
SUMMARY:#168843 Prior Lake 11AA Navy @ Farmington Tigers
LOCATION:Dodge Middle School\, Field #3
TZID:America/Chicago
UID:mbl_game_168843
END:VEVENT
BEGIN:VEVENT
DTSTAMP:20260426T035922Z
DTSTART:20260526T180000
DTEND:20260526T200000
SUMMARY:#168848 Eagan Wildcats @ Prior Lake 11AA Navy
LOCATION:Schroeder's Acres\, Field #2
TZID:America/Chicago
UID:mbl_game_168848
END:VEVENT
BEGIN:VEVENT
DTSTAMP:20260426T035922Z
DTSTART:20260609T200000
DTEND:20260609T220000
SUMMARY:#168854 Prior Lake 11AA Navy @ Lakeville North
LOCATION:King\, Field #9
TZID:America/Chicago
UID:mbl_game_168854
END:VEVENT
BEGIN:VEVENT
DTSTAMP:20260426T035922Z
DTSTART:20260623T174500
DTEND:20260623T194500
SUMMARY:#168858 Apple Valley Eagles @ Prior Lake 11AA Navy
LOCATION:Ponds\, Field #5
TZID:America/Chicago
UID:mbl_game_168858
END:VEVENT
BEGIN:VEVENT
DTSTAMP:20260426T035922Z
DTSTART:20260518T180000
DTEND:20260518T200000
SUMMARY:#168861 Prior Lake 11AA Navy @ Eagan Wildcats
LOCATION:Lexington/Diffley\, Field #5
TZID:America/Chicago
UID:mbl_game_168861
END:VEVENT
BEGIN:VEVENT
DTSTAMP:20260426T035922Z
DTSTART:20260514T180000
DTEND:20260514T200000
SUMMARY:#168866 Prior Lake 11AA Navy @ Minneapolis Millers 11AA
LOCATION:Neiman\, MSA Batting Cages Field #3
TZID:America/Chicago
UID:mbl_game_168866
END:VEVENT
BEGIN:VEVENT
DTSTAMP:20260426T035922Z
DTSTART:20260506T194500
DTEND:20260506T214500
SUMMARY:#168868 Lakeville North @ Prior Lake 11AA Navy
LOCATION:Ponds\, Field #5
TZID:America/Chicago
UID:mbl_game_168868
END:VEVENT
BEGIN:VEVENT
DTSTAMP:20260426T035922Z
DTSTART:20260603T180000
DTEND:20260603T200000
SUMMARY:#168870 Prior Lake 11AA Navy @ Apple Valley Eagles
LOCATION:Valley Middle School\, Field #1
TZID:America/Chicago
UID:mbl_game_168870
END:VEVENT
BEGIN:VEVENT
DTSTAMP:20260426T035922Z
DTSTART:20260527T174500
DTEND:20260527T194500
SUMMARY:#168878 Minneapolis Millers 11AA @ Prior Lake 11AA Navy
LOCATION:Ponds\, Field #5
TZID:America/Chicago
UID:mbl_game_168878
END:VEVENT
BEGIN:VEVENT
DTSTAMP:20260426T035922Z
DTSTART:20260611T180000
DTEND:20260611T200000
SUMMARY:#168882 Prior Lake 11AA Navy @ Eastview Lightning
LOCATION:Field of Dreams\, Field of Dreams
TZID:America/Chicago
UID:mbl_game_168882
END:VEVENT
BEGIN:VEVENT
DTSTAMP:20260426T035922Z
DTSTART:20260513T194500
DTEND:20260513T214500
SUMMARY:#168888 Eastview Lightning @ Prior Lake 11AA Navy
LOCATION:Ponds\, Field #5
TZID:America/Chicago
UID:mbl_game_168888
END:VEVENT
END:VCALENDAR
