BEGIN:VCALENDAR
PRODID:-//Ben Fortuna//iCal4j 1.0//EN
VERSION:2.0
CALSCALE:GREGORIAN
X-WR-TIMEZONE:America/Chicago
DESCRIPTION:MBL Games
X-WR-CALNAME:MBL Games
BEGIN:VEVENT
DTSTAMP:20260426T040529Z
DTSTART:20260513T174500
DTEND:20260513T194500
SUMMARY:#166517 Chaska Hawks @ Prior Lake 11AAA
LOCATION:Ponds\, Field #5
TZID:America/Chicago
UID:mbl_game_166517
END:VEVENT
BEGIN:VEVENT
DTSTAMP:20260426T040529Z
DTSTART:20260611T174500
DTEND:20260611T194500
SUMMARY:#166524 Edina Hornets Black @ Prior Lake 11AAA
LOCATION:Ponds\, Field #5
TZID:America/Chicago
UID:mbl_game_166524
END:VEVENT
BEGIN:VEVENT
DTSTAMP:20260426T040529Z
DTSTART:20260609T174500
DTEND:20260609T194500
SUMMARY:#166531 Minneapolis Millers 11AAA @ Prior Lake 11AAA
LOCATION:Ponds\, Field #5
TZID:America/Chicago
UID:mbl_game_166531
END:VEVENT
BEGIN:VEVENT
DTSTAMP:20260426T040529Z
DTSTART:20260616T180000
DTEND:20260616T200000
SUMMARY:#166534 Prior Lake 11AAA @ Chaska Hawks
LOCATION:Community Park\, Field #1
TZID:America/Chicago
UID:mbl_game_166534
END:VEVENT
BEGIN:VEVENT
DTSTAMP:20260426T040529Z
DTSTART:20260528T173000
DTEND:20260528T193000
SUMMARY:#166535 Prior Lake 11AAA @ Edina Hornets Black
LOCATION:Courtney (formerly Braemar)\, Field #2
TZID:America/Chicago
UID:mbl_game_166535
END:VEVENT
BEGIN:VEVENT
DTSTAMP:20260426T040529Z
DTSTART:20260506T180000
DTEND:20260506T200000
SUMMARY:#166536 Prior Lake 11AAA @ Minneapolis Millers 11AAA
LOCATION:Neiman\, MSA Batting Cages Field #3
TZID:America/Chicago
UID:mbl_game_166536
END:VEVENT
BEGIN:VEVENT
DTSTAMP:20260426T040529Z
DTSTART:20260520T180000
DTEND:20260520T200000
SUMMARY:#166537 Prior Lake 11AAA @ Minnetonka 11AAA - Bryant
LOCATION:Bennett Park\, Field #2
TZID:America/Chicago
UID:mbl_game_166537
END:VEVENT
BEGIN:VEVENT
DTSTAMP:20260426T040529Z
DTSTART:20260602T174500
DTEND:20260602T194500
SUMMARY:#166538 Minnetonka 11AAA - Bryant @ Prior Lake 11AAA
LOCATION:Ponds\, Field #5
TZID:America/Chicago
UID:mbl_game_166538
END:VEVENT
BEGIN:VEVENT
DTSTAMP:20260426T040529Z
DTSTART:20260623T180000
DTEND:20260623T200000
SUMMARY:#166545 Shakopee Sabers @ Prior Lake 11AAA
LOCATION:Schroeder's Acres\, Field #2
TZID:America/Chicago
UID:mbl_game_166545
END:VEVENT
BEGIN:VEVENT
DTSTAMP:20260426T040529Z
DTSTART:20260526T180000
DTEND:20260526T200000
SUMMARY:#166546 Prior Lake 11AAA @ Shakopee Sabers
LOCATION:Westminster\, Field #2
TZID:America/Chicago
UID:mbl_game_166546
END:VEVENT
BEGIN:VEVENT
DTSTAMP:20260426T040529Z
DTSTART:20260615T180000
DTEND:20260615T200000
SUMMARY:#166547 Prior Lake 11AAA @ Wayzata 11AAA Blue
LOCATION:Greenwood Elem. School\, Field #3
TZID:America/Chicago
UID:mbl_game_166547
END:VEVENT
BEGIN:VEVENT
DTSTAMP:20260426T040529Z
DTSTART:20260626T174500
DTEND:20260626T194500
SUMMARY:#166552 Wayzata 11AAA Blue @ Prior Lake 11AAA
LOCATION:Ponds\, Field #5
TZID:America/Chicago
UID:mbl_game_166552
END:VEVENT
BEGIN:VEVENT
DTSTAMP:20260426T040529Z
DTSTART:20260601T194500
DTEND:20260601T214500
SUMMARY:#166559 Westonka 11AAA @ Prior Lake 11AAA
LOCATION:Ponds\, Field #5
TZID:America/Chicago
UID:mbl_game_166559
END:VEVENT
BEGIN:VEVENT
DTSTAMP:20260426T040529Z
DTSTART:20260504T174500
DTEND:20260504T194500
SUMMARY:#166609 Prior Lake 11AAA @ Waconia Wildcats
LOCATION:Ponds\, Field #5
TZID:America/Chicago
UID:mbl_game_166609
END:VEVENT
END:VCALENDAR
