BEGIN:VCALENDAR
PRODID:-//Ben Fortuna//iCal4j 1.0//EN
VERSION:2.0
CALSCALE:GREGORIAN
X-WR-TIMEZONE:America/Chicago
DESCRIPTION:MBL Games
X-WR-CALNAME:MBL Games
BEGIN:VEVENT
DTSTAMP:20260426T023008Z
DTSTART:20260628T140000
DTEND:20260628T160000
SUMMARY:#167056 Prior Lake 12A Navy @ Chaska Hawks
LOCATION:Community Park\, Field #4
TZID:America/Chicago
UID:mbl_game_167056
END:VEVENT
BEGIN:VEVENT
DTSTAMP:20260426T023008Z
DTSTART:20260504T180000
DTEND:20260504T200000
SUMMARY:#167057 Prior Lake 12A Navy @ New Prague 12A
LOCATION:CEC Field\, CEC Field
TZID:America/Chicago
UID:mbl_game_167057
END:VEVENT
BEGIN:VEVENT
DTSTAMP:20260426T023008Z
DTSTART:20260603T174500
DTEND:20260603T194500
SUMMARY:#167062 Edina Gold 12A @ Prior Lake 12A Navy
LOCATION:Ryan\, Field #3
TZID:America/Chicago
UID:mbl_game_167062
END:VEVENT
BEGIN:VEVENT
DTSTAMP:20260426T023008Z
DTSTART:20260624T194500
DTEND:20260624T214500
SUMMARY:#167076 Waconia Wildcats @ Prior Lake 12A Navy
LOCATION:Ryan\, Field #3
TZID:America/Chicago
UID:mbl_game_167076
END:VEVENT
BEGIN:VEVENT
DTSTAMP:20260426T023008Z
DTSTART:20260519T194500
DTEND:20260519T214500
SUMMARY:#167078 Shakopee Sabers @ Prior Lake 12A Navy
LOCATION:Ryan\, Field #4
TZID:America/Chicago
UID:mbl_game_167078
END:VEVENT
BEGIN:VEVENT
DTSTAMP:20260426T023008Z
DTSTART:20260527T173000
DTEND:20260527T193000
SUMMARY:#167082 Prior Lake 12A Navy @ Chanhassen 12A - Silver
LOCATION:Lake Ann\, Field #1
TZID:America/Chicago
UID:mbl_game_167082
END:VEVENT
BEGIN:VEVENT
DTSTAMP:20260426T023008Z
DTSTART:20260503T123000
DTEND:20260503T143000
SUMMARY:#167094 Prior Lake 12A Navy @ Minneapolis Millers 12A Blue
LOCATION:Neiman\, MSA Batting Cages Field #5
TZID:America/Chicago
UID:mbl_game_167094
END:VEVENT
BEGIN:VEVENT
DTSTAMP:20260426T023008Z
DTSTART:20260622T194500
DTEND:20260622T214500
SUMMARY:#167095 Westonka 12A @ Prior Lake 12A Navy
LOCATION:Ryan\, Field #2
TZID:America/Chicago
UID:mbl_game_167095
END:VEVENT
BEGIN:VEVENT
DTSTAMP:20260426T023008Z
DTSTART:20260601T174500
DTEND:20260601T194500
SUMMARY:#167098 Orono Spartans @ Prior Lake 12A Navy
LOCATION:Ryan\, Field #2
TZID:America/Chicago
UID:mbl_game_167098
END:VEVENT
BEGIN:VEVENT
DTSTAMP:20260426T023008Z
DTSTART:20260617T173000
DTEND:20260617T193000
SUMMARY:#167101 Prior Lake 12A Navy @ Orono Spartans
LOCATION:Holbrook\, Holbrook Field
TZID:America/Chicago
UID:mbl_game_167101
END:VEVENT
BEGIN:VEVENT
DTSTAMP:20260426T023008Z
DTSTART:20260520T194500
DTEND:20260520T214500
SUMMARY:#167104 Minneapolis Millers 12A Blue @ Prior Lake 12A Navy
LOCATION:Ryan\, Field #3
TZID:America/Chicago
UID:mbl_game_167104
END:VEVENT
BEGIN:VEVENT
DTSTAMP:20260426T023008Z
DTSTART:20260512T190000
DTEND:20260512T210000
SUMMARY:#167113 Prior Lake 12A Navy @ Westonka 12A
LOCATION:Westonka Rec\, Field #2 (Jaycee)
TZID:America/Chicago
UID:mbl_game_167113
END:VEVENT
BEGIN:VEVENT
DTSTAMP:20260426T023008Z
DTSTART:20260610T174500
DTEND:20260610T194500
SUMMARY:#167121 Chaska Hawks @ Prior Lake 12A Navy
LOCATION:Ryan\, Field #2
TZID:America/Chicago
UID:mbl_game_167121
END:VEVENT
BEGIN:VEVENT
DTSTAMP:20260426T023008Z
DTSTART:20260618T174500
DTEND:20260618T194500
SUMMARY:#167122 Prior Lake 12A Navy @ Prior Lake 12A Gold
LOCATION:Ryan\, Field #3
TZID:America/Chicago
UID:mbl_game_167122
END:VEVENT
END:VCALENDAR
