BEGIN:VCALENDAR
PRODID:-//Ben Fortuna//iCal4j 1.0//EN
VERSION:2.0
CALSCALE:GREGORIAN
X-WR-TIMEZONE:America/Chicago
DESCRIPTION:MBL Games
X-WR-CALNAME:MBL Games
BEGIN:VEVENT
DTSTAMP:20260426T003724Z
DTSTART:20260512T194500
DTEND:20260512T214500
SUMMARY:#167055 Chanhassen 12A - Silver @ Prior Lake 12A Gold
LOCATION:Ryan\, Field #2
TZID:America/Chicago
UID:mbl_game_167055
END:VEVENT
BEGIN:VEVENT
DTSTAMP:20260426T003724Z
DTSTART:20260624T174500
DTEND:20260624T194500
SUMMARY:#167066 New Prague 12A @ Prior Lake 12A Gold
LOCATION:Ryan\, Field #3
TZID:America/Chicago
UID:mbl_game_167066
END:VEVENT
BEGIN:VEVENT
DTSTAMP:20260426T003724Z
DTSTART:20260501T174500
DTEND:20260501T194500
SUMMARY:#167071 Edina Gold 12A @ Prior Lake 12A Gold
LOCATION:Ryan\, Field #3
TZID:America/Chicago
UID:mbl_game_167071
END:VEVENT
BEGIN:VEVENT
DTSTAMP:20260426T003724Z
DTSTART:20260604T194500
DTEND:20260604T214500
SUMMARY:#167072 Waconia Wildcats @ Prior Lake 12A Gold
LOCATION:Ryan\, Field #3
TZID:America/Chicago
UID:mbl_game_167072
END:VEVENT
BEGIN:VEVENT
DTSTAMP:20260426T003724Z
DTSTART:20260520T180000
DTEND:20260520T200000
SUMMARY:#167081 Prior Lake 12A Gold @ Shakopee Sabers
LOCATION:Green Meadow\, Green Meadow Park
TZID:America/Chicago
UID:mbl_game_167081
END:VEVENT
BEGIN:VEVENT
DTSTAMP:20260426T003724Z
DTSTART:20260609T193000
DTEND:20260609T213000
SUMMARY:#167083 Prior Lake 12A Gold @ Orono Spartans
LOCATION:Holbrook\, Holbrook Field
TZID:America/Chicago
UID:mbl_game_167083
END:VEVENT
BEGIN:VEVENT
DTSTAMP:20260426T003724Z
DTSTART:20260506T174500
DTEND:20260506T194500
SUMMARY:#167092 Shakopee Sabers @ Prior Lake 12A Gold
LOCATION:Ryan\, Field #3
TZID:America/Chicago
UID:mbl_game_167092
END:VEVENT
BEGIN:VEVENT
DTSTAMP:20260426T003724Z
DTSTART:20260616T201500
DTEND:20260616T221500
SUMMARY:#167102 Prior Lake 12A Gold @ Minneapolis Millers 12A Blue
LOCATION:Neiman\, MSA Batting Cages Field #5
TZID:America/Chicago
UID:mbl_game_167102
END:VEVENT
BEGIN:VEVENT
DTSTAMP:20260426T003724Z
DTSTART:20260508T180000
DTEND:20260508T200000
SUMMARY:#167110 Prior Lake 12A Gold @ Waconia Wildcats
LOCATION:Waconia High School\, West B
TZID:America/Chicago
UID:mbl_game_167110
END:VEVENT
BEGIN:VEVENT
DTSTAMP:20260426T003724Z
DTSTART:20260527T190000
DTEND:20260527T210000
SUMMARY:#167118 Prior Lake 12A Gold @ Westonka 12A
LOCATION:Westonka Rec\, Field #1 (Lions)
TZID:America/Chicago
UID:mbl_game_167118
END:VEVENT
BEGIN:VEVENT
DTSTAMP:20260426T003724Z
DTSTART:20260618T174500
DTEND:20260618T194500
SUMMARY:#167122 Prior Lake 12A Navy @ Prior Lake 12A Gold
LOCATION:Ryan\, Field #3
TZID:America/Chicago
UID:mbl_game_167122
END:VEVENT
BEGIN:VEVENT
DTSTAMP:20260426T003724Z
DTSTART:20260602T183000
DTEND:20260602T203000
SUMMARY:#167123 Prior Lake 12A Gold @ Edina Gold 12A
LOCATION:Countryside Park\, Countryside Prep
TZID:America/Chicago
UID:mbl_game_167123
END:VEVENT
BEGIN:VEVENT
DTSTAMP:20260426T003724Z
DTSTART:20260519T180000
DTEND:20260519T200000
SUMMARY:#167126 Prior Lake 12A Gold @ Chaska Hawks
LOCATION:Lions Park\, Field #2
TZID:America/Chicago
UID:mbl_game_167126
END:VEVENT
BEGIN:VEVENT
DTSTAMP:20260426T003724Z
DTSTART:20260623T194500
DTEND:20260623T214500
SUMMARY:#167127 Orono Spartans @ Prior Lake 12A Gold
LOCATION:Ryan\, Field #3
TZID:America/Chicago
UID:mbl_game_167127
END:VEVENT
END:VCALENDAR
