BEGIN:VCALENDAR
PRODID:-//Ben Fortuna//iCal4j 1.0//EN
VERSION:2.0
CALSCALE:GREGORIAN
X-WR-TIMEZONE:America/Chicago
DESCRIPTION:MBL Games
X-WR-CALNAME:MBL Games
BEGIN:VEVENT
DTSTAMP:20260426T035754Z
DTSTART:20260610T180000
DTEND:20260610T200000
SUMMARY:#169297 Prior Lake 12AA Navy @ New Prague 12AA Red
LOCATION:CEC Field\, CEC Field
TZID:America/Chicago
UID:mbl_game_169297
END:VEVENT
BEGIN:VEVENT
DTSTAMP:20260426T035754Z
DTSTART:20260505T174500
DTEND:20260505T194500
SUMMARY:#169564 Shakopee Sabers @ Prior Lake 12AA Navy
LOCATION:Ryan\, Field #2
TZID:America/Chicago
UID:mbl_game_169564
END:VEVENT
BEGIN:VEVENT
DTSTAMP:20260426T035754Z
DTSTART:20260504T180000
DTEND:20260504T200000
SUMMARY:#169568 Prior Lake 12AA Navy @ Bloomington Bandits Blue
LOCATION:Hrbek Fields\, Field #5
TZID:America/Chicago
UID:mbl_game_169568
END:VEVENT
BEGIN:VEVENT
DTSTAMP:20260426T035754Z
DTSTART:20260428T174500
DTEND:20260428T194500
SUMMARY:#169573 Prior Lake 12AA Gold @ Prior Lake 12AA Navy
LOCATION:Ryan\, Field #3
TZID:America/Chicago
UID:mbl_game_169573
END:VEVENT
BEGIN:VEVENT
DTSTAMP:20260426T035754Z
DTSTART:20260609T180000
DTEND:20260609T200000
SUMMARY:#169575 Prior Lake 12AA Navy @ Waconia Wildcats
LOCATION:Waconia High School\, West B
TZID:America/Chicago
UID:mbl_game_169575
END:VEVENT
BEGIN:VEVENT
DTSTAMP:20260426T035754Z
DTSTART:20260511T174500
DTEND:20260511T194500
SUMMARY:#169582 Tri-City United Titans 12AA @ Prior Lake 12AA Navy
LOCATION:Ryan\, Field #2
TZID:America/Chicago
UID:mbl_game_169582
END:VEVENT
BEGIN:VEVENT
DTSTAMP:20260426T035754Z
DTSTART:20260512T200000
DTEND:20260512T220000
SUMMARY:#169585 Prior Lake 12AA Navy @ Bloomington Bandits 12AA Red
LOCATION:Hrbek Fields\, Field #5
TZID:America/Chicago
UID:mbl_game_169585
END:VEVENT
BEGIN:VEVENT
DTSTAMP:20260426T035754Z
DTSTART:20260617T194500
DTEND:20260617T214500
SUMMARY:#169591 Eden Prairie Eagles 12AA @ Prior Lake 12AA Navy
LOCATION:Ryan\, Field #2
TZID:America/Chicago
UID:mbl_game_169591
END:VEVENT
BEGIN:VEVENT
DTSTAMP:20260426T035754Z
DTSTART:20260518T174500
DTEND:20260518T194500
SUMMARY:#169597 Prior Lake 12AA Navy @ Chaska Hawks
LOCATION:Lions Park\, Field #2
TZID:America/Chicago
UID:mbl_game_169597
END:VEVENT
BEGIN:VEVENT
DTSTAMP:20260426T035754Z
DTSTART:20260528T180000
DTEND:20260528T200000
SUMMARY:#169598 Prior Lake 12AA Navy @ Eden Prairie Eagles 12AA
LOCATION:Miller Park\, Field #3
TZID:America/Chicago
UID:mbl_game_169598
END:VEVENT
BEGIN:VEVENT
DTSTAMP:20260426T035754Z
DTSTART:20260603T174500
DTEND:20260603T194500
SUMMARY:#169600 Chaska Hawks @ Prior Lake 12AA Navy
LOCATION:Ryan\, Field #2
TZID:America/Chicago
UID:mbl_game_169600
END:VEVENT
BEGIN:VEVENT
DTSTAMP:20260426T035754Z
DTSTART:20260519T194500
DTEND:20260519T214500
SUMMARY:#169609 Bloomington Bandits 12AA Red @ Prior Lake 12AA Navy
LOCATION:Ryan\, Field #2
TZID:America/Chicago
UID:mbl_game_169609
END:VEVENT
BEGIN:VEVENT
DTSTAMP:20260426T035754Z
DTSTART:20260618T193000
DTEND:20260618T213000
SUMMARY:#169614 Prior Lake 12AA Navy @ Chanhassen 12AA - Gold
LOCATION:Lake Ann\, Field #1
TZID:America/Chicago
UID:mbl_game_169614
END:VEVENT
BEGIN:VEVENT
DTSTAMP:20260426T035754Z
DTSTART:20260526T194500
DTEND:20260526T214500
SUMMARY:#169618 Chanhassen 12AA - Gold @ Prior Lake 12AA Navy
LOCATION:Ryan\, Field #3
TZID:America/Chicago
UID:mbl_game_169618
END:VEVENT
END:VCALENDAR
