BEGIN:VCALENDAR
PRODID:-//Ben Fortuna//iCal4j 1.0//EN
VERSION:2.0
CALSCALE:GREGORIAN
X-WR-TIMEZONE:America/Chicago
DESCRIPTION:MBL Games
X-WR-CALNAME:MBL Games
BEGIN:VEVENT
DTSTAMP:20260426T035754Z
DTSTART:20260603T180000
DTEND:20260603T200000
SUMMARY:#169299 Prior Lake 12AA Gold @ Tri-City United Titans 12AA
LOCATION:Ron Germscheid\, Memorial Field
TZID:America/Chicago
UID:mbl_game_169299
END:VEVENT
BEGIN:VEVENT
DTSTAMP:20260426T035754Z
DTSTART:20260429T174500
DTEND:20260429T194500
SUMMARY:#169563 Chanhassen 12AA - Gold @ Prior Lake 12AA Gold
LOCATION:Ryan\, Field #3
TZID:America/Chicago
UID:mbl_game_169563
END:VEVENT
BEGIN:VEVENT
DTSTAMP:20260426T035754Z
DTSTART:20260602T180000
DTEND:20260602T200000
SUMMARY:#169571 Prior Lake 12AA Gold @ Eden Prairie Eagles 12AA
LOCATION:Miller Park\, Field #3
TZID:America/Chicago
UID:mbl_game_169571
END:VEVENT
BEGIN:VEVENT
DTSTAMP:20260426T035754Z
DTSTART:20260506T174500
DTEND:20260506T194500
SUMMARY:#169572 Waconia Wildcats @ Prior Lake 12AA Gold
LOCATION:Ryan\, Field #2
TZID:America/Chicago
UID:mbl_game_169572
END:VEVENT
BEGIN:VEVENT
DTSTAMP:20260426T035754Z
DTSTART:20260428T174500
DTEND:20260428T194500
SUMMARY:#169573 Prior Lake 12AA Gold @ Prior Lake 12AA Navy
LOCATION:Ryan\, Field #3
TZID:America/Chicago
UID:mbl_game_169573
END:VEVENT
BEGIN:VEVENT
DTSTAMP:20260426T035754Z
DTSTART:20260527T174500
DTEND:20260527T194500
SUMMARY:#169581 New Prague 12AA Black @ Prior Lake 12AA Gold
LOCATION:Ryan\, Field #2
TZID:America/Chicago
UID:mbl_game_169581
END:VEVENT
BEGIN:VEVENT
DTSTAMP:20260426T035754Z
DTSTART:20260512T174500
DTEND:20260512T194500
SUMMARY:#169586 Prior Lake 12AA Gold @ Bloomington Bandits Blue
LOCATION:Hrbek Fields\, Field #5
TZID:America/Chicago
UID:mbl_game_169586
END:VEVENT
BEGIN:VEVENT
DTSTAMP:20260426T035754Z
DTSTART:20260505T194500
DTEND:20260505T214500
SUMMARY:#169590 Shakopee Sabers @ Prior Lake 12AA Gold
LOCATION:Ryan\, Field #2
TZID:America/Chicago
UID:mbl_game_169590
END:VEVENT
BEGIN:VEVENT
DTSTAMP:20260426T035754Z
DTSTART:20260519T174500
DTEND:20260519T194500
SUMMARY:#169599 Bloomington Bandits 12AA Red @ Prior Lake 12AA Gold
LOCATION:Ryan\, Field #2
TZID:America/Chicago
UID:mbl_game_169599
END:VEVENT
BEGIN:VEVENT
DTSTAMP:20260426T035754Z
DTSTART:20260526T180000
DTEND:20260526T200000
SUMMARY:#169601 Prior Lake 12AA Gold @ Shakopee Sabers
LOCATION:Green Meadow\, Green Meadow Park
TZID:America/Chicago
UID:mbl_game_169601
END:VEVENT
BEGIN:VEVENT
DTSTAMP:20260426T035754Z
DTSTART:20260519T194500
DTEND:20260519T214500
SUMMARY:#169608 Bloomington Bandits Blue @ Prior Lake 12AA Gold
LOCATION:Ryan\, Field #3
TZID:America/Chicago
UID:mbl_game_169608
END:VEVENT
BEGIN:VEVENT
DTSTAMP:20260426T035754Z
DTSTART:20260609T200000
DTEND:20260609T220000
SUMMARY:#169612 Prior Lake 12AA Gold @ Bloomington Bandits 12AA Red
LOCATION:Hrbek Fields\, Field #5
TZID:America/Chicago
UID:mbl_game_169612
END:VEVENT
BEGIN:VEVENT
DTSTAMP:20260426T035754Z
DTSTART:20260615T174500
DTEND:20260615T194500
SUMMARY:#169615 Prior Lake 12AA Gold @ Chaska Hawks
LOCATION:Lions Park\, Field #2
TZID:America/Chicago
UID:mbl_game_169615
END:VEVENT
BEGIN:VEVENT
DTSTAMP:20260426T035754Z
DTSTART:20260610T194500
DTEND:20260610T214500
SUMMARY:#169617 Chaska Hawks @ Prior Lake 12AA Gold
LOCATION:Ryan\, Field #3
TZID:America/Chicago
UID:mbl_game_169617
END:VEVENT
END:VCALENDAR
