BEGIN:VCALENDAR
PRODID:-//Ben Fortuna//iCal4j 1.0//EN
VERSION:2.0
CALSCALE:GREGORIAN
X-WR-TIMEZONE:America/Chicago
DESCRIPTION:MBL Games
X-WR-CALNAME:MBL Games
BEGIN:VEVENT
DTSTAMP:20260426T035755Z
DTSTART:20260625T174500
DTEND:20260625T194500
SUMMARY:#167297 Prior Lake 12AAA @ Wayzata 12AAA Blue
LOCATION:Wayzata West Middle School\, Field 2
TZID:America/Chicago
UID:mbl_game_167297
END:VEVENT
BEGIN:VEVENT
DTSTAMP:20260426T035755Z
DTSTART:20260505T174500
DTEND:20260505T194500
SUMMARY:#167303 Bloomington Bandits @ Prior Lake 12AAA
LOCATION:Ryan\, Field #3
TZID:America/Chicago
UID:mbl_game_167303
END:VEVENT
BEGIN:VEVENT
DTSTAMP:20260426T035755Z
DTSTART:20260506T194500
DTEND:20260506T214500
SUMMARY:#167310 Chanhassen 12AAA - Blue @ Prior Lake 12AAA
LOCATION:Ryan\, Field #2
TZID:America/Chicago
UID:mbl_game_167310
END:VEVENT
BEGIN:VEVENT
DTSTAMP:20260426T035755Z
DTSTART:20260526T194500
DTEND:20260526T214500
SUMMARY:#167317 Chaska Hawks @ Prior Lake 12AAA
LOCATION:Ryan\, Field #2
TZID:America/Chicago
UID:mbl_game_167317
END:VEVENT
BEGIN:VEVENT
DTSTAMP:20260426T035755Z
DTSTART:20260514T174500
DTEND:20260514T194500
SUMMARY:#167324 Eden Prairie Eagles 12AAA @ Prior Lake 12AAA
LOCATION:Ryan\, Field #2
TZID:America/Chicago
UID:mbl_game_167324
END:VEVENT
BEGIN:VEVENT
DTSTAMP:20260426T035755Z
DTSTART:20260520T200000
DTEND:20260520T220000
SUMMARY:#167326 Prior Lake 12AAA @ Bloomington Bandits
LOCATION:Hrbek Fields\, Field #5
TZID:America/Chicago
UID:mbl_game_167326
END:VEVENT
BEGIN:VEVENT
DTSTAMP:20260426T035755Z
DTSTART:20260617T173000
DTEND:20260617T193000
SUMMARY:#167327 Prior Lake 12AAA @ Chanhassen 12AAA - Blue
LOCATION:Lake Ann\, Field #1
TZID:America/Chicago
UID:mbl_game_167327
END:VEVENT
BEGIN:VEVENT
DTSTAMP:20260426T035755Z
DTSTART:20260502T120000
DTEND:20260502T140000
SUMMARY:#167328 Prior Lake 12AAA @ Chaska Hawks
LOCATION:Community Park\, Field #4
TZID:America/Chicago
UID:mbl_game_167328
END:VEVENT
BEGIN:VEVENT
DTSTAMP:20260426T035755Z
DTSTART:20260527T180000
DTEND:20260527T200000
SUMMARY:#167329 Prior Lake 12AAA @ Eden Prairie Eagles 12AAA
LOCATION:Miller Park\, Field #3
TZID:America/Chicago
UID:mbl_game_167329
END:VEVENT
BEGIN:VEVENT
DTSTAMP:20260426T035755Z
DTSTART:20260512T173000
DTEND:20260512T193000
SUMMARY:#167330 Prior Lake 12AAA @ New Prague 12AAA
LOCATION:CEC Field\, CEC Field
TZID:America/Chicago
UID:mbl_game_167330
END:VEVENT
BEGIN:VEVENT
DTSTAMP:20260426T035755Z
DTSTART:20260602T194500
DTEND:20260602T214500
SUMMARY:#167331 New Prague 12AAA @ Prior Lake 12AAA
LOCATION:Ryan\, Field #2
TZID:America/Chicago
UID:mbl_game_167331
END:VEVENT
BEGIN:VEVENT
DTSTAMP:20260426T035755Z
DTSTART:20260609T194500
DTEND:20260609T214500
SUMMARY:#167338 Waconia Wildcats @ Prior Lake 12AAA
LOCATION:Ryan\, Field #2
TZID:America/Chicago
UID:mbl_game_167338
END:VEVENT
BEGIN:VEVENT
DTSTAMP:20260426T035755Z
DTSTART:20260623T180000
DTEND:20260623T200000
SUMMARY:#167339 Prior Lake 12AAA @ Waconia Wildcats
LOCATION:Bayview Elementary School\, Field #1
TZID:America/Chicago
UID:mbl_game_167339
END:VEVENT
BEGIN:VEVENT
DTSTAMP:20260426T035755Z
DTSTART:20260518T194500
DTEND:20260518T214500
SUMMARY:#167345 Minnetonka 12AAA - Blue - Edlefsen @ Prior Lake 12AAA
LOCATION:Ryan\, Field #2
TZID:America/Chicago
UID:mbl_game_167345
END:VEVENT
END:VCALENDAR
