BEGIN:VCALENDAR
PRODID:-//Ben Fortuna//iCal4j 1.0//EN
VERSION:2.0
CALSCALE:GREGORIAN
X-WR-TIMEZONE:America/Chicago
DESCRIPTION:MBL Games
X-WR-CALNAME:MBL Games
BEGIN:VEVENT
DTSTAMP:20260426T035754Z
DTSTART:20260610T174500
DTEND:20260610T194500
SUMMARY:#169097 Bloomington 13A Blue @ Prior Lake 13A Navy
LOCATION:Ryan\, Field #3
TZID:America/Chicago
UID:mbl_game_169097
END:VEVENT
BEGIN:VEVENT
DTSTAMP:20260426T035754Z
DTSTART:20260601T173000
DTEND:20260601T193000
SUMMARY:#169101 Prior Lake 13A Navy @ Bloomington 13A Blue
LOCATION:Hrbek Fields\, Field #5
TZID:America/Chicago
UID:mbl_game_169101
END:VEVENT
BEGIN:VEVENT
DTSTAMP:20260426T035754Z
DTSTART:20260622T180000
DTEND:20260622T200000
SUMMARY:#169104 Prior Lake 13A Navy @ Eden Prairie Eagles 13A Black
LOCATION:Flying Cloud Fields\, Field #2
TZID:America/Chicago
UID:mbl_game_169104
END:VEVENT
BEGIN:VEVENT
DTSTAMP:20260426T035754Z
DTSTART:20260514T194500
DTEND:20260514T214500
SUMMARY:#169109 Eden Prairie Eagles 13A Black @ Prior Lake 13A Navy
LOCATION:Ryan\, Field #3
TZID:America/Chicago
UID:mbl_game_169109
END:VEVENT
BEGIN:VEVENT
DTSTAMP:20260426T035754Z
DTSTART:20260618T180000
DTEND:20260618T200000
SUMMARY:#169115 Prior Lake 13A Navy @ Chaska Hawks
LOCATION:Community Park\, Field #4
TZID:America/Chicago
UID:mbl_game_169115
END:VEVENT
BEGIN:VEVENT
DTSTAMP:20260426T035754Z
DTSTART:20260603T180000
DTEND:20260603T193000
SUMMARY:#169118 Prior Lake 13A Navy @ Jordan Hubmen
LOCATION:Holzer Memorial Park\, Field #1
TZID:America/Chicago
UID:mbl_game_169118
END:VEVENT
BEGIN:VEVENT
DTSTAMP:20260426T035754Z
DTSTART:20260616T174500
DTEND:20260616T194500
SUMMARY:#169121 Chaska Hawks @ Prior Lake 13A Navy
LOCATION:Ryan\, Field #3
TZID:America/Chicago
UID:mbl_game_169121
END:VEVENT
BEGIN:VEVENT
DTSTAMP:20260426T035754Z
DTSTART:20260518T180000
DTEND:20260518T200000
SUMMARY:#169124 Prior Lake 13A Navy @ Waconia Wildcats
LOCATION:Bayview Elementary School\, Field #1
TZID:America/Chicago
UID:mbl_game_169124
END:VEVENT
BEGIN:VEVENT
DTSTAMP:20260426T035754Z
DTSTART:20260504T174500
DTEND:20260504T194500
SUMMARY:#169133 Waconia Wildcats @ Prior Lake 13A Navy
LOCATION:Ryan\, Field #3
TZID:America/Chicago
UID:mbl_game_169133
END:VEVENT
BEGIN:VEVENT
DTSTAMP:20260426T035754Z
DTSTART:20260603T194500
DTEND:20260603T214500
SUMMARY:#169145 Jordan Hubmen @ Prior Lake 13A Navy
LOCATION:Holzer Memorial Park\, Field #1
TZID:America/Chicago
UID:mbl_game_169145
END:VEVENT
BEGIN:VEVENT
DTSTAMP:20260426T035754Z
DTSTART:20260519T180000
DTEND:20260519T200000
SUMMARY:#169153 Prior Lake 13A Navy @ Eden Prairie Eagles 13A Red
LOCATION:Flying Cloud Fields\, Field #2
TZID:America/Chicago
UID:mbl_game_169153
END:VEVENT
BEGIN:VEVENT
DTSTAMP:20260426T035754Z
DTSTART:20260526T174500
DTEND:20260526T194500
SUMMARY:#169157 New Prague 13A @ Prior Lake 13A Navy
LOCATION:Ryan\, Field #2
TZID:America/Chicago
UID:mbl_game_169157
END:VEVENT
BEGIN:VEVENT
DTSTAMP:20260426T035754Z
DTSTART:20260527T180000
DTEND:20260527T200000
SUMMARY:#169159 Prior Lake 13A Navy @ Tri-City United Titans
LOCATION:Lonsdale Jaycee Park\, Field #2
TZID:America/Chicago
UID:mbl_game_169159
END:VEVENT
BEGIN:VEVENT
DTSTAMP:20260426T035754Z
DTSTART:20260623T174500
DTEND:20260623T194500
SUMMARY:#169169 Prior Lake 13A Gold @ Prior Lake 13A Navy
LOCATION:Ryan\, Field #3
TZID:America/Chicago
UID:mbl_game_169169
END:VEVENT
END:VCALENDAR
