BEGIN:VCALENDAR
PRODID:-//Ben Fortuna//iCal4j 1.0//EN
VERSION:2.0
CALSCALE:GREGORIAN
X-WR-TIMEZONE:America/Chicago
DESCRIPTION:MBL Games
X-WR-CALNAME:MBL Games
BEGIN:VEVENT
DTSTAMP:20260426T040954Z
DTSTART:20260601T174500
DTEND:20260601T194500
SUMMARY:#169096 Bloomington 13A - Red @ Prior Lake 13A Gold
LOCATION:Ryan\, Field #3
TZID:America/Chicago
UID:mbl_game_169096
END:VEVENT
BEGIN:VEVENT
DTSTAMP:20260426T040954Z
DTSTART:20260520T173000
DTEND:20260520T193000
SUMMARY:#169102 Prior Lake 13A Gold @ Bloomington 13A - Red
LOCATION:Hrbek Fields\, Field #5
TZID:America/Chicago
UID:mbl_game_169102
END:VEVENT
BEGIN:VEVENT
DTSTAMP:20260426T040954Z
DTSTART:20260514T180000
DTEND:20260514T200000
SUMMARY:#169105 Prior Lake 13A Gold @ Eden Prairie Eagles 13A Red
LOCATION:Flying Cloud Fields\, Field #2
TZID:America/Chicago
UID:mbl_game_169105
END:VEVENT
BEGIN:VEVENT
DTSTAMP:20260426T040954Z
DTSTART:20260506T194500
DTEND:20260506T214500
SUMMARY:#169108 Eden Prairie Eagles 13A Red @ Prior Lake 13A Gold
LOCATION:Ryan\, Field #3
TZID:America/Chicago
UID:mbl_game_169108
END:VEVENT
BEGIN:VEVENT
DTSTAMP:20260426T040954Z
DTSTART:20260625T174500
DTEND:20260625T194500
SUMMARY:#169119 Prior Lake 13A Gold @ New Prague 13A
LOCATION:New Prague Middle School Field\, New Prague Middle School
TZID:America/Chicago
UID:mbl_game_169119
END:VEVENT
BEGIN:VEVENT
DTSTAMP:20260426T040954Z
DTSTART:20260610T194500
DTEND:20260610T214500
SUMMARY:#169120 Shakopee Sabers @ Prior Lake 13A Gold
LOCATION:Ryan\, Field #2
TZID:America/Chicago
UID:mbl_game_169120
END:VEVENT
BEGIN:VEVENT
DTSTAMP:20260426T040954Z
DTSTART:20260528T173000
DTEND:20260528T193000
SUMMARY:#169122 Prior Lake 13A Gold @ Shakopee Sabers
LOCATION:Jackson Field\, Jackson Field
TZID:America/Chicago
UID:mbl_game_169122
END:VEVENT
BEGIN:VEVENT
DTSTAMP:20260426T040954Z
DTSTART:20260513T180000
DTEND:20260513T200000
SUMMARY:#169123 Prior Lake 13A Gold @ Tri-City United Titans
LOCATION:Lonsdale Jaycee Park\, Field #2
TZID:America/Chicago
UID:mbl_game_169123
END:VEVENT
BEGIN:VEVENT
DTSTAMP:20260426T040954Z
DTSTART:20260602T174500
DTEND:20260602T194500
SUMMARY:#169132 Tri-City United Titans @ Prior Lake 13A Gold
LOCATION:Ryan\, Field #2
TZID:America/Chicago
UID:mbl_game_169132
END:VEVENT
BEGIN:VEVENT
DTSTAMP:20260426T040954Z
DTSTART:20260616T174500
DTEND:20260616T194500
SUMMARY:#169144 New Prague 13A @ Prior Lake 13A Gold
LOCATION:Ryan\, Field #2
TZID:America/Chicago
UID:mbl_game_169144
END:VEVENT
BEGIN:VEVENT
DTSTAMP:20260426T040954Z
DTSTART:20260527T173000
DTEND:20260527T193000
SUMMARY:#169149 Prior Lake 13A Gold @ Bloomington 13A Blue
LOCATION:Hrbek Fields\, Field #5
TZID:America/Chicago
UID:mbl_game_169149
END:VEVENT
BEGIN:VEVENT
DTSTAMP:20260426T040954Z
DTSTART:20260429T194500
DTEND:20260429T214500
SUMMARY:#169156 Eden Prairie Eagles 13A Black @ Prior Lake 13A Gold
LOCATION:Ryan\, Field #3
TZID:America/Chicago
UID:mbl_game_169156
END:VEVENT
BEGIN:VEVENT
DTSTAMP:20260426T040954Z
DTSTART:20260518T194500
DTEND:20260518T214500
SUMMARY:#169168 Chaska Hawks @ Prior Lake 13A Gold
LOCATION:Ryan\, Field #3
TZID:America/Chicago
UID:mbl_game_169168
END:VEVENT
BEGIN:VEVENT
DTSTAMP:20260426T040954Z
DTSTART:20260623T174500
DTEND:20260623T194500
SUMMARY:#169169 Prior Lake 13A Gold @ Prior Lake 13A Navy
LOCATION:Ryan\, Field #3
TZID:America/Chicago
UID:mbl_game_169169
END:VEVENT
END:VCALENDAR
