BEGIN:VCALENDAR
PRODID:-//Ben Fortuna//iCal4j 1.0//EN
VERSION:2.0
CALSCALE:GREGORIAN
X-WR-TIMEZONE:America/Chicago
DESCRIPTION:MBL Games
X-WR-CALNAME:MBL Games
BEGIN:VEVENT
DTSTAMP:20260426T035755Z
DTSTART:20260625T200000
DTEND:20260625T220000
SUMMARY:#168309 Prior Lake 13AA Gold @ Bloomington Bandits
LOCATION:Hrbek Fields\, Field #5
TZID:America/Chicago
UID:mbl_game_168309
END:VEVENT
BEGIN:VEVENT
DTSTAMP:20260426T035755Z
DTSTART:20260424T173000
DTEND:20260424T193000
SUMMARY:#168310 Prior Lake 13AA Gold @ Chanhassen 13AA - Gold
LOCATION:Diethelm Park\, Field #1
TZID:America/Chicago
UID:mbl_game_168310
END:VEVENT
BEGIN:VEVENT
DTSTAMP:20260426T035755Z
DTSTART:20260526T174500
DTEND:20260526T194500
SUMMARY:#168314 Prior Lake 13AA Navy @ Prior Lake 13AA Gold
LOCATION:Ryan\, Field #3
TZID:America/Chicago
UID:mbl_game_168314
END:VEVENT
BEGIN:VEVENT
DTSTAMP:20260426T035755Z
DTSTART:20260623T174500
DTEND:20260623T194500
SUMMARY:#168325 New Prague 13AA @ Prior Lake 13AA Gold
LOCATION:Ryan\, Field #2
TZID:America/Chicago
UID:mbl_game_168325
END:VEVENT
BEGIN:VEVENT
DTSTAMP:20260426T035755Z
DTSTART:20260514T174500
DTEND:20260514T194500
SUMMARY:#168336 St. Peter Saints @ Prior Lake 13AA Gold
LOCATION:Ryan\, Field #3
TZID:America/Chicago
UID:mbl_game_168336
END:VEVENT
BEGIN:VEVENT
DTSTAMP:20260426T035755Z
DTSTART:20260505T173000
DTEND:20260505T193000
SUMMARY:#168344 Prior Lake 13AA Gold @ Chaska Hawks
LOCATION:Community Park\, Field #4
TZID:America/Chicago
UID:mbl_game_168344
END:VEVENT
BEGIN:VEVENT
DTSTAMP:20260426T035755Z
DTSTART:20260512T174500
DTEND:20260512T194500
SUMMARY:#168347 Shakopee Sabers @ Prior Lake 13AA Gold
LOCATION:Ryan\, Field #3
TZID:America/Chicago
UID:mbl_game_168347
END:VEVENT
BEGIN:VEVENT
DTSTAMP:20260426T035755Z
DTSTART:20260616T194500
DTEND:20260616T214500
SUMMARY:#168358 Chaska Hawks @ Prior Lake 13AA Gold
LOCATION:Ryan\, Field #3
TZID:America/Chicago
UID:mbl_game_168358
END:VEVENT
BEGIN:VEVENT
DTSTAMP:20260426T035755Z
DTSTART:20260617T183000
DTEND:20260617T203000
SUMMARY:#168360 Prior Lake 13AA Gold @ Shakopee Sabers
LOCATION:Jackson Field\, Jackson Field
TZID:America/Chicago
UID:mbl_game_168360
END:VEVENT
BEGIN:VEVENT
DTSTAMP:20260426T035755Z
DTSTART:20260611T194500
DTEND:20260611T214500
SUMMARY:#168369 Tri-City United Titans @ Prior Lake 13AA Gold
LOCATION:Ryan\, Field #3
TZID:America/Chicago
UID:mbl_game_168369
END:VEVENT
BEGIN:VEVENT
DTSTAMP:20260426T035755Z
DTSTART:20260603T180000
DTEND:20260603T200000
SUMMARY:#168378 Prior Lake 13AA Gold @ Eden Prairie Eagles 13AA
LOCATION:Flying Cloud Fields\, Field #2
TZID:America/Chicago
UID:mbl_game_168378
END:VEVENT
BEGIN:VEVENT
DTSTAMP:20260426T035755Z
DTSTART:20260519T174500
DTEND:20260519T194500
SUMMARY:#168380 Waconia Wildcats @ Prior Lake 13AA Gold
LOCATION:Ryan\, Field #3
TZID:America/Chicago
UID:mbl_game_168380
END:VEVENT
BEGIN:VEVENT
DTSTAMP:20260426T035755Z
DTSTART:20260528T180000
DTEND:20260528T200000
SUMMARY:#168384 Prior Lake 13AA Gold @ Tri-City United Titans
LOCATION:Ron Germscheid\, Memorial Field
TZID:America/Chicago
UID:mbl_game_168384
END:VEVENT
BEGIN:VEVENT
DTSTAMP:20260426T035755Z
DTSTART:20260506T174500
DTEND:20260506T194500
SUMMARY:#168385 Prior Lake 13AA Gold @ Waconia Wildcats
LOCATION:Bayview Elementary School\, Field #1
TZID:America/Chicago
UID:mbl_game_168385
END:VEVENT
END:VCALENDAR
