BEGIN:VCALENDAR
PRODID:-//Ben Fortuna//iCal4j 1.0//EN
VERSION:2.0
CALSCALE:GREGORIAN
X-WR-TIMEZONE:America/Chicago
DESCRIPTION:MBL Games
X-WR-CALNAME:MBL Games
BEGIN:VEVENT
DTSTAMP:20260426T034606Z
DTSTART:20260614T180000
DTEND:20260614T200000
SUMMARY:#168312 Prior Lake 13AA Navy @ Eden Prairie Eagles 13AA
LOCATION:Flying Cloud Fields\, Field #2
TZID:America/Chicago
UID:mbl_game_168312
END:VEVENT
BEGIN:VEVENT
DTSTAMP:20260426T034606Z
DTSTART:20260526T174500
DTEND:20260526T194500
SUMMARY:#168314 Prior Lake 13AA Navy @ Prior Lake 13AA Gold
LOCATION:Ryan\, Field #3
TZID:America/Chicago
UID:mbl_game_168314
END:VEVENT
BEGIN:VEVENT
DTSTAMP:20260426T034606Z
DTSTART:20260625T194500
DTEND:20260625T214500
SUMMARY:#168315 Chaska Hawks @ Prior Lake 13AA Navy
LOCATION:Ryan\, Field #2
TZID:America/Chicago
UID:mbl_game_168315
END:VEVENT
BEGIN:VEVENT
DTSTAMP:20260426T034606Z
DTSTART:20260506T180000
DTEND:20260506T200000
SUMMARY:#168324 Prior Lake 13AA Navy @ New Prague 13AA
LOCATION:New Prague Middle School Field\, New Prague Middle School
TZID:America/Chicago
UID:mbl_game_168324
END:VEVENT
BEGIN:VEVENT
DTSTAMP:20260426T034606Z
DTSTART:20260518T174500
DTEND:20260518T194500
SUMMARY:#168326 Shakopee Sabers @ Prior Lake 13AA Navy
LOCATION:Ryan\, Field #2
TZID:America/Chicago
UID:mbl_game_168326
END:VEVENT
BEGIN:VEVENT
DTSTAMP:20260426T034606Z
DTSTART:20260626T174500
DTEND:20260626T194500
SUMMARY:#168337 Waconia Wildcats @ Prior Lake 13AA Navy
LOCATION:Ryan\, Field #3
TZID:America/Chicago
UID:mbl_game_168337
END:VEVENT
BEGIN:VEVENT
DTSTAMP:20260426T034606Z
DTSTART:20260609T183000
DTEND:20260609T203000
SUMMARY:#168340 Prior Lake 13AA Navy @ Tri-City United Titans
LOCATION:Lonsdale Jaycee Park\, Field #2
TZID:America/Chicago
UID:mbl_game_168340
END:VEVENT
BEGIN:VEVENT
DTSTAMP:20260426T034606Z
DTSTART:20260507T174500
DTEND:20260507T194500
SUMMARY:#168348 Chanhassen 13AA - Gold @ Prior Lake 13AA Navy
LOCATION:Ryan\, Field #3
TZID:America/Chicago
UID:mbl_game_168348
END:VEVENT
BEGIN:VEVENT
DTSTAMP:20260426T034606Z
DTSTART:20260611T173000
DTEND:20260611T193000
SUMMARY:#168354 Prior Lake 13AA Navy @ Chanhassen 13AA - Gold
LOCATION:Bandimere\, Field #3
TZID:America/Chicago
UID:mbl_game_168354
END:VEVENT
BEGIN:VEVENT
DTSTAMP:20260426T034606Z
DTSTART:20260615T174500
DTEND:20260615T194500
SUMMARY:#168359 St. Peter Saints @ Prior Lake 13AA Navy
LOCATION:Ryan\, Field #3
TZID:America/Chicago
UID:mbl_game_168359
END:VEVENT
BEGIN:VEVENT
DTSTAMP:20260426T034606Z
DTSTART:20260519T200000
DTEND:20260519T220000
SUMMARY:#168364 Prior Lake 13AA Navy @ Bloomington Bandits
LOCATION:Hrbek Fields\, Field #5
TZID:America/Chicago
UID:mbl_game_168364
END:VEVENT
BEGIN:VEVENT
DTSTAMP:20260426T034606Z
DTSTART:20260602T174500
DTEND:20260602T194500
SUMMARY:#168370 Bloomington Bandits @ Prior Lake 13AA Navy
LOCATION:Ryan\, Field #3
TZID:America/Chicago
UID:mbl_game_168370
END:VEVENT
BEGIN:VEVENT
DTSTAMP:20260426T034606Z
DTSTART:20260429T174500
DTEND:20260429T194500
SUMMARY:#168381 Eden Prairie Eagles 13AA @ Prior Lake 13AA Navy
LOCATION:Ryan\, Field #2
TZID:America/Chicago
UID:mbl_game_168381
END:VEVENT
BEGIN:VEVENT
DTSTAMP:20260426T034606Z
DTSTART:20260513T180000
DTEND:20260513T200000
SUMMARY:#168383 Prior Lake 13AA Navy @ St. Peter Saints
LOCATION:Community Spirit Park\, North Field
TZID:America/Chicago
UID:mbl_game_168383
END:VEVENT
END:VCALENDAR
