BEGIN:VCALENDAR
PRODID:-//Ben Fortuna//iCal4j 1.0//EN
VERSION:2.0
CALSCALE:GREGORIAN
X-WR-TIMEZONE:America/Chicago
DESCRIPTION:MBL Games
X-WR-CALNAME:MBL Games
BEGIN:VEVENT
DTSTAMP:20260426T040954Z
DTSTART:20260618T200000
DTEND:20260618T223000
SUMMARY:#167934 Prior Lake 13AAA @ Wayzata 13AAA Blue
LOCATION:Wayzata West Middle School\, Field 1
TZID:America/Chicago
UID:mbl_game_167934
END:VEVENT
BEGIN:VEVENT
DTSTAMP:20260426T040954Z
DTSTART:20260526T180000
DTEND:20260526T200000
SUMMARY:#167939 Prior Lake 13AAA @ Osseo Maple Grove 13AAA
LOCATION:Weaver Lake Park\, Field #3
TZID:America/Chicago
UID:mbl_game_167939
END:VEVENT
BEGIN:VEVENT
DTSTAMP:20260426T040954Z
DTSTART:20260430T194500
DTEND:20260430T214500
SUMMARY:#167945 Chanhassen 13AAA - Blue @ Prior Lake 13AAA
LOCATION:Ryan\, Field #3
TZID:America/Chicago
UID:mbl_game_167945
END:VEVENT
BEGIN:VEVENT
DTSTAMP:20260426T040954Z
DTSTART:20260512T194500
DTEND:20260512T214500
SUMMARY:#167951 Chaska Hawks @ Prior Lake 13AAA
LOCATION:Ryan\, Field #3
TZID:America/Chicago
UID:mbl_game_167951
END:VEVENT
BEGIN:VEVENT
DTSTAMP:20260426T040954Z
DTSTART:20260504T194500
DTEND:20260504T214500
SUMMARY:#167957 Edina Hornets 13AAA @ Prior Lake 13AAA
LOCATION:Ryan\, Field #3
TZID:America/Chicago
UID:mbl_game_167957
END:VEVENT
BEGIN:VEVENT
DTSTAMP:20260426T040954Z
DTSTART:20260602T193000
DTEND:20260602T213000
SUMMARY:#167959 Prior Lake 13AAA @ Chanhassen 13AAA - Blue
LOCATION:Lake Ann\, Field #1
TZID:America/Chicago
UID:mbl_game_167959
END:VEVENT
BEGIN:VEVENT
DTSTAMP:20260426T040954Z
DTSTART:20260520T180000
DTEND:20260520T200000
SUMMARY:#167960 Prior Lake 13AAA @ Chaska Hawks
LOCATION:Community Park\, Field #4
TZID:America/Chicago
UID:mbl_game_167960
END:VEVENT
BEGIN:VEVENT
DTSTAMP:20260426T040954Z
DTSTART:20260528T194500
DTEND:20260528T214500
SUMMARY:#167961 Prior Lake 13AAA @ Edina Hornets 13AAA
LOCATION:Courtney (formerly Braemar)\, Field #3
TZID:America/Chicago
UID:mbl_game_167961
END:VEVENT
BEGIN:VEVENT
DTSTAMP:20260426T040954Z
DTSTART:20260502T150000
DTEND:20260502T170000
SUMMARY:#167962 Prior Lake 13AAA @ Minneapolis Millers 13AAA
LOCATION:Neiman\, MSA Batting Cages Field #5
TZID:America/Chicago
UID:mbl_game_167962
END:VEVENT
BEGIN:VEVENT
DTSTAMP:20260426T040954Z
DTSTART:20260616T194500
DTEND:20260616T214500
SUMMARY:#167963 Minneapolis Millers 13AAA @ Prior Lake 13AAA
LOCATION:Ryan\, Field #4
TZID:America/Chicago
UID:mbl_game_167963
END:VEVENT
BEGIN:VEVENT
DTSTAMP:20260426T040954Z
DTSTART:20260622T194500
DTEND:20260622T214500
SUMMARY:#167969 Waconia Wildcats @ Prior Lake 13AAA
LOCATION:Ryan\, Field #3
TZID:America/Chicago
UID:mbl_game_167969
END:VEVENT
BEGIN:VEVENT
DTSTAMP:20260426T040954Z
DTSTART:20260603T180000
DTEND:20260603T200000
SUMMARY:#167970 Prior Lake 13AAA @ Waconia Wildcats
LOCATION:Waconia High School\, West B
TZID:America/Chicago
UID:mbl_game_167970
END:VEVENT
BEGIN:VEVENT
DTSTAMP:20260426T040954Z
DTSTART:20260608T194500
DTEND:20260608T214500
SUMMARY:#167975 Minnetonka 13AAA - Ehlen @ Prior Lake 13AAA
LOCATION:Ryan\, Field #3
TZID:America/Chicago
UID:mbl_game_167975
END:VEVENT
BEGIN:VEVENT
DTSTAMP:20260426T040954Z
DTSTART:20260610T194500
DTEND:20260610T214500
SUMMARY:#167981 Hopkins Royals @ Prior Lake 13AAA
LOCATION:Ryan\, Field #4
TZID:America/Chicago
UID:mbl_game_167981
END:VEVENT
END:VCALENDAR
