BEGIN:VCALENDAR
PRODID:-//Ben Fortuna//iCal4j 1.0//EN
VERSION:2.0
CALSCALE:GREGORIAN
X-WR-TIMEZONE:America/Chicago
DESCRIPTION:MBL Games
X-WR-CALNAME:MBL Games
BEGIN:VEVENT
DTSTAMP:20260426T035923Z
DTSTART:20260520T200000
DTEND:20260520T220000
SUMMARY:#168996 Bloomington Bandits @ Prior Lake 14AA
LOCATION:Ryan\, Field #1
TZID:America/Chicago
UID:mbl_game_168996
END:VEVENT
BEGIN:VEVENT
DTSTAMP:20260426T035923Z
DTSTART:20260512T200000
DTEND:20260512T220000
SUMMARY:#169005 Chanhassen 14AA - White @ Prior Lake 14AA
LOCATION:Ryan\, Field #1
TZID:America/Chicago
UID:mbl_game_169005
END:VEVENT
BEGIN:VEVENT
DTSTAMP:20260426T035923Z
DTSTART:20260616T200000
DTEND:20260616T220000
SUMMARY:#169014 Eden Prairie Eagles 14AA @ Prior Lake 14AA
LOCATION:Ryan\, Field #1
TZID:America/Chicago
UID:mbl_game_169014
END:VEVENT
BEGIN:VEVENT
DTSTAMP:20260426T035923Z
DTSTART:20260602T174500
DTEND:20260602T194500
SUMMARY:#169015 Prior Lake 14AA @ Shakopee Sabers
LOCATION:Ryan\, Field #1
TZID:America/Chicago
UID:mbl_game_169015
END:VEVENT
BEGIN:VEVENT
DTSTAMP:20260426T035923Z
DTSTART:20260526T183000
DTEND:20260526T210000
SUMMARY:#169020 Prior Lake 14AA @ Chaska Hawks
LOCATION:Sunset Park\, Sunset Park
TZID:America/Chicago
UID:mbl_game_169020
END:VEVENT
BEGIN:VEVENT
DTSTAMP:20260426T035923Z
DTSTART:20260602T200000
DTEND:20260602T220000
SUMMARY:#169023 Shakopee Sabers @ Prior Lake 14AA
LOCATION:Ryan\, Field #1
TZID:America/Chicago
UID:mbl_game_169023
END:VEVENT
BEGIN:VEVENT
DTSTAMP:20260426T035923Z
DTSTART:20260625T183000
DTEND:20260625T203000
SUMMARY:#169025 Prior Lake 14AA @ Waconia Wildcats
LOCATION:Missile Park Field\, Main Baseball Field
TZID:America/Chicago
UID:mbl_game_169025
END:VEVENT
BEGIN:VEVENT
DTSTAMP:20260426T035923Z
DTSTART:20260513T201500
DTEND:20260513T221500
SUMMARY:#169031 Prior Lake 14AA @ Minneapolis Millers 14AA Orange
LOCATION:Neiman\, MSA Batting Cages Field #1
TZID:America/Chicago
UID:mbl_game_169031
END:VEVENT
BEGIN:VEVENT
DTSTAMP:20260426T035923Z
DTSTART:20260506T200000
DTEND:20260506T220000
SUMMARY:#169032 Lakeville South @ Prior Lake 14AA
LOCATION:Ryan\, Field #1
TZID:America/Chicago
UID:mbl_game_169032
END:VEVENT
BEGIN:VEVENT
DTSTAMP:20260426T035923Z
DTSTART:20260527T174500
DTEND:20260527T194500
SUMMARY:#169041 New Prague 14AA @ Prior Lake 14AA
LOCATION:Ryan\, Field #1
TZID:America/Chicago
UID:mbl_game_169041
END:VEVENT
BEGIN:VEVENT
DTSTAMP:20260426T035923Z
DTSTART:20260610T183000
DTEND:20260610T203000
SUMMARY:#169044 Prior Lake 14AA @ Westonka 14AA
LOCATION:Westonka Rec\, 14 & 15 yr Old
TZID:America/Chicago
UID:mbl_game_169044
END:VEVENT
BEGIN:VEVENT
DTSTAMP:20260426T035923Z
DTSTART:20260617T200000
DTEND:20260617T220000
SUMMARY:#169050 Tri-City United Titans @ Prior Lake 14AA
LOCATION:Ryan\, Field #1
TZID:America/Chicago
UID:mbl_game_169050
END:VEVENT
BEGIN:VEVENT
DTSTAMP:20260426T035923Z
DTSTART:20260624T180000
DTEND:20260624T200000
SUMMARY:#169085 Prior Lake 14AA @ Jordan Hubmen
LOCATION:Jordan Memorial Ball Park\, Jordan Mini-Met
TZID:America/Chicago
UID:mbl_game_169085
END:VEVENT
BEGIN:VEVENT
DTSTAMP:20260426T035923Z
DTSTART:20260429T191500
DTEND:20260429T211500
SUMMARY:#169910 Prior Lake 14AA @ Lakeville North
LOCATION:King\, Field #2
TZID:America/Chicago
UID:mbl_game_169910
END:VEVENT
END:VCALENDAR
