BEGIN:VCALENDAR
PRODID:-//Ben Fortuna//iCal4j 1.0//EN
VERSION:2.0
CALSCALE:GREGORIAN
X-WR-TIMEZONE:America/Chicago
DESCRIPTION:MBL Games
X-WR-CALNAME:MBL Games
BEGIN:VEVENT
DTSTAMP:20260426T035754Z
DTSTART:20260512T193000
DTEND:20260512T220000
SUMMARY:#167404 Prior Lake 14AAA @ Hopkins Royals
LOCATION:Big Willow\, Big Willow
TZID:America/Chicago
UID:mbl_game_167404
END:VEVENT
BEGIN:VEVENT
DTSTAMP:20260426T035754Z
DTSTART:20260608T200000
DTEND:20260608T220000
SUMMARY:#167412 St. Peter Saints @ Prior Lake 14AAA
LOCATION:Veterans Memorial Park\, Veterans Memorial Park #1
TZID:America/Chicago
UID:mbl_game_167412
END:VEVENT
BEGIN:VEVENT
DTSTAMP:20260426T035754Z
DTSTART:20260513T200000
DTEND:20260513T220000
SUMMARY:#167422 Prior Lake 14AAA @ Edina Hornets 14AAA
LOCATION:Courtney (formerly Braemar)\, Field #1
TZID:America/Chicago
UID:mbl_game_167422
END:VEVENT
BEGIN:VEVENT
DTSTAMP:20260426T035754Z
DTSTART:20260603T174500
DTEND:20260603T194500
SUMMARY:#167426 New Prague 14AAA @ Prior Lake 14AAA
LOCATION:Ryan\, Field #1
TZID:America/Chicago
UID:mbl_game_167426
END:VEVENT
BEGIN:VEVENT
DTSTAMP:20260426T035754Z
DTSTART:20260617T193000
DTEND:20260617T213000
SUMMARY:#167428 Prior Lake 14AAA @ Waconia Wildcats
LOCATION:Missile Park Field\, Main Baseball Field
TZID:America/Chicago
UID:mbl_game_167428
END:VEVENT
BEGIN:VEVENT
DTSTAMP:20260426T035754Z
DTSTART:20260608T180000
DTEND:20260608T200000
SUMMARY:#167440 Prior Lake 14AAA @ St. Peter Saints
LOCATION:Veterans Memorial Park\, Veterans Memorial Park #1
TZID:America/Chicago
UID:mbl_game_167440
END:VEVENT
BEGIN:VEVENT
DTSTAMP:20260426T035754Z
DTSTART:20260629T193000
DTEND:20260629T213000
SUMMARY:#167445 Prior Lake 14AAA @ Chanhassen 14AAA - Blue
LOCATION:Lake Susan\, Lake Susan
TZID:America/Chicago
UID:mbl_game_167445
END:VEVENT
BEGIN:VEVENT
DTSTAMP:20260426T035754Z
DTSTART:20260429T200000
DTEND:20260429T220000
SUMMARY:#167447 Hopkins Royals @ Prior Lake 14AAA
LOCATION:Ryan\, Field #1
TZID:America/Chicago
UID:mbl_game_167447
END:VEVENT
BEGIN:VEVENT
DTSTAMP:20260426T035754Z
DTSTART:20260624T200000
DTEND:20260624T220000
SUMMARY:#167448 Waconia Wildcats @ Prior Lake 14AAA
LOCATION:Ryan\, Field #1
TZID:America/Chicago
UID:mbl_game_167448
END:VEVENT
BEGIN:VEVENT
DTSTAMP:20260426T035754Z
DTSTART:20260506T183000
DTEND:20260506T203000
SUMMARY:#167450 Prior Lake 14AAA @ New Prague 14AAA
LOCATION:Union Hill\, Union Hill
TZID:America/Chicago
UID:mbl_game_167450
END:VEVENT
BEGIN:VEVENT
DTSTAMP:20260426T035754Z
DTSTART:20260625T200000
DTEND:20260625T220000
SUMMARY:#167451 Chaska Hawks @ Prior Lake 14AAA
LOCATION:Ryan\, Field #1
TZID:America/Chicago
UID:mbl_game_167451
END:VEVENT
BEGIN:VEVENT
DTSTAMP:20260426T035754Z
DTSTART:20260505T200000
DTEND:20260505T220000
SUMMARY:#167453 Chanhassen 14AAA - Blue @ Prior Lake 14AAA
LOCATION:Ryan\, Field #1
TZID:America/Chicago
UID:mbl_game_167453
END:VEVENT
BEGIN:VEVENT
DTSTAMP:20260426T035754Z
DTSTART:20260527T200000
DTEND:20260527T220000
SUMMARY:#167457 Edina Hornets 14AAA @ Prior Lake 14AAA
LOCATION:Ryan\, Field #1
TZID:America/Chicago
UID:mbl_game_167457
END:VEVENT
BEGIN:VEVENT
DTSTAMP:20260426T035754Z
DTSTART:20260501T190000
DTEND:20260501T210000
SUMMARY:#167459 Prior Lake 14AAA @ Chaska Hawks
LOCATION:Chaska Athletic Park\, Chaska Athletic Park
TZID:America/Chicago
UID:mbl_game_167459
END:VEVENT
END:VCALENDAR
