BEGIN:VCALENDAR
PRODID:-//Ben Fortuna//iCal4j 1.0//EN
VERSION:2.0
CALSCALE:GREGORIAN
X-WR-TIMEZONE:America/Chicago
DESCRIPTION:MBL Games
X-WR-CALNAME:MBL Games
BEGIN:VEVENT
DTSTAMP:20260426T035756Z
DTSTART:20260527T173000
DTEND:20260527T193000
SUMMARY:#167559 Prior Lake 14A @ Bloomington Bandits Red
LOCATION:Dred Scott Fields\, Field #1
TZID:America/Chicago
UID:mbl_game_167559
END:VEVENT
BEGIN:VEVENT
DTSTAMP:20260426T035756Z
DTSTART:20260512T200000
DTEND:20260512T220000
SUMMARY:#167564 Chanhassen 14A - Grey @ Prior Lake 14A
LOCATION:Ponds\, Field #7
TZID:America/Chicago
UID:mbl_game_167564
END:VEVENT
BEGIN:VEVENT
DTSTAMP:20260426T035756Z
DTSTART:20260617T174500
DTEND:20260617T194500
SUMMARY:#167572 Mankato Royals @ Prior Lake 14A
LOCATION:Ponds\, Field #7
TZID:America/Chicago
UID:mbl_game_167572
END:VEVENT
BEGIN:VEVENT
DTSTAMP:20260426T035756Z
DTSTART:20260624T174500
DTEND:20260624T194500
SUMMARY:#167580 Eden Prairie Eagles 14A+ @ Prior Lake 14A
LOCATION:Ponds\, Field #7
TZID:America/Chicago
UID:mbl_game_167580
END:VEVENT
BEGIN:VEVENT
DTSTAMP:20260426T035756Z
DTSTART:20260529T180000
DTEND:20260529T200000
SUMMARY:#167581 Prior Lake 14A @ Waconia Wildcats
LOCATION:Missile Park Field\, Main Baseball Field
TZID:America/Chicago
UID:mbl_game_167581
END:VEVENT
BEGIN:VEVENT
DTSTAMP:20260426T035756Z
DTSTART:20260505T180000
DTEND:20260505T200000
SUMMARY:#167587 Prior Lake 14A @ Eden Prairie Eagles 14A+
LOCATION:Miller Park\, Field #8
TZID:America/Chicago
UID:mbl_game_167587
END:VEVENT
BEGIN:VEVENT
DTSTAMP:20260426T035756Z
DTSTART:20260609T174500
DTEND:20260609T194500
SUMMARY:#167588 Waconia Wildcats @ Prior Lake 14A
LOCATION:Ryan\, Field #1
TZID:America/Chicago
UID:mbl_game_167588
END:VEVENT
BEGIN:VEVENT
DTSTAMP:20260426T035756Z
DTSTART:20260626T174500
DTEND:20260626T194500
SUMMARY:#167596 Chaska Hawks @ Prior Lake 14A
LOCATION:Ponds\, Field #7
TZID:America/Chicago
UID:mbl_game_167596
END:VEVENT
BEGIN:VEVENT
DTSTAMP:20260426T035756Z
DTSTART:20260603T173000
DTEND:20260603T193000
SUMMARY:#167601 Prior Lake 14A @ Chanhassen 14A - Silver
LOCATION:Lake Susan\, Lake Susan
TZID:America/Chicago
UID:mbl_game_167601
END:VEVENT
BEGIN:VEVENT
DTSTAMP:20260426T035756Z
DTSTART:20260513T200000
DTEND:20260513T220000
SUMMARY:#167604 Chanhassen 14A - Silver @ Prior Lake 14A
LOCATION:Ponds\, Field #7
TZID:America/Chicago
UID:mbl_game_167604
END:VEVENT
BEGIN:VEVENT
DTSTAMP:20260426T035756Z
DTSTART:20260502T100000
DTEND:20260502T120000
SUMMARY:#167606 Prior Lake 14A @ Bloomington Bandits Blue
LOCATION:Ponds\, Field #7
TZID:America/Chicago
UID:mbl_game_167606
END:VEVENT
BEGIN:VEVENT
DTSTAMP:20260426T035756Z
DTSTART:20260519T190000
DTEND:20260519T213000
SUMMARY:#167610 Prior Lake 14A @ Chaska Hawks
LOCATION:Sunset Park\, Sunset Park
TZID:America/Chicago
UID:mbl_game_167610
END:VEVENT
BEGIN:VEVENT
DTSTAMP:20260426T035756Z
DTSTART:20260502T120000
DTEND:20260502T140000
SUMMARY:#167612 Bloomington Bandits Blue @ Prior Lake 14A
LOCATION:Ponds\, Field #7
TZID:America/Chicago
UID:mbl_game_167612
END:VEVENT
BEGIN:VEVENT
DTSTAMP:20260426T035756Z
DTSTART:20260506T183000
DTEND:20260506T203000
SUMMARY:#167733 Prior Lake 14A @ Mankato Royals
LOCATION:Eagle Lake Field\, Eagle Lake Field
TZID:America/Chicago
UID:mbl_game_167733
END:VEVENT
END:VCALENDAR
