BEGIN:VCALENDAR
PRODID:-//Ben Fortuna//iCal4j 1.0//EN
VERSION:2.0
CALSCALE:GREGORIAN
X-WR-TIMEZONE:America/Chicago
DESCRIPTION:MBL Games
X-WR-CALNAME:MBL Games
BEGIN:VEVENT
DTSTAMP:20260419T122503Z
DTSTART:20260622T180000
DTEND:20260622T200000
SUMMARY:#165936 Lakeville South @ Rosemount Irish 11A Blue
LOCATION:Erickson Park\, Field #5
TZID:America/Chicago
UID:mbl_game_165936
END:VEVENT
BEGIN:VEVENT
DTSTAMP:20260419T122503Z
DTSTART:20260427T180000
DTEND:20260427T200000
SUMMARY:#165946 Minneapolis Millers 11A Orange @ Rosemount Irish 11A Blue
 
LOCATION:Erickson Park\, Field #5
TZID:America/Chicago
UID:mbl_game_165946
END:VEVENT
BEGIN:VEVENT
DTSTAMP:20260419T122503Z
DTSTART:20260609T181500
DTEND:20260609T201500
SUMMARY:#165948 Rosemount Irish 11A Blue @ Burnsville Blaze
LOCATION:Neill Park\, Field #3
TZID:America/Chicago
UID:mbl_game_165948
END:VEVENT
BEGIN:VEVENT
DTSTAMP:20260419T122503Z
DTSTART:20260616T174500
DTEND:20260616T194500
SUMMARY:#165952 Rosemount Irish 11A Blue @ Lakeville North
LOCATION:King\, Field #9
TZID:America/Chicago
UID:mbl_game_165952
END:VEVENT
BEGIN:VEVENT
DTSTAMP:20260419T122503Z
DTSTART:20260512T174500
DTEND:20260512T194500
SUMMARY:#165955 Rosemount Irish 11A Blue @ Prior Lake 11A Navy
LOCATION:Ponds\, Field #5
TZID:America/Chicago
UID:mbl_game_165955
END:VEVENT
BEGIN:VEVENT
DTSTAMP:20260419T122503Z
DTSTART:20260618T193000
DTEND:20260618T213000
SUMMARY:#165956 Apple Valley Eagles @ Rosemount Irish 11A Blue
LOCATION:Erickson Park\, Field #2
TZID:America/Chicago
UID:mbl_game_165956
END:VEVENT
BEGIN:VEVENT
DTSTAMP:20260419T122503Z
DTSTART:20260527T180000
DTEND:20260527T200000
SUMMARY:#165960 Rosemount Irish 11A Blue @ Eastview Lightning
LOCATION:Quarry Point\, Field # 3
TZID:America/Chicago
UID:mbl_game_165960
END:VEVENT
BEGIN:VEVENT
DTSTAMP:20260419T122503Z
DTSTART:20260603T180000
DTEND:20260603T200000
SUMMARY:#165966 New Richmond Tigers @ Rosemount Irish 11A Blue
LOCATION:UMore\, Field #1
TZID:America/Chicago
UID:mbl_game_165966
END:VEVENT
BEGIN:VEVENT
DTSTAMP:20260419T122503Z
DTSTART:20260624T180000
DTEND:20260624T200000
SUMMARY:#165976 Farmington Tigers @ Rosemount Irish 11A Blue
LOCATION:Erickson Park\, Field #5
TZID:America/Chicago
UID:mbl_game_165976
END:VEVENT
BEGIN:VEVENT
DTSTAMP:20260419T122503Z
DTSTART:20260519T180000
DTEND:20260519T200000
SUMMARY:#165981 Rosemount Irish 11A Blue @ Farmington Tigers
LOCATION:Dodge Middle School\, Field #3
TZID:America/Chicago
UID:mbl_game_165981
END:VEVENT
BEGIN:VEVENT
DTSTAMP:20260419T122503Z
DTSTART:20260520T190000
DTEND:20260520T210000
SUMMARY:#165986 Two Rivers Warriors 11A @ Rosemount Irish 11A Blue
LOCATION:UMore\, Field #1
TZID:America/Chicago
UID:mbl_game_165986
END:VEVENT
BEGIN:VEVENT
DTSTAMP:20260419T122503Z
DTSTART:20260608T180000
DTEND:20260608T200000
SUMMARY:#165989 Rosemount Irish 11A Blue @ Eagan Wildcats Green
LOCATION:Lexington/Diffley\, Field #4
TZID:America/Chicago
UID:mbl_game_165989
END:VEVENT
BEGIN:VEVENT
DTSTAMP:20260419T122503Z
DTSTART:20260501T190000
DTEND:20260501T210000
SUMMARY:#165996 Eagan Wildcats Green @ Rosemount Irish 11A Blue
LOCATION:Erickson Park\, Field #1
TZID:America/Chicago
UID:mbl_game_165996
END:VEVENT
BEGIN:VEVENT
DTSTAMP:20260419T122503Z
DTSTART:20260603T200000
DTEND:20260603T220000
SUMMARY:#166064 Rosemount Irish 11A Blue @ New Richmond Tigers
LOCATION:UMore\, Field #1
TZID:America/Chicago
UID:mbl_game_166064
END:VEVENT
END:VCALENDAR
