BEGIN:VCALENDAR
PRODID:-//Ben Fortuna//iCal4j 1.0//EN
VERSION:2.0
CALSCALE:GREGORIAN
X-WR-TIMEZONE:America/Chicago
DESCRIPTION:MBL Games
X-WR-CALNAME:MBL Games
BEGIN:VEVENT
DTSTAMP:20260426T035923Z
DTSTART:20260623T180000
DTEND:20260623T200000
SUMMARY:#165098 Belle Plaine Tigers @ Chaska Hawks - Gold
LOCATION:Community Park\, Field #3
TZID:America/Chicago
UID:mbl_game_165098
END:VEVENT
BEGIN:VEVENT
DTSTAMP:20260426T035923Z
DTSTART:20260424T180000
DTEND:20260424T200000
SUMMARY:#165105 Bloomington Bandits 9AA - Blue @ Chaska Hawks - Gold
LOCATION:Community Park\, Field #3
TZID:America/Chicago
UID:mbl_game_165105
END:VEVENT
BEGIN:VEVENT
DTSTAMP:20260426T035923Z
DTSTART:20260421T180000
DTEND:20260421T200000
SUMMARY:#165109 Chaska Hawks - Gold @ Belle Plaine Tigers
LOCATION:Fountain Park\, Fountain Park
TZID:America/Chicago
UID:mbl_game_165109
END:VEVENT
BEGIN:VEVENT
DTSTAMP:20260426T035923Z
DTSTART:20260520T180000
DTEND:20260520T200000
SUMMARY:#165110 Chaska Hawks - Gold @ Bloomington Bandits 9AA - Blue
LOCATION:Hrbek Fields\, Field #7
TZID:America/Chicago
UID:mbl_game_165110
END:VEVENT
BEGIN:VEVENT
DTSTAMP:20260426T035923Z
DTSTART:20260629T173000
DTEND:20260629T193000
SUMMARY:#165111 Chaska Hawks - Gold @ Chanhassen 9AA - Silver
LOCATION:Chanhassen Rec Center\, Field # 6
TZID:America/Chicago
UID:mbl_game_165111
END:VEVENT
BEGIN:VEVENT
DTSTAMP:20260426T035923Z
DTSTART:20260428T173000
DTEND:20260428T193000
SUMMARY:#165112 Chanhassen 9AA - Silver @ Chaska Hawks - Gold
LOCATION:Community Park\, Field #3
TZID:America/Chicago
UID:mbl_game_165112
END:VEVENT
BEGIN:VEVENT
DTSTAMP:20260426T035923Z
DTSTART:20260514T200000
DTEND:20260514T220000
SUMMARY:#165119 Eden Prairie Eagles 9AA @ Chaska Hawks - Gold
LOCATION:Lions Park\, Field #3
TZID:America/Chicago
UID:mbl_game_165119
END:VEVENT
BEGIN:VEVENT
DTSTAMP:20260426T035923Z
DTSTART:20260518T180000
DTEND:20260518T200000
SUMMARY:#165120 Chaska Hawks - Gold @ Eden Prairie Eagles 9AA
LOCATION:Round Lake Park\, Field #3
TZID:America/Chicago
UID:mbl_game_165120
END:VEVENT
BEGIN:VEVENT
DTSTAMP:20260426T035923Z
DTSTART:20260602T180000
DTEND:20260602T200000
SUMMARY:#165121 Chaska Hawks - Gold @ New Prague 9AA Red
LOCATION:Settlers Park\, Field #1
TZID:America/Chicago
UID:mbl_game_165121
END:VEVENT
BEGIN:VEVENT
DTSTAMP:20260426T035923Z
DTSTART:20260601T174500
DTEND:20260601T194500
SUMMARY:#165122 Chaska Hawks - Gold @ Prior Lake 9AA Navy
LOCATION:Ponds\, Field #6
TZID:America/Chicago
UID:mbl_game_165122
END:VEVENT
BEGIN:VEVENT
DTSTAMP:20260426T035923Z
DTSTART:20260505T180000
DTEND:20260505T200000
SUMMARY:#165126 New Prague 9AA Red @ Chaska Hawks - Gold
LOCATION:Community Park\, Field #3
TZID:America/Chicago
UID:mbl_game_165126
END:VEVENT
BEGIN:VEVENT
DTSTAMP:20260426T035923Z
DTSTART:20260618T180000
DTEND:20260618T200000
SUMMARY:#165133 Prior Lake 9AA Navy @ Chaska Hawks - Gold
LOCATION:Community Park\, Field #2
TZID:America/Chicago
UID:mbl_game_165133
END:VEVENT
BEGIN:VEVENT
DTSTAMP:20260426T035923Z
DTSTART:20260625T180000
DTEND:20260625T200000
SUMMARY:#165140 Jordan Hubmen @ Chaska Hawks - Gold
LOCATION:Community Park\, Field #3
TZID:America/Chicago
UID:mbl_game_165140
END:VEVENT
BEGIN:VEVENT
DTSTAMP:20260426T035923Z
DTSTART:20260526T180000
DTEND:20260526T203000
SUMMARY:#165189 Chaska Hawks - Gold @ Chaska Hawks - Purple
LOCATION:Community Park\, Field #2
TZID:America/Chicago
UID:mbl_game_165189
END:VEVENT
END:VCALENDAR
