BEGIN:VCALENDAR
PRODID:-//Ben Fortuna//iCal4j 1.0//EN
VERSION:2.0
CALSCALE:GREGORIAN
X-WR-TIMEZONE:America/Chicago
DESCRIPTION:MBL Games
X-WR-CALNAME:MBL Games
BEGIN:VEVENT
DTSTAMP:20260426T035922Z
DTSTART:20260605T180000
DTEND:20260605T203000
SUMMARY:#165139 Chanhassen 9AA - Silver @ Chaska Hawks - Purple
LOCATION:Community Park\, Field #1
TZID:America/Chicago
UID:mbl_game_165139
END:VEVENT
BEGIN:VEVENT
DTSTAMP:20260426T035922Z
DTSTART:20260602T180000
DTEND:20260602T203000
SUMMARY:#165147 Bloomington Bandits 9AA - Red @ Chaska Hawks - Purple
LOCATION:Community Park\, Field #3
TZID:America/Chicago
UID:mbl_game_165147
END:VEVENT
BEGIN:VEVENT
DTSTAMP:20260426T035922Z
DTSTART:20260513T173000
DTEND:20260513T193000
SUMMARY:#165154 Chaska Hawks - Purple @ Chanhassen 9AA - Blue
LOCATION:Chanhassen Rec Center\, Field # 1
TZID:America/Chicago
UID:mbl_game_165154
END:VEVENT
BEGIN:VEVENT
DTSTAMP:20260426T035922Z
DTSTART:20260522T180000
DTEND:20260522T203000
SUMMARY:#165158 Chaska Hawks - Purple @ Bloomington Bandits 9AA - Red
LOCATION:Hrbek Fields\, Field #7
TZID:America/Chicago
UID:mbl_game_165158
END:VEVENT
BEGIN:VEVENT
DTSTAMP:20260426T035922Z
DTSTART:20260428T173000
DTEND:20260428T200000
SUMMARY:#165159 Chanhassen 9AA - Blue @ Chaska Hawks - Purple
LOCATION:Community Park\, Field #2
TZID:America/Chicago
UID:mbl_game_165159
END:VEVENT
BEGIN:VEVENT
DTSTAMP:20260426T035922Z
DTSTART:20260604T173000
DTEND:20260604T193000
SUMMARY:#165160 Chaska Hawks - Purple @ Chanhassen 9AA - White
LOCATION:Chanhassen Rec Center\, Field # 3
TZID:America/Chicago
UID:mbl_game_165160
END:VEVENT
BEGIN:VEVENT
DTSTAMP:20260426T035922Z
DTSTART:20260501T173000
DTEND:20260501T200000
SUMMARY:#165161 Chanhassen 9AA - White @ Chaska Hawks - Purple
LOCATION:Community Park\, Field #1
TZID:America/Chicago
UID:mbl_game_165161
END:VEVENT
BEGIN:VEVENT
DTSTAMP:20260426T035922Z
DTSTART:20260507T173000
DTEND:20260507T200000
SUMMARY:#165168 Jordan Hubmen @ Chaska Hawks - Purple
LOCATION:Community Park\, Field #1
TZID:America/Chicago
UID:mbl_game_165168
END:VEVENT
BEGIN:VEVENT
DTSTAMP:20260426T035922Z
DTSTART:20260429T180000
DTEND:20260429T200000
SUMMARY:#165169 Chaska Hawks - Purple @ Jordan Hubmen
LOCATION:Jordan High School\, Field #4
TZID:America/Chicago
UID:mbl_game_165169
END:VEVENT
BEGIN:VEVENT
DTSTAMP:20260426T035922Z
DTSTART:20260616T174500
DTEND:20260616T194500
SUMMARY:#165170 Chaska Hawks - Purple @ New Prague 9AA Black
LOCATION:Settlers Park\, Field #1
TZID:America/Chicago
UID:mbl_game_165170
END:VEVENT
BEGIN:VEVENT
DTSTAMP:20260426T035922Z
DTSTART:20260610T174500
DTEND:20260610T194500
SUMMARY:#165171 Chaska Hawks - Purple @ Prior Lake 9AA Gold
LOCATION:Ponds\, Field #2
TZID:America/Chicago
UID:mbl_game_165171
END:VEVENT
BEGIN:VEVENT
DTSTAMP:20260426T035922Z
DTSTART:20260623T180000
DTEND:20260623T203000
SUMMARY:#165175 New Prague 9AA Black @ Chaska Hawks - Purple
LOCATION:Community Park\, Field #1
TZID:America/Chicago
UID:mbl_game_165175
END:VEVENT
BEGIN:VEVENT
DTSTAMP:20260426T035922Z
DTSTART:20260519T180000
DTEND:20260519T203000
SUMMARY:#165182 Prior Lake 9AA Gold @ Chaska Hawks - Purple
LOCATION:Community Park\, Field #5
TZID:America/Chicago
UID:mbl_game_165182
END:VEVENT
BEGIN:VEVENT
DTSTAMP:20260426T035922Z
DTSTART:20260526T180000
DTEND:20260526T203000
SUMMARY:#165189 Chaska Hawks - Gold @ Chaska Hawks - Purple
LOCATION:Community Park\, Field #2
TZID:America/Chicago
UID:mbl_game_165189
END:VEVENT
END:VCALENDAR
