BEGIN:VCALENDAR
PRODID:-//Ben Fortuna//iCal4j 1.0//EN
VERSION:2.0
CALSCALE:GREGORIAN
X-WR-TIMEZONE:America/Chicago
DESCRIPTION:MBL Games
X-WR-CALNAME:MBL Games
BEGIN:VEVENT
DTSTAMP:20260426T035923Z
DTSTART:20260623T180000
DTEND:20260623T200000
SUMMARY:#170613 Chaska Hawks @ Westonka 10A Gray
LOCATION:Wolner Field\, Field #2
TZID:America/Chicago
UID:mbl_game_170613
END:VEVENT
BEGIN:VEVENT
DTSTAMP:20260426T035923Z
DTSTART:20260601T180000
DTEND:20260601T200000
SUMMARY:#170639 Tri-City United Titans Black @ Chaska Hawks
LOCATION:Augusta\, Augusta
TZID:America/Chicago
UID:mbl_game_170639
END:VEVENT
BEGIN:VEVENT
DTSTAMP:20260426T035923Z
DTSTART:20260505T180000
DTEND:20260505T200000
SUMMARY:#170643 Chaska Hawks @ Waconia Wildcats (Gold)
LOCATION:St Bonifacius Townsedge Field\, Townsedge Field
TZID:America/Chicago
UID:mbl_game_170643
END:VEVENT
BEGIN:VEVENT
DTSTAMP:20260426T035923Z
DTSTART:20260513T180000
DTEND:20260513T200000
SUMMARY:#170646 Chaska Hawks @ New Prague 10A
LOCATION:New Prague - Northside Park\, Northside Park
TZID:America/Chicago
UID:mbl_game_170646
END:VEVENT
BEGIN:VEVENT
DTSTAMP:20260426T035923Z
DTSTART:20260528T180000
DTEND:20260528T200000
SUMMARY:#170651 Orono Spartans Red @ Chaska Hawks
LOCATION:Augusta\, Augusta
TZID:America/Chicago
UID:mbl_game_170651
END:VEVENT
BEGIN:VEVENT
DTSTAMP:20260426T035923Z
DTSTART:20260625T180000
DTEND:20260625T200000
SUMMARY:#170652 Shakopee Sabers @ Chaska Hawks
LOCATION:Community Park\, Field #2
TZID:America/Chicago
UID:mbl_game_170652
END:VEVENT
BEGIN:VEVENT
DTSTAMP:20260426T035923Z
DTSTART:20260522T180000
DTEND:20260522T200000
SUMMARY:#170657 Chaska Hawks @ Tri-City United Titans Silver
LOCATION:Northside Park\, Northside Park # 2
TZID:America/Chicago
UID:mbl_game_170657
END:VEVENT
BEGIN:VEVENT
DTSTAMP:20260426T035923Z
DTSTART:20260602T174500
DTEND:20260602T194500
SUMMARY:#170658 Chaska Hawks @ Prior Lake 10A Gold
LOCATION:Ponds\, Field #6
TZID:America/Chicago
UID:mbl_game_170658
END:VEVENT
BEGIN:VEVENT
DTSTAMP:20260426T035923Z
DTSTART:20260429T180000
DTEND:20260429T200000
SUMMARY:#170659 Prior Lake 10A Gold @ Chaska Hawks
LOCATION:Augusta\, Augusta
TZID:America/Chicago
UID:mbl_game_170659
END:VEVENT
BEGIN:VEVENT
DTSTAMP:20260426T035923Z
DTSTART:20260422T180000
DTEND:20260422T200000
SUMMARY:#170661 Tri-City United Titans Silver @ Chaska Hawks
LOCATION:Augusta\, Augusta
TZID:America/Chicago
UID:mbl_game_170661
END:VEVENT
BEGIN:VEVENT
DTSTAMP:20260426T035923Z
DTSTART:20260519T180000
DTEND:20260519T200000
SUMMARY:#170664 Chaska Hawks @ Shakopee Sabers
LOCATION:Westminster\, Field #1
TZID:America/Chicago
UID:mbl_game_170664
END:VEVENT
BEGIN:VEVENT
DTSTAMP:20260426T035923Z
DTSTART:20260521T180000
DTEND:20260521T200000
SUMMARY:#170669 Waconia Wildcats (Gold) @ Chaska Hawks
LOCATION:Augusta\, Augusta
TZID:America/Chicago
UID:mbl_game_170669
END:VEVENT
BEGIN:VEVENT
DTSTAMP:20260426T035923Z
DTSTART:20260527T180000
DTEND:20260527T200000
SUMMARY:#170673 Chaska Hawks @ Tri-City United Titans Black
LOCATION:Northside Park\, Northside Park # 1
TZID:America/Chicago
UID:mbl_game_170673
END:VEVENT
BEGIN:VEVENT
DTSTAMP:20260426T035923Z
DTSTART:20260507T180000
DTEND:20260507T200000
SUMMARY:#170675 New Prague 10A @ Chaska Hawks
LOCATION:Augusta\, Augusta
TZID:America/Chicago
UID:mbl_game_170675
END:VEVENT
END:VCALENDAR
