BEGIN:VCALENDAR
PRODID:-//Ben Fortuna//iCal4j 1.0//EN
VERSION:2.0
CALSCALE:GREGORIAN
X-WR-TIMEZONE:America/Chicago
DESCRIPTION:MBL Games
X-WR-CALNAME:MBL Games
BEGIN:VEVENT
DTSTAMP:20260426T035922Z
DTSTART:20260610T180000
DTEND:20260610T200000
SUMMARY:#166238 New Prague 10AA @ Chaska Hawks
LOCATION:Augusta\, Augusta
TZID:America/Chicago
UID:mbl_game_166238
END:VEVENT
BEGIN:VEVENT
DTSTAMP:20260426T035922Z
DTSTART:20260511T180000
DTEND:20260511T200000
SUMMARY:#166247 Tri-City United Titans @ Chaska Hawks
LOCATION:Augusta\, Augusta
TZID:America/Chicago
UID:mbl_game_166247
END:VEVENT
BEGIN:VEVENT
DTSTAMP:20260426T035922Z
DTSTART:20260430T180000
DTEND:20260430T200000
SUMMARY:#166256 Belle Plaine Tigers @ Chaska Hawks
LOCATION:Augusta\, Augusta
TZID:America/Chicago
UID:mbl_game_166256
END:VEVENT
BEGIN:VEVENT
DTSTAMP:20260426T035922Z
DTSTART:20260519T173000
DTEND:20260519T193000
SUMMARY:#166264 Chaska Hawks @ Chanhassen 10AA - Gold
LOCATION:Lake Ann\, Field #2
TZID:America/Chicago
UID:mbl_game_166264
END:VEVENT
BEGIN:VEVENT
DTSTAMP:20260426T035922Z
DTSTART:20260622T180000
DTEND:20260622T200000
SUMMARY:#166265 Waconia Waconia Wildcats @ Chaska Hawks
LOCATION:Augusta\, Augusta
TZID:America/Chicago
UID:mbl_game_166265
END:VEVENT
BEGIN:VEVENT
DTSTAMP:20260426T035922Z
DTSTART:20260629T180000
DTEND:20260629T200000
SUMMARY:#166266 Chaska Hawks @ Eden Prairie Eagles 10AA
LOCATION:Miller Park\, Field #1
TZID:America/Chicago
UID:mbl_game_166266
END:VEVENT
BEGIN:VEVENT
DTSTAMP:20260426T035922Z
DTSTART:20260428T180000
DTEND:20260428T200000
SUMMARY:#166270 Chaska Hawks @ Waconia Waconia Wildcats
LOCATION:St Bonifacius Townsedge Field\, Townsedge Field
TZID:America/Chicago
UID:mbl_game_166270
END:VEVENT
BEGIN:VEVENT
DTSTAMP:20260426T035922Z
DTSTART:20260609T180000
DTEND:20260609T200000
SUMMARY:#166271 Chaska Hawks @ Belle Plaine Tigers
LOCATION:Meadow Park\, Field #2
TZID:America/Chicago
UID:mbl_game_166271
END:VEVENT
BEGIN:VEVENT
DTSTAMP:20260426T035922Z
DTSTART:20260504T180000
DTEND:20260504T200000
SUMMARY:#166272 Chaska Hawks @ Bloomington Bandits
LOCATION:Hrbek Fields\, Field #7
TZID:America/Chicago
UID:mbl_game_166272
END:VEVENT
BEGIN:VEVENT
DTSTAMP:20260426T035922Z
DTSTART:20260506T180000
DTEND:20260506T200000
SUMMARY:#166274 Chanhassen 10AA - Gold @ Chaska Hawks
LOCATION:Augusta\, Augusta
TZID:America/Chicago
UID:mbl_game_166274
END:VEVENT
BEGIN:VEVENT
DTSTAMP:20260426T035922Z
DTSTART:20260616T194500
DTEND:20260616T214500
SUMMARY:#166277 Chaska Hawks @ Prior Lake 10AA Gold
LOCATION:Ponds\, Field #2
TZID:America/Chicago
UID:mbl_game_166277
END:VEVENT
BEGIN:VEVENT
DTSTAMP:20260426T035922Z
DTSTART:20260603T180000
DTEND:20260603T200000
SUMMARY:#166283 Eden Prairie Eagles 10AA @ Chaska Hawks
LOCATION:Augusta\, Augusta
TZID:America/Chicago
UID:mbl_game_166283
END:VEVENT
BEGIN:VEVENT
DTSTAMP:20260426T035922Z
DTSTART:20260525T180000
DTEND:20260525T200000
SUMMARY:#166292 Bloomington Bandits @ Chaska Hawks
LOCATION:Augusta\, Augusta
TZID:America/Chicago
UID:mbl_game_166292
END:VEVENT
BEGIN:VEVENT
DTSTAMP:20260426T035922Z
DTSTART:20260625T200000
DTEND:20260625T220000
SUMMARY:#166400 Chaska Hawks @ Lakeville South
LOCATION:King\, Field #6
TZID:America/Chicago
UID:mbl_game_166400
END:VEVENT
END:VCALENDAR
