BEGIN:VCALENDAR
PRODID:-//Ben Fortuna//iCal4j 1.0//EN
VERSION:2.0
CALSCALE:GREGORIAN
X-WR-TIMEZONE:America/Chicago
DESCRIPTION:MBL Games
X-WR-CALNAME:MBL Games
BEGIN:VEVENT
DTSTAMP:20260426T040640Z
DTSTART:20260603T173000
DTEND:20260603T193000
SUMMARY:#164855 Chaska Hawks @ Osseo Maple Grove 10AAA
LOCATION:Gleason Fields\, Field #4
TZID:America/Chicago
UID:mbl_game_164855
END:VEVENT
BEGIN:VEVENT
DTSTAMP:20260426T040640Z
DTSTART:20260609T193000
DTEND:20260609T213000
SUMMARY:#164857 Chaska Hawks @ Chanhassen 10AAA - Blue
LOCATION:Lake Ann\, Field #2
TZID:America/Chicago
UID:mbl_game_164857
END:VEVENT
BEGIN:VEVENT
DTSTAMP:20260426T040640Z
DTSTART:20260604T180000
DTEND:20260604T200000
SUMMARY:#164858 Chanhassen 10AAA - Blue @ Chaska Hawks
LOCATION:Augusta\, Augusta
TZID:America/Chicago
UID:mbl_game_164858
END:VEVENT
BEGIN:VEVENT
DTSTAMP:20260426T040640Z
DTSTART:20260629T180000
DTEND:20260629T200000
SUMMARY:#164865 Eden Prairie Eagles 10AAA @ Chaska Hawks
LOCATION:Augusta\, Augusta
TZID:America/Chicago
UID:mbl_game_164865
END:VEVENT
BEGIN:VEVENT
DTSTAMP:20260426T040640Z
DTSTART:20260519T180000
DTEND:20260519T200000
SUMMARY:#164866 Chaska Hawks @ Eden Prairie Eagles 10AAA
LOCATION:Miller Park\, Field #1
TZID:America/Chicago
UID:mbl_game_164866
END:VEVENT
BEGIN:VEVENT
DTSTAMP:20260426T040640Z
DTSTART:20260504T180000
DTEND:20260504T200000
SUMMARY:#164867 Chaska Hawks @ Jordan Hubmen
LOCATION:Holzer Memorial Park\, Field #2
TZID:America/Chicago
UID:mbl_game_164867
END:VEVENT
BEGIN:VEVENT
DTSTAMP:20260426T040640Z
DTSTART:20260514T180000
DTEND:20260514T200000
SUMMARY:#164868 New Prague 10AAA @ Chaska Hawks
LOCATION:Augusta\, Augusta
TZID:America/Chicago
UID:mbl_game_164868
END:VEVENT
BEGIN:VEVENT
DTSTAMP:20260426T040640Z
DTSTART:20260511T180000
DTEND:20260511T200000
SUMMARY:#164869 Chaska Hawks @ Shakopee Sabers
LOCATION:Westminster\, Field #1
TZID:America/Chicago
UID:mbl_game_164869
END:VEVENT
BEGIN:VEVENT
DTSTAMP:20260426T040640Z
DTSTART:20260512T180000
DTEND:20260512T200000
SUMMARY:#164870 Chaska Hawks @ Waconia Wildcats
LOCATION:St Bonifacius Townsedge Field\, Townsedge Field
TZID:America/Chicago
UID:mbl_game_164870
END:VEVENT
BEGIN:VEVENT
DTSTAMP:20260426T040640Z
DTSTART:20260521T180000
DTEND:20260521T200000
SUMMARY:#164872 Jordan Hubmen @ Chaska Hawks
LOCATION:Community Park\, Field #1
TZID:America/Chicago
UID:mbl_game_164872
END:VEVENT
BEGIN:VEVENT
DTSTAMP:20260426T040640Z
DTSTART:20260505T180000
DTEND:20260505T200000
SUMMARY:#164879 Chaska Hawks @ New Prague 10AAA
LOCATION:Memorial New Prague\, Memorial Park #2
TZID:America/Chicago
UID:mbl_game_164879
END:VEVENT
BEGIN:VEVENT
DTSTAMP:20260426T040640Z
DTSTART:20260625T180000
DTEND:20260625T200000
SUMMARY:#164886 Shakopee Sabers @ Chaska Hawks
LOCATION:Augusta\, Augusta
TZID:America/Chicago
UID:mbl_game_164886
END:VEVENT
BEGIN:VEVENT
DTSTAMP:20260426T040640Z
DTSTART:20260526T180000
DTEND:20260526T200000
SUMMARY:#164893 Waconia Wildcats @ Chaska Hawks
LOCATION:Community Park\, Field #5
TZID:America/Chicago
UID:mbl_game_164893
END:VEVENT
BEGIN:VEVENT
DTSTAMP:20260426T040640Z
DTSTART:20260618T180000
DTEND:20260618T200000
SUMMARY:#164900 Minnetonka 10AAA - Copouls @ Chaska Hawks
LOCATION:Augusta\, Augusta
TZID:America/Chicago
UID:mbl_game_164900
END:VEVENT
END:VCALENDAR
