BEGIN:VCALENDAR
PRODID:-//Ben Fortuna//iCal4j 1.0//EN
VERSION:2.0
CALSCALE:GREGORIAN
X-WR-TIMEZONE:America/Chicago
DESCRIPTION:MBL Games
X-WR-CALNAME:MBL Games
BEGIN:VEVENT
DTSTAMP:20260426T035923Z
DTSTART:20260528T180000
DTEND:20260528T200000
SUMMARY:#165871 Westonka 11A @ Chaska Hawks
LOCATION:Community Park\, Field #2
TZID:America/Chicago
UID:mbl_game_165871
END:VEVENT
BEGIN:VEVENT
DTSTAMP:20260426T035923Z
DTSTART:20260521T173000
DTEND:20260521T193000
SUMMARY:#165872 Chaska Hawks @ Chanhassen 11A - White
LOCATION:Victoria Lions Park\, Field #2
TZID:America/Chicago
UID:mbl_game_165872
END:VEVENT
BEGIN:VEVENT
DTSTAMP:20260426T035923Z
DTSTART:20260501T173000
DTEND:20260501T193000
SUMMARY:#165880 Chanhassen 11A - Silver @ Chaska Hawks
LOCATION:Community Park\, Field #2
TZID:America/Chicago
UID:mbl_game_165880
END:VEVENT
BEGIN:VEVENT
DTSTAMP:20260426T035923Z
DTSTART:20260527T180000
DTEND:20260527T200000
SUMMARY:#165885 Chaska Hawks @ Bloomington New Team Blue
LOCATION:Hrbek Fields\, Field #6
TZID:America/Chicago
UID:mbl_game_165885
END:VEVENT
BEGIN:VEVENT
DTSTAMP:20260426T035923Z
DTSTART:20260520T173000
DTEND:20260520T193000
SUMMARY:#165886 Chaska Hawks @ Chanhassen 11A - Silver
LOCATION:Lake Ann\, Field #2
TZID:America/Chicago
UID:mbl_game_165886
END:VEVENT
BEGIN:VEVENT
DTSTAMP:20260426T035923Z
DTSTART:20260616T180000
DTEND:20260616T200000
SUMMARY:#165887 Bloomington New Team Blue @ Chaska Hawks
LOCATION:Community Park\, Field #3
TZID:America/Chicago
UID:mbl_game_165887
END:VEVENT
BEGIN:VEVENT
DTSTAMP:20260426T035923Z
DTSTART:20260610T174500
DTEND:20260610T194500
SUMMARY:#165889 Chaska Hawks @ Prior Lake 11A White
LOCATION:Ponds\, Field #5
TZID:America/Chicago
UID:mbl_game_165889
END:VEVENT
BEGIN:VEVENT
DTSTAMP:20260426T035923Z
DTSTART:20260505T180000
DTEND:20260505T200000
SUMMARY:#165890 Chaska Hawks @ Shakopee Sabers
LOCATION:Westminster\, Field #2
TZID:America/Chicago
UID:mbl_game_165890
END:VEVENT
BEGIN:VEVENT
DTSTAMP:20260426T035923Z
DTSTART:20260513T180000
DTEND:20260513T200000
SUMMARY:#165891 Chaska Hawks @ Waconia Wildcats (Gold)
LOCATION:Brook Peterson\, Field #6
TZID:America/Chicago
UID:mbl_game_165891
END:VEVENT
BEGIN:VEVENT
DTSTAMP:20260426T035923Z
DTSTART:20260618T180000
DTEND:20260618T200000
SUMMARY:#165894 New Prague 11A @ Chaska Hawks
LOCATION:Community Park\, Field #3
TZID:America/Chicago
UID:mbl_game_165894
END:VEVENT
BEGIN:VEVENT
DTSTAMP:20260426T035923Z
DTSTART:20260514T180000
DTEND:20260514T200000
SUMMARY:#165901 Prior Lake 11A White @ Chaska Hawks
LOCATION:Community Park\, Field #3
TZID:America/Chicago
UID:mbl_game_165901
END:VEVENT
BEGIN:VEVENT
DTSTAMP:20260426T035923Z
DTSTART:20260602T180000
DTEND:20260602T200000
SUMMARY:#165908 Shakopee Sabers @ Chaska Hawks
LOCATION:Community Park\, Field #2
TZID:America/Chicago
UID:mbl_game_165908
END:VEVENT
BEGIN:VEVENT
DTSTAMP:20260426T035923Z
DTSTART:20260609T180000
DTEND:20260609T200000
SUMMARY:#165915 Waconia Wildcats (Gold) @ Chaska Hawks
LOCATION:Community Park\, Field #2
TZID:America/Chicago
UID:mbl_game_165915
END:VEVENT
BEGIN:VEVENT
DTSTAMP:20260426T035923Z
DTSTART:20260623T180000
DTEND:20260623T200000
SUMMARY:#165922 Chanhassen 11A - White @ Chaska Hawks
LOCATION:Community Park\, Field #2
TZID:America/Chicago
UID:mbl_game_165922
END:VEVENT
END:VCALENDAR
