BEGIN:VCALENDAR
PRODID:-//Ben Fortuna//iCal4j 1.0//EN
VERSION:2.0
CALSCALE:GREGORIAN
X-WR-TIMEZONE:America/Chicago
DESCRIPTION:MBL Games
X-WR-CALNAME:MBL Games
BEGIN:VEVENT
DTSTAMP:20260419T133505Z
DTSTART:20260529T190000
DTEND:20260529T210000
SUMMARY:#169091 Bloomington 13A Blue @ Chaska Hawks
LOCATION:Community Park\, Field #4
TZID:America/Chicago
UID:mbl_game_169091
END:VEVENT
BEGIN:VEVENT
DTSTAMP:20260419T133505Z
DTSTART:20260505T180000
DTEND:20260505T200000
SUMMARY:#169103 Eden Prairie Eagles 13A Black @ Chaska Hawks
LOCATION:Lions Park\, Field #2
TZID:America/Chicago
UID:mbl_game_169103
END:VEVENT
BEGIN:VEVENT
DTSTAMP:20260419T133505Z
DTSTART:20260428T173000
DTEND:20260428T193000
SUMMARY:#169113 Chaska Hawks @ Bloomington 13A Blue
LOCATION:Hrbek Fields\, Field #5
TZID:America/Chicago
UID:mbl_game_169113
END:VEVENT
BEGIN:VEVENT
DTSTAMP:20260419T133505Z
DTSTART:20260618T180000
DTEND:20260618T200000
SUMMARY:#169115 Prior Lake 13A Navy @ Chaska Hawks
LOCATION:Community Park\, Field #4
TZID:America/Chicago
UID:mbl_game_169115
END:VEVENT
BEGIN:VEVENT
DTSTAMP:20260419T133505Z
DTSTART:20260601T180000
DTEND:20260601T200000
SUMMARY:#169116 Chaska Hawks @ Eden Prairie Eagles 13A Black
LOCATION:Flying Cloud Fields\, Field #2
TZID:America/Chicago
UID:mbl_game_169116
END:VEVENT
BEGIN:VEVENT
DTSTAMP:20260419T133505Z
DTSTART:20260616T174500
DTEND:20260616T194500
SUMMARY:#169121 Chaska Hawks @ Prior Lake 13A Navy
LOCATION:Ryan\, Field #3
TZID:America/Chicago
UID:mbl_game_169121
END:VEVENT
BEGIN:VEVENT
DTSTAMP:20260419T133505Z
DTSTART:20260423T180000
DTEND:20260423T200000
SUMMARY:#169127 Waconia Wildcats @ Chaska Hawks
LOCATION:Community Park\, Field #4
TZID:America/Chicago
UID:mbl_game_169127
END:VEVENT
BEGIN:VEVENT
DTSTAMP:20260419T133505Z
DTSTART:20260622T180000
DTEND:20260622T193000
SUMMARY:#169130 Jordan Hubmen @ Chaska Hawks
LOCATION:Lions Park\, Field #2
TZID:America/Chicago
UID:mbl_game_169130
END:VEVENT
BEGIN:VEVENT
DTSTAMP:20260419T133505Z
DTSTART:20260527T180000
DTEND:20260527T200000
SUMMARY:#169136 Chaska Hawks @ Waconia Wildcats
LOCATION:Waconia High School\, West B
TZID:America/Chicago
UID:mbl_game_169136
END:VEVENT
BEGIN:VEVENT
DTSTAMP:20260419T133505Z
DTSTART:20260622T194500
DTEND:20260622T214500
SUMMARY:#169139 Jordan Hubmen @ Chaska Hawks
LOCATION:Lions Park\, Field #2
TZID:America/Chicago
UID:mbl_game_169139
END:VEVENT
BEGIN:VEVENT
DTSTAMP:20260419T133505Z
DTSTART:20260512T173000
DTEND:20260512T193000
SUMMARY:#169151 Chaska Hawks @ New Prague 13A
LOCATION:New Prague Middle School Field\, New Prague Middle School
TZID:America/Chicago
UID:mbl_game_169151
END:VEVENT
BEGIN:VEVENT
DTSTAMP:20260419T133505Z
DTSTART:20260430T190000
DTEND:20260430T210000
SUMMARY:#169163 Minneapolis Millers 13A Blue @ Chaska Hawks
LOCATION:Community Park\, Field #4
TZID:America/Chicago
UID:mbl_game_169163
END:VEVENT
BEGIN:VEVENT
DTSTAMP:20260419T133505Z
DTSTART:20260518T194500
DTEND:20260518T214500
SUMMARY:#169168 Chaska Hawks @ Prior Lake 13A Gold
LOCATION:Ryan\, Field #3
TZID:America/Chicago
UID:mbl_game_169168
END:VEVENT
BEGIN:VEVENT
DTSTAMP:20260419T133505Z
DTSTART:20260625T180000
DTEND:20260625T200000
SUMMARY:#169170 Chaska Hawks @ Shakopee Sabers
LOCATION:Jackson Field\, Jackson Field
TZID:America/Chicago
UID:mbl_game_169170
END:VEVENT
END:VCALENDAR
