BEGIN:VCALENDAR
PRODID:-//Ben Fortuna//iCal4j 1.0//EN
VERSION:2.0
CALSCALE:GREGORIAN
X-WR-TIMEZONE:America/Chicago
DESCRIPTION:MBL Games
X-WR-CALNAME:MBL Games
BEGIN:VEVENT
DTSTAMP:20260426T035044Z
DTSTART:20260512T173000
DTEND:20260512T193000
SUMMARY:#168311 Chanhassen 13AA - Gold @ Chaska Hawks
LOCATION:Community Park\, Field #4
TZID:America/Chicago
UID:mbl_game_168311
END:VEVENT
BEGIN:VEVENT
DTSTAMP:20260426T035044Z
DTSTART:20260625T194500
DTEND:20260625T214500
SUMMARY:#168315 Chaska Hawks @ Prior Lake 13AA Navy
LOCATION:Ryan\, Field #2
TZID:America/Chicago
UID:mbl_game_168315
END:VEVENT
BEGIN:VEVENT
DTSTAMP:20260426T035044Z
DTSTART:20260602T180000
DTEND:20260602T200000
SUMMARY:#168322 Eden Prairie Eagles 13AA @ Chaska Hawks
LOCATION:Lions Park\, Field #2
TZID:America/Chicago
UID:mbl_game_168322
END:VEVENT
BEGIN:VEVENT
DTSTAMP:20260426T035044Z
DTSTART:20260609T180000
DTEND:20260609T200000
SUMMARY:#168328 Chaska Hawks @ St. Peter Saints
LOCATION:Community Spirit Park\, North Field
TZID:America/Chicago
UID:mbl_game_168328
END:VEVENT
BEGIN:VEVENT
DTSTAMP:20260426T035044Z
DTSTART:20260623T183000
DTEND:20260623T203000
SUMMARY:#168329 Chaska Hawks @ Tri-City United Titans
LOCATION:Lonsdale Jaycee Park\, Field #2
TZID:America/Chicago
UID:mbl_game_168329
END:VEVENT
BEGIN:VEVENT
DTSTAMP:20260426T035044Z
DTSTART:20260527T174500
DTEND:20260527T194500
SUMMARY:#168333 Bloomington Bandits @ Chaska Hawks
LOCATION:Community Park\, Field #4
TZID:America/Chicago
UID:mbl_game_168333
END:VEVENT
BEGIN:VEVENT
DTSTAMP:20260426T035044Z
DTSTART:20260505T173000
DTEND:20260505T193000
SUMMARY:#168344 Prior Lake 13AA Gold @ Chaska Hawks
LOCATION:Community Park\, Field #4
TZID:America/Chicago
UID:mbl_game_168344
END:VEVENT
BEGIN:VEVENT
DTSTAMP:20260426T035044Z
DTSTART:20260617T180000
DTEND:20260617T200000
SUMMARY:#168346 Chaska Hawks @ New Prague 13AA
LOCATION:New Prague Middle School Field\, New Prague Middle School
TZID:America/Chicago
UID:mbl_game_168346
END:VEVENT
BEGIN:VEVENT
DTSTAMP:20260426T035044Z
DTSTART:20260624T180000
DTEND:20260624T200000
SUMMARY:#168355 New Prague 13AA @ Chaska Hawks
LOCATION:Community Park\, Field #4
TZID:America/Chicago
UID:mbl_game_168355
END:VEVENT
BEGIN:VEVENT
DTSTAMP:20260426T035044Z
DTSTART:20260616T194500
DTEND:20260616T214500
SUMMARY:#168358 Chaska Hawks @ Prior Lake 13AA Gold
LOCATION:Ryan\, Field #3
TZID:America/Chicago
UID:mbl_game_168358
END:VEVENT
BEGIN:VEVENT
DTSTAMP:20260426T035044Z
DTSTART:20260514T173000
DTEND:20260514T193000
SUMMARY:#168366 Waconia Wildcats @ Chaska Hawks
LOCATION:Community Park\, Field #4
TZID:America/Chicago
UID:mbl_game_168366
END:VEVENT
BEGIN:VEVENT
DTSTAMP:20260426T035044Z
DTSTART:20260603T183000
DTEND:20260603T203000
SUMMARY:#168371 Chaska Hawks @ Shakopee Sabers
LOCATION:Jackson Field\, Jackson Field
TZID:America/Chicago
UID:mbl_game_168371
END:VEVENT
BEGIN:VEVENT
DTSTAMP:20260426T035044Z
DTSTART:20260629T180000
DTEND:20260629T200000
SUMMARY:#168374 Chaska Hawks @ Waconia Wildcats
LOCATION:Waconia High School\, West B
TZID:America/Chicago
UID:mbl_game_168374
END:VEVENT
BEGIN:VEVENT
DTSTAMP:20260426T035044Z
DTSTART:20260526T180000
DTEND:20260526T200000
SUMMARY:#168377 Shakopee Sabers @ Chaska Hawks
LOCATION:Community Park\, Field #4
TZID:America/Chicago
UID:mbl_game_168377
END:VEVENT
END:VCALENDAR
