BEGIN:VCALENDAR
PRODID:-//Ben Fortuna//iCal4j 1.0//EN
VERSION:2.0
CALSCALE:GREGORIAN
X-WR-TIMEZONE:America/Chicago
DESCRIPTION:MBL Games
X-WR-CALNAME:MBL Games
BEGIN:VEVENT
DTSTAMP:20260426T035923Z
DTSTART:20260521T173000
DTEND:20260521T193000
SUMMARY:#167406 Chaska Hawks @ Edina Hornets 14AAA
LOCATION:Courtney (formerly Braemar)\, Field #1
TZID:America/Chicago
UID:mbl_game_167406
END:VEVENT
BEGIN:VEVENT
DTSTAMP:20260426T035923Z
DTSTART:20260611T180000
DTEND:20260611T200000
SUMMARY:#167408 Chaska Hawks @ New Prague 14AAA
LOCATION:Union Hill\, Union Hill
TZID:America/Chicago
UID:mbl_game_167408
END:VEVENT
BEGIN:VEVENT
DTSTAMP:20260426T035923Z
DTSTART:20260604T193000
DTEND:20260604T213000
SUMMARY:#167414 Chaska Hawks @ Waconia Wildcats
LOCATION:Missile Park Field\, Main Baseball Field
TZID:America/Chicago
UID:mbl_game_167414
END:VEVENT
BEGIN:VEVENT
DTSTAMP:20260426T035923Z
DTSTART:20260506T180000
DTEND:20260506T200000
SUMMARY:#167415 St. Peter Saints @ Chaska Hawks
LOCATION:Sunset Park\, Sunset Park
TZID:America/Chicago
UID:mbl_game_167415
END:VEVENT
BEGIN:VEVENT
DTSTAMP:20260426T035923Z
DTSTART:20260605T193000
DTEND:20260605T213000
SUMMARY:#167437 Chanhassen 14AAA - Blue @ Chaska Hawks
LOCATION:Chaska Athletic Park\, Chaska Athletic Park
TZID:America/Chicago
UID:mbl_game_167437
END:VEVENT
BEGIN:VEVENT
DTSTAMP:20260426T035923Z
DTSTART:20260512T193000
DTEND:20260512T213000
SUMMARY:#167441 Chaska Hawks @ Chanhassen 14AAA - Blue
LOCATION:Lake Susan\, Lake Susan
TZID:America/Chicago
UID:mbl_game_167441
END:VEVENT
BEGIN:VEVENT
DTSTAMP:20260426T035923Z
DTSTART:20260503T193000
DTEND:20260503T213000
SUMMARY:#167444 Waconia Wildcats @ Chaska Hawks
LOCATION:Chaska Athletic Park\, Chaska Athletic Park
TZID:America/Chicago
UID:mbl_game_167444
END:VEVENT
BEGIN:VEVENT
DTSTAMP:20260426T035923Z
DTSTART:20260526T173000
DTEND:20260526T193000
SUMMARY:#167446 Chaska Hawks @ Hopkins Royals
LOCATION:Big Willow\, Big Willow
TZID:America/Chicago
UID:mbl_game_167446
END:VEVENT
BEGIN:VEVENT
DTSTAMP:20260426T035923Z
DTSTART:20260625T200000
DTEND:20260625T220000
SUMMARY:#167451 Chaska Hawks @ Prior Lake 14AAA
LOCATION:Ryan\, Field #1
TZID:America/Chicago
UID:mbl_game_167451
END:VEVENT
BEGIN:VEVENT
DTSTAMP:20260426T035923Z
DTSTART:20260624T190000
DTEND:20260624T210000
SUMMARY:#167454 Edina Hornets 14AAA @ Chaska Hawks
LOCATION:Sunset Park\, Sunset Park
TZID:America/Chicago
UID:mbl_game_167454
END:VEVENT
BEGIN:VEVENT
DTSTAMP:20260426T035923Z
DTSTART:20260608T190000
DTEND:20260608T210000
SUMMARY:#167455 New Prague 14AAA @ Chaska Hawks
LOCATION:Sunset Park\, Sunset Park
TZID:America/Chicago
UID:mbl_game_167455
END:VEVENT
BEGIN:VEVENT
DTSTAMP:20260426T035923Z
DTSTART:20260609T183000
DTEND:20260609T203000
SUMMARY:#167456 Hopkins Royals @ Chaska Hawks
LOCATION:Sunset Park\, Sunset Park
TZID:America/Chicago
UID:mbl_game_167456
END:VEVENT
BEGIN:VEVENT
DTSTAMP:20260426T035923Z
DTSTART:20260429T180000
DTEND:20260429T200000
SUMMARY:#167458 Chaska Hawks @ St. Peter Saints
LOCATION:Veterans Memorial Park\, Veterans Memorial Park #1
TZID:America/Chicago
UID:mbl_game_167458
END:VEVENT
BEGIN:VEVENT
DTSTAMP:20260426T035923Z
DTSTART:20260501T190000
DTEND:20260501T210000
SUMMARY:#167459 Prior Lake 14AAA @ Chaska Hawks
LOCATION:Chaska Athletic Park\, Chaska Athletic Park
TZID:America/Chicago
UID:mbl_game_167459
END:VEVENT
END:VCALENDAR
