BEGIN:VCALENDAR
PRODID:-//Ben Fortuna//iCal4j 1.0//EN
VERSION:2.0
CALSCALE:GREGORIAN
X-WR-TIMEZONE:America/Chicago
DESCRIPTION:MBL Games
X-WR-CALNAME:MBL Games
BEGIN:VEVENT
DTSTAMP:20260420T132057Z
DTSTART:20260520T180000
DTEND:20260520T200000
SUMMARY:#167899 Hopkins Royals @ Elk River Elks
LOCATION:Oak Knoll\, Field #1
TZID:America/Chicago
UID:mbl_game_167899
END:VEVENT
BEGIN:VEVENT
DTSTAMP:20260420T132057Z
DTSTART:20260503T133000
DTEND:20260503T160000
SUMMARY:#167900 Elk River Elks @ Hopkins Royals
LOCATION:Guilliam Field\, Guilliams Field
TZID:America/Chicago
UID:mbl_game_167900
END:VEVENT
BEGIN:VEVENT
DTSTAMP:20260420T132057Z
DTSTART:20260503T170000
DTEND:20260503T190000
SUMMARY:#167901 Elk River Elks @ Minnetonka 13AAA - Ehlen
LOCATION:Bennett Park\, Field #5
TZID:America/Chicago
UID:mbl_game_167901
END:VEVENT
BEGIN:VEVENT
DTSTAMP:20260420T132057Z
DTSTART:20260615T193000
DTEND:20260615T213000
SUMMARY:#167902 Elk River Elks @ Orono Spartans
LOCATION:Holbrook\, Holbrook Field
TZID:America/Chicago
UID:mbl_game_167902
END:VEVENT
BEGIN:VEVENT
DTSTAMP:20260420T132057Z
DTSTART:20260513T200000
DTEND:20260513T220000
SUMMARY:#167903 Elk River Elks @ Osseo Maple Grove 13AAA
LOCATION:Gleason Fields\, Field #3
TZID:America/Chicago
UID:mbl_game_167903
END:VEVENT
BEGIN:VEVENT
DTSTAMP:20260420T132057Z
DTSTART:20260623T200000
DTEND:20260623T223000
SUMMARY:#167904 Elk River Elks @ Wayzata 13AAA Blue
LOCATION:Wayzata West Middle School\, Field 1
TZID:America/Chicago
UID:mbl_game_167904
END:VEVENT
BEGIN:VEVENT
DTSTAMP:20260420T132057Z
DTSTART:20260624T183000
DTEND:20260624T203000
SUMMARY:#167905 Minnetonka 13AAA - Ehlen @ Elk River Elks
LOCATION:Oak Knoll\, Field #1
TZID:America/Chicago
UID:mbl_game_167905
END:VEVENT
BEGIN:VEVENT
DTSTAMP:20260420T132057Z
DTSTART:20260506T180000
DTEND:20260506T200000
SUMMARY:#167911 Orono Spartans @ Elk River Elks
LOCATION:Oak Knoll\, Field #1
TZID:America/Chicago
UID:mbl_game_167911
END:VEVENT
BEGIN:VEVENT
DTSTAMP:20260420T132057Z
DTSTART:20260610T183000
DTEND:20260610T203000
SUMMARY:#167917 Osseo Maple Grove 13AAA @ Elk River Elks
LOCATION:Oak Knoll\, Field #1
TZID:America/Chicago
UID:mbl_game_167917
END:VEVENT
BEGIN:VEVENT
DTSTAMP:20260420T132057Z
DTSTART:20260527T180000
DTEND:20260527T200000
SUMMARY:#167923 Wayzata 13AAA Blue @ Elk River Elks
LOCATION:Oak Knoll\, Field #1
TZID:America/Chicago
UID:mbl_game_167923
END:VEVENT
BEGIN:VEVENT
DTSTAMP:20260420T132057Z
DTSTART:20260526T194500
DTEND:20260526T214500
SUMMARY:#167929 Edina Hornets 13AAA @ Elk River Elks
LOCATION:Courtney (formerly Braemar)\, Field #3
TZID:America/Chicago
UID:mbl_game_167929
END:VEVENT
BEGIN:VEVENT
DTSTAMP:20260420T132057Z
DTSTART:20260603T183000
DTEND:20260603T203000
SUMMARY:#167935 Minneapolis Millers 13AAA @ Elk River Elks
LOCATION:Oak Knoll\, Field #1
TZID:America/Chicago
UID:mbl_game_167935
END:VEVENT
BEGIN:VEVENT
DTSTAMP:20260420T132057Z
DTSTART:20260505T193000
DTEND:20260505T213000
SUMMARY:#167971 Elk River Elks @ Chanhassen 13AAA - Blue
LOCATION:Lake Ann\, Field #6
TZID:America/Chicago
UID:mbl_game_167971
END:VEVENT
BEGIN:VEVENT
DTSTAMP:20260420T132057Z
DTSTART:20260611T183000
DTEND:20260611T203000
SUMMARY:#167972 Elk River Elks @ Chaska Hawks
LOCATION:Community Park\, Field #4
TZID:America/Chicago
UID:mbl_game_167972
END:VEVENT
END:VCALENDAR
