BEGIN:VCALENDAR
PRODID:-//Ben Fortuna//iCal4j 1.0//EN
VERSION:2.0
CALSCALE:GREGORIAN
X-WR-TIMEZONE:America/Chicago
DESCRIPTION:MBL Games
X-WR-CALNAME:MBL Games
BEGIN:VEVENT
DTSTAMP:20260426T023008Z
DTSTART:20260511T173000
DTEND:20260511T193000
SUMMARY:#167823 New Prague 9A @ Edina 9A Green
LOCATION:Courtney (formerly Braemar)\, Field #4
TZID:America/Chicago
UID:mbl_game_167823
END:VEVENT
BEGIN:VEVENT
DTSTAMP:20260426T023008Z
DTSTART:20260610T174500
DTEND:20260610T194500
SUMMARY:#167832 New Prague 9A @ Wayzata 9A Blue
LOCATION:Plymouth Creek Park\, Field #2
TZID:America/Chicago
UID:mbl_game_167832
END:VEVENT
BEGIN:VEVENT
DTSTAMP:20260426T023008Z
DTSTART:20260624T180000
DTEND:20260624T200000
SUMMARY:#167835 Belle Plaine Tigers @ New Prague 9A
LOCATION:Settlers Park\, Field #1
TZID:America/Chicago
UID:mbl_game_167835
END:VEVENT
BEGIN:VEVENT
DTSTAMP:20260426T023008Z
DTSTART:20260518T180000
DTEND:20260518T200000
SUMMARY:#167838 New Prague 9A @ Belle Plaine Tigers
LOCATION:Fountain Park\, Fountain Park
TZID:America/Chicago
UID:mbl_game_167838
END:VEVENT
BEGIN:VEVENT
DTSTAMP:20260426T023008Z
DTSTART:20260507T180000
DTEND:20260507T200000
SUMMARY:#167839 New Prague 9A @ Jordan Hubmen
LOCATION:Jordan High School\, Field #4
TZID:America/Chicago
UID:mbl_game_167839
END:VEVENT
BEGIN:VEVENT
DTSTAMP:20260426T023008Z
DTSTART:20260603T180000
DTEND:20260603T200000
SUMMARY:#167840 Jordan Hubmen @ New Prague 9A
LOCATION:Settlers Park\, Field #1
TZID:America/Chicago
UID:mbl_game_167840
END:VEVENT
BEGIN:VEVENT
DTSTAMP:20260426T023008Z
DTSTART:20260520T180000
DTEND:20260520T200000
SUMMARY:#167845 Prior Lake 9A @ New Prague 9A
LOCATION:Settlers Park\, Field #1
TZID:America/Chicago
UID:mbl_game_167845
END:VEVENT
BEGIN:VEVENT
DTSTAMP:20260426T023008Z
DTSTART:20260618T174500
DTEND:20260618T194500
SUMMARY:#167846 New Prague 9A @ Prior Lake 9A
LOCATION:Ponds\, Field #2
TZID:America/Chicago
UID:mbl_game_167846
END:VEVENT
BEGIN:VEVENT
DTSTAMP:20260426T023008Z
DTSTART:20260502T100000
DTEND:20260502T120000
SUMMARY:#167847 New Prague 9A @ Shakopee Sabers
LOCATION:Tahpah Park\, Field #8
TZID:America/Chicago
UID:mbl_game_167847
END:VEVENT
BEGIN:VEVENT
DTSTAMP:20260426T023008Z
DTSTART:20260502T120000
DTEND:20260502T140000
SUMMARY:#167850 Shakopee Sabers @ New Prague 9A
LOCATION:Tahpah Park\, Field #8
TZID:America/Chicago
UID:mbl_game_167850
END:VEVENT
BEGIN:VEVENT
DTSTAMP:20260426T023008Z
DTSTART:20260513T180000
DTEND:20260513T200000
SUMMARY:#167855 Minnetonka 9A Blue - Mielke @ New Prague 9A
LOCATION:Memorial New Prague\, Memorial Park #2
TZID:America/Chicago
UID:mbl_game_167855
END:VEVENT
BEGIN:VEVENT
DTSTAMP:20260426T023008Z
DTSTART:20260622T180000
DTEND:20260622T200000
SUMMARY:#167860 Lakeville North @ New Prague 9A
LOCATION:Settlers Park\, Field #1
TZID:America/Chicago
UID:mbl_game_167860
END:VEVENT
END:VCALENDAR
