BEGIN:VCALENDAR
PRODID:-//Ben Fortuna//iCal4j 1.0//EN
VERSION:2.0
CALSCALE:GREGORIAN
X-WR-TIMEZONE:America/Chicago
DESCRIPTION:MBL Games
X-WR-CALNAME:MBL Games
BEGIN:VEVENT
DTSTAMP:20260426T023008Z
DTSTART:20260519T180000
DTEND:20260519T200000
SUMMARY:#165137 New Prague 9AA Black @ Belle Plaine Tigers
LOCATION:Fountain Park\, Fountain Park
TZID:America/Chicago
UID:mbl_game_165137
END:VEVENT
BEGIN:VEVENT
DTSTAMP:20260426T023008Z
DTSTART:20260513T174500
DTEND:20260513T194500
SUMMARY:#165149 Bloomington Bandits 9AA - Red @ New Prague 9AA Black
LOCATION:Settlers Park\, Field #1
TZID:America/Chicago
UID:mbl_game_165149
END:VEVENT
BEGIN:VEVENT
DTSTAMP:20260426T023008Z
DTSTART:20260527T173000
DTEND:20260527T193000
SUMMARY:#165156 Chanhassen 9AA - Blue @ New Prague 9AA Black
LOCATION:Settlers Park\, Field #1
TZID:America/Chicago
UID:mbl_game_165156
END:VEVENT
BEGIN:VEVENT
DTSTAMP:20260426T023008Z
DTSTART:20260508T173000
DTEND:20260508T193000
SUMMARY:#165163 Chanhassen 9AA - White @ New Prague 9AA Black
LOCATION:Settlers Park\, Field #1
TZID:America/Chicago
UID:mbl_game_165163
END:VEVENT
BEGIN:VEVENT
DTSTAMP:20260426T023008Z
DTSTART:20260616T174500
DTEND:20260616T194500
SUMMARY:#165170 Chaska Hawks - Purple @ New Prague 9AA Black
LOCATION:Settlers Park\, Field #1
TZID:America/Chicago
UID:mbl_game_165170
END:VEVENT
BEGIN:VEVENT
DTSTAMP:20260426T023008Z
DTSTART:20260505T200000
DTEND:20260505T220000
SUMMARY:#165172 New Prague 9AA Black @ Bloomington Bandits 9AA - Red
LOCATION:Hrbek Fields\, Field #7
TZID:America/Chicago
UID:mbl_game_165172
END:VEVENT
BEGIN:VEVENT
DTSTAMP:20260426T023008Z
DTSTART:20260511T173000
DTEND:20260511T193000
SUMMARY:#165173 New Prague 9AA Black @ Chanhassen 9AA - Blue
LOCATION:Chanhassen Rec Center\, Field # 3
TZID:America/Chicago
UID:mbl_game_165173
END:VEVENT
BEGIN:VEVENT
DTSTAMP:20260426T023008Z
DTSTART:20260610T173000
DTEND:20260610T193000
SUMMARY:#165174 New Prague 9AA Black @ Chanhassen 9AA - White
LOCATION:Chanhassen Rec Center\, Field # 6
TZID:America/Chicago
UID:mbl_game_165174
END:VEVENT
BEGIN:VEVENT
DTSTAMP:20260426T023008Z
DTSTART:20260623T180000
DTEND:20260623T203000
SUMMARY:#165175 New Prague 9AA Black @ Chaska Hawks - Purple
LOCATION:Community Park\, Field #1
TZID:America/Chicago
UID:mbl_game_165175
END:VEVENT
BEGIN:VEVENT
DTSTAMP:20260426T023008Z
DTSTART:20260601T180000
DTEND:20260601T200000
SUMMARY:#165176 New Prague 9AA Black @ Jordan Hubmen
LOCATION:Jordan High School\, Field #4
TZID:America/Chicago
UID:mbl_game_165176
END:VEVENT
BEGIN:VEVENT
DTSTAMP:20260426T023008Z
DTSTART:20260615T174500
DTEND:20260615T194500
SUMMARY:#165177 Jordan Hubmen @ New Prague 9AA Black
LOCATION:Settlers Park\, Field #1
TZID:America/Chicago
UID:mbl_game_165177
END:VEVENT
BEGIN:VEVENT
DTSTAMP:20260426T023008Z
DTSTART:20260626T174500
DTEND:20260626T194500
SUMMARY:#165184 Prior Lake 9AA Gold @ New Prague 9AA Black
LOCATION:Settlers Park\, Field #1
TZID:America/Chicago
UID:mbl_game_165184
END:VEVENT
BEGIN:VEVENT
DTSTAMP:20260426T023008Z
DTSTART:20260526T194500
DTEND:20260526T214500
SUMMARY:#165185 New Prague 9AA Black @ Prior Lake 9AA Gold
LOCATION:Ponds\, Field #6
TZID:America/Chicago
UID:mbl_game_165185
END:VEVENT
BEGIN:VEVENT
DTSTAMP:20260426T023008Z
DTSTART:20260625T180000
DTEND:20260625T200000
SUMMARY:#165191 New Prague 9AA Red @ New Prague 9AA Black
LOCATION:Settlers Park\, Field #1
TZID:America/Chicago
UID:mbl_game_165191
END:VEVENT
END:VCALENDAR
